BEGIN:VCALENDAR
VERSION:2.0
PRODID:-//Mostra d&#039;Oltremare - ECPv6.15.20//NONSGML v1.0//EN
CALSCALE:GREGORIAN
METHOD:PUBLISH
X-WR-CALNAME:Mostra d&#039;Oltremare
X-ORIGINAL-URL:https://mostradoltremare.it
X-WR-CALDESC:Eventi per Mostra d&#039;Oltremare
REFRESH-INTERVAL;VALUE=DURATION:PT1H
X-Robots-Tag:noindex
X-PUBLISHED-TTL:PT1H
BEGIN:VTIMEZONE
TZID:UTC
BEGIN:STANDARD
TZOFFSETFROM:+0000
TZOFFSETTO:+0000
TZNAME:UTC
DTSTART:20180101T000000
END:STANDARD
END:VTIMEZONE
BEGIN:VEVENT
DTSTART;TZID=UTC:20190221T080000
DTEND;TZID=UTC:20190222T143000
DTSTAMP:20260422T063534
CREATED:20241007T174333Z
LAST-MODIFIED:20241007T174354Z
UID:24428-1550736000-1550845800@mostradoltremare.it
SUMMARY:La medicina di prossimità. Tutti i percorsi portano al paziente?
DESCRIPTION:Congresso medico ADO (Assistenza Domiciliare Ospedaliera)\nOrario lavori congressuali: giovedì 21 febbraio 2019 dalle 8\,00 alle 18\,00 – venerdì 21 febbraio 2019 dalle 8\,00 alle 14\,30.\nIngresso Via Terracina – Ingresso disabili Via Marconi
URL:https://mostradoltremare.it/event/la-medicina-di-prossimita-tutti-i-percorsi-portano-al-paziente/
LOCATION:Sala Ischia del Palacongressi -Viale Kennedy 54 – Via Terracina\, Via J.F. Kennedy\, 54\, Napoli\, NA\, 80125\, Italy
CATEGORIES:Congresso
ATTACH;FMTTYPE=image/jpeg:https://mostradoltremare.it/wp-content/uploads/2024/10/24428_image_ado-21-22-febbraio.jpg
ORGANIZER;CN="CT CONGRESSI ED EVENTI di Claudia Tizzano":MAILTO:claudiatizzano@ctcongressieventi.com
END:VEVENT
END:VCALENDAR