BEGIN:VCALENDAR
VERSION:2.0
PRODID:-//Mostra d&#039;Oltremare - ECPv6.15.20//NONSGML v1.0//EN
CALSCALE:GREGORIAN
METHOD:PUBLISH
X-ORIGINAL-URL:https://mostradoltremare.it
X-WR-CALDESC:Eventi per Mostra d&#039;Oltremare
REFRESH-INTERVAL;VALUE=DURATION:PT1H
X-Robots-Tag:noindex
X-PUBLISHED-TTL:PT1H
BEGIN:VTIMEZONE
TZID:UTC
BEGIN:STANDARD
TZOFFSETFROM:+0000
TZOFFSETTO:+0000
TZNAME:UTC
DTSTART:20180101T000000
END:STANDARD
END:VTIMEZONE
BEGIN:VEVENT
DTSTART;TZID=UTC:20190322T100000
DTEND;TZID=UTC:20190324T150000
DTSTAMP:20260422T045534
CREATED:20241007T174952Z
LAST-MODIFIED:20241007T175010Z
UID:24463-1553248800-1553439600@mostradoltremare.it
SUMMARY:BMT Borsa Mediterranea del Turismo 2019 - 23^ edizione
DESCRIPTION:Area expo\, convegni\, workshop.\nAccredito visitatori su www.bmtnapoli.com/visitatori.\nIl venerdì ed il sabato la manifestazione è riservata agli operatori di settore; la domenica è aperta al pubblico.\nOrari di apertura:\nvenerdì dalle 10\,00 alle 18\,30; sabato dalle 9\,30 alle 18\,30; domenica dalle 9\,30 alle 15\,00.\nIngresso Viale Kennedy
URL:https://mostradoltremare.it/event/bmt-borsa-mediterranea-del-turismo-2019-23-edizione/
LOCATION:Padiglioni 6-5-4-3\, Viale Kennedy 54\, Napoli\, NA\, 80125\, Italia
CATEGORIES:Fiera
ATTACH;FMTTYPE=image/jpeg:https://mostradoltremare.it/wp-content/uploads/2024/10/24463_image_bmt-2019.jpg
ORGANIZER;CN="PROGECTA SRL":MAILTO:info@progecta.org
END:VEVENT
BEGIN:VEVENT
DTSTART;TZID=UTC:20190322T203000
DTEND;TZID=UTC:20190322T230000
DTSTAMP:20260422T045534
CREATED:20241007T175039Z
LAST-MODIFIED:20241007T175102Z
UID:24467-1553286600-1553295600@mostradoltremare.it
SUMMARY:Concerto di Francesco De Rosa
DESCRIPTION:dal titolo “Viaggio d’Autore”\, con la partecipazione del duo Am Bros One.\nPer informazioni sui biglietti: 3383805249 – 3495662686 – francescoderosamusic@libero.it.\nIngresso Viale Kennedy
URL:https://mostradoltremare.it/event/concerto-di-francesco-de-rosa/
LOCATION:Teatro Mediterraneo e Piazzale antistante\, Viale J.F.Kennedy 54\, Napoli\, 80125
CATEGORIES:Spettacolo
ATTACH;FMTTYPE=image/jpeg:https://mostradoltremare.it/wp-content/uploads/2024/10/24467_image_francesco-de-rosa-viaggio-dautore.jpg
END:VEVENT
END:VCALENDAR