BEGIN:VCALENDAR
VERSION:2.0
PRODID:-//Mostra d&#039;Oltremare - ECPv6.15.20//NONSGML v1.0//EN
CALSCALE:GREGORIAN
METHOD:PUBLISH
X-WR-CALNAME:Mostra d&#039;Oltremare
X-ORIGINAL-URL:https://mostradoltremare.it
X-WR-CALDESC:Eventi per Mostra d&#039;Oltremare
REFRESH-INTERVAL;VALUE=DURATION:PT1H
X-Robots-Tag:noindex
X-PUBLISHED-TTL:PT1H
BEGIN:VTIMEZONE
TZID:UTC
BEGIN:STANDARD
TZOFFSETFROM:+0000
TZOFFSETTO:+0000
TZNAME:UTC
DTSTART:20180101T000000
END:STANDARD
END:VTIMEZONE
BEGIN:VEVENT
DTSTART;TZID=UTC:20190328T093000
DTEND;TZID=UTC:20190330T180000
DTSTAMP:20260422T045538
CREATED:20241007T175139Z
LAST-MODIFIED:20241007T175159Z
UID:24473-1553765400-1553968800@mostradoltremare.it
SUMMARY:Energymed 2019 - 12^ edizione
DESCRIPTION:Mostra Convegno sulle Fonti rinnovabili e l’Efficienza Energetica nel Mediterraneo. Test Drive scooter elettrici presso il Viale delle Palme.\nL’ingresso\, riservato agli operatori del settore\, è gratuito con codice invito. I visitatori sprovvisti di codice invito potranno acquistare il biglietto di ingresso\,valido 3 giorni direttamente in Fiera al costo di € 10\,00. Si ricorda che l’ingresso non è consentito ai minori di 21 anni\, eccetto nell’ambito delle visite guidate regolarmente prenotate. Le Visite Guidate per i gruppi scolastici ad EnergyMed 2019 sono consentite solo previa prenotazione.\nPer informazioni e prenotazioni: www.energymed.it\nIngresso: Viale Kennedy\nOrari: Giovedì e Venerdì 9.30-19.00 – Sabato 9.30-18.00
URL:https://mostradoltremare.it/event/energymed-2019-12-edizione/
LOCATION:Padiglione 6\, Viale Kennedy 54 e P.le Tecchio –  Napoli\, 80125
CATEGORIES:Fiera
ATTACH;FMTTYPE=image/jpeg:https://mostradoltremare.it/wp-content/uploads/2024/10/24473_image_energymed-2019.jpg
ORGANIZER;CN="ANEA Agenzia Napoletana Energia e Ambiente":MAILTO:info@energymed_it
END:VEVENT
BEGIN:VEVENT
DTSTART;TZID=UTC:20190329T193000
DTEND;TZID=UTC:20190330T003000
DTSTAMP:20260422T045538
CREATED:20241007T175235Z
LAST-MODIFIED:20241007T175255Z
UID:24477-1553887800-1553905800@mostradoltremare.it
SUMMARY:Gabrychef - 5^ edizione
DESCRIPTION:“Scugnizzi contro tutti”. Gara di professionisti tra cucina\, canto e ballo a fini benefici.\nIl ricavato della serata viene devoluto a TIGEM\, AIRC Comitato per la Campania e Fondazione Santobono Pausilipon.
URL:https://mostradoltremare.it/event/gabrychef-5-edizione/
LOCATION:Teatro Mediterraneo e Piazzale antistante\, Viale J.F.Kennedy 54\, Napoli\, 80125
CATEGORIES:Spettacoli
END:VEVENT
END:VCALENDAR