BEGIN:VCALENDAR
VERSION:2.0
PRODID:-//Mostra d&#039;Oltremare - ECPv6.15.20//NONSGML v1.0//EN
CALSCALE:GREGORIAN
METHOD:PUBLISH
X-WR-CALNAME:Mostra d&#039;Oltremare
X-ORIGINAL-URL:https://mostradoltremare.it
X-WR-CALDESC:Eventi per Mostra d&#039;Oltremare
REFRESH-INTERVAL;VALUE=DURATION:PT1H
X-Robots-Tag:noindex
X-PUBLISHED-TTL:PT1H
BEGIN:VTIMEZONE
TZID:UTC
BEGIN:STANDARD
TZOFFSETFROM:+0000
TZOFFSETTO:+0000
TZNAME:UTC
DTSTART:20180101T000000
END:STANDARD
END:VTIMEZONE
BEGIN:VEVENT
DTSTART;TZID=UTC:20190405T203000
DTEND;TZID=UTC:20190405T233000
DTSTAMP:20260422T031916
CREATED:20241009T143725Z
LAST-MODIFIED:20241009T143755Z
UID:25456-1554496200-1554507000@mostradoltremare.it
SUMMARY:Anime
DESCRIPTION:Evento Concerto di presentazione ufficiale del nuovo singolo “Anime” cantato da Gianfranco Caliendo e Nick Luciani. Con la partecipazione della Miele Band\, di Gianni Averardi\, di Flora Contento e di Christian Brucale.\nPer informazioni : 08119363303-0817260637 – info@polarys.it.\nIngresso Viale Kennedy.\nBiglietti in prevendita presso le rivendite del circuito GO2 ed online su www.go2.it
URL:https://mostradoltremare.it/event/anime/
LOCATION:Teatro Mediterraneo e Piazzale antistante\, Viale J.F.Kennedy 54\, Napoli\, 80125
CATEGORIES:Spettacoli
ATTACH;FMTTYPE=image/jpeg:https://mostradoltremare.it/wp-content/uploads/2024/10/25456_image_anime-orizzontale.jpg
END:VEVENT
END:VCALENDAR