BEGIN:VCALENDAR
VERSION:2.0
PRODID:-//Mostra d&#039;Oltremare - ECPv6.15.20//NONSGML v1.0//EN
CALSCALE:GREGORIAN
METHOD:PUBLISH
X-ORIGINAL-URL:https://mostradoltremare.it
X-WR-CALDESC:Eventi per Mostra d&#039;Oltremare
REFRESH-INTERVAL;VALUE=DURATION:PT1H
X-Robots-Tag:noindex
X-PUBLISHED-TTL:PT1H
BEGIN:VTIMEZONE
TZID:UTC
BEGIN:STANDARD
TZOFFSETFROM:+0000
TZOFFSETTO:+0000
TZNAME:UTC
DTSTART:20180101T000000
END:STANDARD
END:VTIMEZONE
BEGIN:VEVENT
DTSTART;TZID=UTC:20190425T100000
DTEND;TZID=UTC:20190428T190000
DTSTAMP:20260422T031914
CREATED:20241009T144219Z
LAST-MODIFIED:20241009T144236Z
UID:25476-1556186400-1556478000@mostradoltremare.it
SUMMARY:Comicon 2019 - 21^ edizione
DESCRIPTION:Salone Internazionale del Fumetto.\nArea expo fumetti\, mostre\, premiazioni\, giochi\, videogiochi\, musica dal vivo.\nDal 10 al 24 gennaio 2019 sono disponibili -in prelazione per i possessori della Comicon Card 2018- gli abbonamenti ai 4 giorni al prezzo invariato di Euro 24\,00. Dal 25 gennaio è attiva\, nelle prevendite del circuito Go2\, la vendita ordinaria sia degli abbonamenti per i 4 giorni (prezzo Euro 25\,00 + diritti) che dei biglietti giornalieri (intero: Euro 12\,00 + diritti; ridotto per under 12 ed over 65: Euro 8\,00) . Ingresso gratuito ai bambini sotto i 6 anni e per i portatori di handicap che necessitano di accompagnatore. Le prenotazioni per i gruppi vanno fatte attraverso la casella mail gruppi@comicon.it  dal 6 marzo al 5 aprile 2019.\nRegolamento e Condizioni di acquisto consultabili sui siti www.go2.it e su www.comicon.it  – Biglietti nominativi\, verifica visitatori con documento munito di foto.\nIngressi Piazzale Tecchio e Via Terracina = accreditati\, biglietti giornalieri ed abbonamenti\nIngresso Parco Robinson = abbonamenti\nIngresso Viale Kennedy = accreditati
URL:https://mostradoltremare.it/event/comicon-2019-21-edizione/
LOCATION:Padiglioni 1\,2\,3\,3B\,4\,5\,6\,10\, Teatro Mediterraneo\, Sala Italia\, aree esterne
CATEGORIES:Fiera
ATTACH;FMTTYPE=image/jpeg:https://mostradoltremare.it/wp-content/uploads/2024/10/25476_image_comicon-2019.jpg
ORGANIZER;CN="VISIONA SCARL":MAILTO:info@comicon.it
END:VEVENT
END:VCALENDAR