BEGIN:VCALENDAR
VERSION:2.0
PRODID:-//Mostra d&#039;Oltremare - ECPv6.15.20//NONSGML v1.0//EN
CALSCALE:GREGORIAN
METHOD:PUBLISH
X-ORIGINAL-URL:https://mostradoltremare.it
X-WR-CALDESC:Eventi per Mostra d&#039;Oltremare
REFRESH-INTERVAL;VALUE=DURATION:PT1H
X-Robots-Tag:noindex
X-PUBLISHED-TTL:PT1H
BEGIN:VTIMEZONE
TZID:UTC
BEGIN:STANDARD
TZOFFSETFROM:+0000
TZOFFSETTO:+0000
TZNAME:UTC
DTSTART:20180101T000000
END:STANDARD
END:VTIMEZONE
BEGIN:VEVENT
DTSTART;VALUE=DATE:20190512
DTEND;VALUE=DATE:20190513
DTSTAMP:20260422T014648
CREATED:20241009T144409Z
LAST-MODIFIED:20241009T144428Z
UID:25487-1557619200-1557705599@mostradoltremare.it
SUMMARY:La Vulcanica: ciclopedalata vintage - 4^ edizione
DESCRIPTION:Ciclostorica napoletana percorsa in parte su cazzimbocchi\, con bici ed abbigliamento vintage\, gemellata quest’anno con La Maleventum. Il percorso\, di km 50\, toccherà i più caratteristici e spettacolari luoghi di Napoli.\nPartenza ore 7\,00 ingresso Viale Marconi.\nInfo: 3382127542 – allestimenti@napolibikefestival.it
URL:https://mostradoltremare.it/event/la-vulcanica-ciclopedalata-vintage-4-edizione/
LOCATION:Aree esterne
CATEGORIES:Parco
ATTACH;FMTTYPE=image/jpeg:https://mostradoltremare.it/wp-content/uploads/2024/10/25487_image_vulcanica-ciclostorica.jpg
ORGANIZER;CN="ASD NAPOLI PEDALA":MAILTO:info@napolibikefestival_it
END:VEVENT
BEGIN:VEVENT
DTSTART;TZID=UTC:20190512T090000
DTEND;TZID=UTC:20190512T200000
DTSTAMP:20260422T014648
CREATED:20241009T144501Z
LAST-MODIFIED:20241009T144519Z
UID:25491-1557651600-1557691200@mostradoltremare.it
SUMMARY:Hobby Toys 2019 - 7^ edizione
DESCRIPTION:Borsa-Scambio del Giocattolo da collezione e Modellismo. Infoline: 3397331739\nIngresso Piazzale Tecchio
URL:https://mostradoltremare.it/event/hobby-toys-2019-7-edizione/
LOCATION:Sala A del Padiglione 1 e sottoporticato del Pad.1\, Piazzale Tecchio\, Via Marconi\, Napoli
CATEGORIES:Fiera
ATTACH;FMTTYPE=image/jpeg:https://mostradoltremare.it/wp-content/uploads/2024/10/25491_image_hobby-toys-2019-orizzontale.jpg
ORGANIZER;CN="Bidonville 2.0 sas di Consiglia Auletta":MAILTO:bidon@bidonville.org
END:VEVENT
BEGIN:VEVENT
DTSTART;TZID=UTC:20190512T180000
DTEND;TZID=UTC:20190512T223000
DTSTAMP:20260422T014648
CREATED:20241009T144549Z
LAST-MODIFIED:20241009T144617Z
UID:25495-1557684000-1557700200@mostradoltremare.it
SUMMARY:Saggio del Centro Tersicoreo Campano
DESCRIPTION:Ingresso ad inviti.
URL:https://mostradoltremare.it/event/saggio-del-centro-tersicoreo-campano/
LOCATION:Teatro Mediterraneo e Piazzale antistante\, Viale J.F.Kennedy 54\, Napoli\, 80125
CATEGORIES:Spettacoli
END:VEVENT
END:VCALENDAR