BEGIN:VCALENDAR
VERSION:2.0
PRODID:-//Mostra d&#039;Oltremare - ECPv6.15.20//NONSGML v1.0//EN
CALSCALE:GREGORIAN
METHOD:PUBLISH
X-WR-CALNAME:Mostra d&#039;Oltremare
X-ORIGINAL-URL:https://mostradoltremare.it
X-WR-CALDESC:Eventi per Mostra d&#039;Oltremare
REFRESH-INTERVAL;VALUE=DURATION:PT1H
X-Robots-Tag:noindex
X-PUBLISHED-TTL:PT1H
BEGIN:VTIMEZONE
TZID:UTC
BEGIN:STANDARD
TZOFFSETFROM:+0000
TZOFFSETTO:+0000
TZNAME:UTC
DTSTART:20180101T000000
END:STANDARD
END:VTIMEZONE
BEGIN:VEVENT
DTSTART;TZID=UTC:20190611T210000
DTEND;TZID=UTC:20190613T230000
DTSTAMP:20260422T001100
CREATED:20241009T151217Z
LAST-MODIFIED:20241009T151239Z
UID:25603-1560286800-1560466800@mostradoltremare.it
SUMMARY:Spettacoli di danza Balletto di Napoli
DESCRIPTION:Ingresso Viale Kennedy\nPer ulteriori informazioni\, prenotazioni e biglietti è possibile rivolgersi alla segreteria:\nT. 081 5564029 | info@marafusco.it | WhatsApp 345 8468258
URL:https://mostradoltremare.it/event/spettacoli-di-danza-balletto-di-napoli-2/
LOCATION:Teatro Mediterraneo e Piazzale antistante\, Viale J.F.Kennedy 54\, Napoli\, 80125
CATEGORIES:Spettacoli
ATTACH;FMTTYPE=image/jpeg:https://mostradoltremare.it/wp-content/uploads/2024/10/25603_image_saggio-mara-fusco-giugno-2019-ore-21.jpg
END:VEVENT
BEGIN:VEVENT
DTSTART;TZID=UTC:20190612T203000
DTEND;TZID=UTC:20190617T013000
DTSTAMP:20260422T001100
CREATED:20241009T151314Z
LAST-MODIFIED:20241009T151337Z
UID:25608-1560371400-1560735000@mostradoltremare.it
SUMMARY:Green Paradise
DESCRIPTION:il 12 giugno Summertime Swingin’ Pratica dalle ore 20\,30\nil 13 giugno FuoriMano con Peppe Lanzetta dalle ore 21\,30\nil 14 giugno Alessandra Tumolillo in Trio dalle ore 21\,30\nil 15 giugno Venus & Mars Paul Mc Cartney Tribute Band dalle ore 21\,30\nil 16 giugno Levit 8x Suede Presents dalle ore 20\,00\nIngresso viale Marconi
URL:https://mostradoltremare.it/event/green-paradise-4/
LOCATION:Terrazze Pizzeria Esedra\, Via Marconi 2\, Napoli\, 80125
CATEGORIES:Spettacoli
ATTACH;FMTTYPE=image/png:https://mostradoltremare.it/wp-content/uploads/2024/10/25519_image_green-paradise.png
END:VEVENT
BEGIN:VEVENT
DTSTART;TZID=UTC:20190613T090000
DTEND;TZID=UTC:20190613T190000
DTSTAMP:20260422T001100
CREATED:20241009T151415Z
LAST-MODIFIED:20241009T151433Z
UID:25611-1560416400-1560452400@mostradoltremare.it
SUMMARY:Giochi Senza Barriere 2019 - 15^ edizione
DESCRIPTION:Musica\, spettacolo\, sport\, animazione\, teatro\, laboratori\, gonfiabili\, gastronomia.\nPer adesioni ed informazioni: info@tuttiascuola.org. – Programma scaricabile su www.tuttiascuola.org\nIngresso  Via Terracina 197
URL:https://mostradoltremare.it/event/giochi-senza-barriere-2019-15-edizione/
LOCATION:Viale degli Eucalipti\, Viale delle Ortensie\, Via Terracina 197\, Napoli\, 80125
CATEGORIES:Sportivo
ATTACH;FMTTYPE=image/jpeg:https://mostradoltremare.it/wp-content/uploads/2024/10/25611_image_giochi-senza-barriere-.jpg
ORGANIZER;CN="Associazione Tutti a scuola Onlus":MAILTO:info@tuttiascuola_org
END:VEVENT
END:VCALENDAR