BEGIN:VCALENDAR
VERSION:2.0
PRODID:-//Mostra d&#039;Oltremare - ECPv6.15.20//NONSGML v1.0//EN
CALSCALE:GREGORIAN
METHOD:PUBLISH
X-ORIGINAL-URL:https://mostradoltremare.it
X-WR-CALDESC:Eventi per Mostra d&#039;Oltremare
REFRESH-INTERVAL;VALUE=DURATION:PT1H
X-Robots-Tag:noindex
X-PUBLISHED-TTL:PT1H
BEGIN:VTIMEZONE
TZID:UTC
BEGIN:STANDARD
TZOFFSETFROM:+0000
TZOFFSETTO:+0000
TZNAME:UTC
DTSTART:20180101T000000
END:STANDARD
END:VTIMEZONE
BEGIN:VEVENT
DTSTART;TZID=UTC:20190621T210000
DTEND;TZID=UTC:20190623T003000
DTSTAMP:20260422T001110
CREATED:20241009T151744Z
LAST-MODIFIED:20241009T151805Z
UID:25624-1561150800-1561249800@mostradoltremare.it
SUMMARY:Green Paradise
DESCRIPTION:21 giugno 2019: “Woodstock! Live Memorial  – dalle 21\,00 alle 24\,00\n22 giugno 2019:  “Arrivanoibbuoni”. Omaggio a Edoardo Bennato – dalle 21\,30 alle 0\,30\nIngresso Via Marconi
URL:https://mostradoltremare.it/event/green-paradise-6/
LOCATION:Terrazze Pizzeria Esedra\, Via Marconi 2\, Napoli\, 80125
CATEGORIES:Spettacoli
ATTACH;FMTTYPE=image/png:https://mostradoltremare.it/wp-content/uploads/2024/10/25519_image_green-paradise.png
END:VEVENT
END:VCALENDAR