BEGIN:VCALENDAR
VERSION:2.0
PRODID:-//Mostra d&#039;Oltremare - ECPv6.15.20//NONSGML v1.0//EN
CALSCALE:GREGORIAN
METHOD:PUBLISH
X-WR-CALNAME:Mostra d&#039;Oltremare
X-ORIGINAL-URL:https://mostradoltremare.it
X-WR-CALDESC:Eventi per Mostra d&#039;Oltremare
REFRESH-INTERVAL;VALUE=DURATION:PT1H
X-Robots-Tag:noindex
X-PUBLISHED-TTL:PT1H
BEGIN:VTIMEZONE
TZID:UTC
BEGIN:STANDARD
TZOFFSETFROM:+0000
TZOFFSETTO:+0000
TZNAME:UTC
DTSTART:20180101T000000
END:STANDARD
END:VTIMEZONE
BEGIN:VEVENT
DTSTART;TZID=UTC:20190717T200000
DTEND;TZID=UTC:20190721T010000
DTSTAMP:20260421T224441
CREATED:20241009T153014Z
LAST-MODIFIED:20241009T153033Z
UID:25646-1563393600-1563670800@mostradoltremare.it
SUMMARY:Live Music al Green Paradise
DESCRIPTION:Non solo cantautori Festival 2019: mercoledì 17 luglio 2019 ore 20\,00;\nOutdoor Reggae Party: giovedì 18 luglio 2019 ore 19\,00;\nDi Costanzo Blues Band: venerdì 19 luglio 2019 ore 21\,30;\nDemonilla Rock Band Live: sabato 20 luglio 2019 ore 21\,30.\nIngresso viale Marconi
URL:https://mostradoltremare.it/event/live-music-al-green-paradise/
LOCATION:Terrazze Pizzeria Esedra\, Via Marconi 2\, Napoli\, 80125
CATEGORIES:Spettacoli
ATTACH;FMTTYPE=image/png:https://mostradoltremare.it/wp-content/uploads/2024/10/25646_image_2019-green-paradise.png
END:VEVENT
BEGIN:VEVENT
DTSTART;TZID=UTC:20190717T210000
DTEND;TZID=UTC:20190717T233000
DTSTAMP:20260421T224441
CREATED:20241009T153110Z
LAST-MODIFIED:20241009T153133Z
UID:25651-1563397200-1563406200@mostradoltremare.it
SUMMARY:Kamasi Washington\, Enzo Avitabile & Bottari in Concerto
DESCRIPTION:Ingresso Via Terracina.\nPrezzi biglietti:\n-cavea bassa Cat. 1 = Euro 50\,00\n-cavea bassa Cat. 2 = Euro 34\,50\n-cavea bassa Cat. 3 = Euro 28\,75\n-cavea alta = Euro 23\,00\nin vendita presso il circuito Etes dal 4 aprile e presso il Circuito TicketOne dall’11 aprile 2019
URL:https://mostradoltremare.it/event/kamasi-washington-enzo-avitabile-bottari-in-concerto/
LOCATION:ARENA FLEGREA\, Via Terracina 197\, Napoli\, 80125
CATEGORIES:Spettacoli
ATTACH;FMTTYPE=image/png:https://mostradoltremare.it/wp-content/uploads/2024/10/25651_image_kamasi-e-avitabile-2019.png
END:VEVENT
END:VCALENDAR