BEGIN:VCALENDAR
VERSION:2.0
PRODID:-//Mostra d&#039;Oltremare - ECPv6.15.20//NONSGML v1.0//EN
CALSCALE:GREGORIAN
METHOD:PUBLISH
X-WR-CALNAME:Mostra d&#039;Oltremare
X-ORIGINAL-URL:https://mostradoltremare.it
X-WR-CALDESC:Eventi per Mostra d&#039;Oltremare
REFRESH-INTERVAL;VALUE=DURATION:PT1H
X-Robots-Tag:noindex
X-PUBLISHED-TTL:PT1H
BEGIN:VTIMEZONE
TZID:UTC
BEGIN:STANDARD
TZOFFSETFROM:+0000
TZOFFSETTO:+0000
TZNAME:UTC
DTSTART:20180101T000000
END:STANDARD
END:VTIMEZONE
BEGIN:VEVENT
DTSTART;TZID=UTC:20190721T200000
DTEND;TZID=UTC:20190930T233000
DTSTAMP:20260421T224453
CREATED:20241009T153632Z
LAST-MODIFIED:20241009T153658Z
UID:25666-1563739200-1569886200@mostradoltremare.it
SUMMARY:Green Paradise: Live Music\, Cinema\, Pizzeria\, Lounge Bar
DESCRIPTION:Dalla domenica al mercoledì: Cinema Sotto le Stelle. I Grandi Classici Oltre il Tempo. Inizio ore 21\,00\nDal giovedì al sabato: Musica dal vivo. Inizio ore 21\,30\nIngresso Viale Marconi.\nApertura Pizzeria ore 20\,00\nSabato 14 settembre 2019 chiuso causa partita di calcio Napoli-Sampdoria
URL:https://mostradoltremare.it/event/green-paradise-live-music-cinema-pizzeria-lounge-bar/
LOCATION:Terrazze Pizzeria Esedra\, Via Marconi 2\, Napoli\, 80125
CATEGORIES:Spettacoli
ATTACH;FMTTYPE=image/png:https://mostradoltremare.it/wp-content/uploads/2024/10/25666_image_2019-green-paradise-2.png
END:VEVENT
BEGIN:VEVENT
DTSTART;TZID=UTC:20190723T210000
DTEND;TZID=UTC:20190723T230000
DTSTAMP:20260421T224453
CREATED:20241009T153754Z
LAST-MODIFIED:20241009T153811Z
UID:25670-1563915600-1563922800@mostradoltremare.it
SUMMARY:Noa & Band in Concerto
DESCRIPTION:in Letters to Bach from Napoli. Guest: Solis String Quartet.\nPrezzi biglietti\, acquistabili presso le rivendite dei circuiti ETES e Ticketone:\n-Cavea bassa = Euro 40\,25 + diritti di prevendita\n-Cavea alta = Euro 28\,75 + diritti di prevendita
URL:https://mostradoltremare.it/event/noa-band-in-concerto/
LOCATION:ARENA FLEGREA\, Via Terracina 197\, Napoli\, 80125
CATEGORIES:Spettacoli
ATTACH;FMTTYPE=image/png:https://mostradoltremare.it/wp-content/uploads/2024/10/25670_image_noa-and-band.png
ORGANIZER;CN="Come on Web srl":MAILTO:info@etes.it
END:VEVENT
END:VCALENDAR