BEGIN:VCALENDAR
VERSION:2.0
PRODID:-//Mostra d&#039;Oltremare - ECPv6.15.20//NONSGML v1.0//EN
CALSCALE:GREGORIAN
METHOD:PUBLISH
X-ORIGINAL-URL:https://mostradoltremare.it
X-WR-CALDESC:Eventi per Mostra d&#039;Oltremare
REFRESH-INTERVAL;VALUE=DURATION:PT1H
X-Robots-Tag:noindex
X-PUBLISHED-TTL:PT1H
BEGIN:VTIMEZONE
TZID:UTC
BEGIN:STANDARD
TZOFFSETFROM:+0000
TZOFFSETTO:+0000
TZNAME:UTC
DTSTART:20240101T000000
END:STANDARD
END:VTIMEZONE
BEGIN:VEVENT
DTSTART;TZID=UTC:20250614T180000
DTEND;TZID=UTC:20250928T224500
DTSTAMP:20260421T082146
CREATED:20250701T100438Z
LAST-MODIFIED:20250731T105041Z
UID:35487-1749924000-1759099500@mostradoltremare.it
SUMMARY:PINOCCHIO - BACK TO WOOD
DESCRIPTION:Evento nell’ambito del progetto This is Wonderland. Il parco delle fiabe. This is Wonderland è un viaggio dentro la meraviglia\, ispirato alle fiabe di sempre\, con lo stupore di qualcosa di mai visto. \nPinocchio – Back to Wood è una variazione della fiaba classica di Collodi\, reinventata e riscritta con leggerezza e ironia\, una frenetica avventura pop sull’importanza dell’errore come tassello fondamentale della crescita di ognuno\, con spettacoli dal vivo\, installazioni luminose maxi size\, tutti i personaggi della fiaba\, musiche inedite\, il Circus Bar e tanto altro. \nOrario di apertura dalle 18 alle 24\, con ultimo accesso alle 22:45. Ingresso Viale Kennedy 54\, P.le Tecchio. \nPer info e dettagli su logistica\, biglietti\, servizi\, etc\, consultare le domande frequenti al seguente link: \nFaq
URL:https://mostradoltremare.it/event/pinocchio-back-to-wood/
LOCATION:Laghetto Fasilides e Parco Robinson\, Viale J.F.Kennedy 54\, P.le Tecchio\,  Napoli\, 80125
CATEGORIES:Parco,Spettacoli
ATTACH;FMTTYPE=image/jpeg:https://mostradoltremare.it/wp-content/uploads/2025/07/this-is-wonderland-il-parco-delle-fiabe.jpg
ORGANIZER;CN="LUX ENTERTAINMENT S.P.A":MAILTO:pinocchio@thisiswonderland.world
END:VEVENT
BEGIN:VEVENT
DTSTART;TZID=UTC:20250623T160000
DTEND;TZID=UTC:20250831T230000
DTSTAMP:20260421T082146
CREATED:20250303T104548Z
LAST-MODIFIED:20250828T133342Z
UID:31414-1750694400-1756681200@mostradoltremare.it
SUMMARY:DINOSAURS EXPERIENCE 2025
DESCRIPTION:Un viaggio nel tempo fra i giganti della preistoria. Un’esperienza immersiva per tutta la famiglia – PROROGA FINO AL 31 AGOSTO 2025 \nPrezzi biglietti: \nAdulti: 10\,00€\nBambini 3-11 anni: 9\,00€\nFamily pack x3: 27€\nFamily pack x4: 36€\nCRAL: 9\,00€ compreso di visore \nInfoline: 3773053600 \nORARIO ESTIVO IN VIGORE DAL 23 GIUGNO AL 31 AGOSTO 2025 = tutti i giorni 16\,00-23\,00 \nIngresso Via Terracina 197\, P.le Tecchio. \nEmail: dinosaursexperience@libero.it \n 
URL:https://mostradoltremare.it/event/dinosaurs-experience-2025/
LOCATION:Pineta\, Via Terracina 197\, Napoli\, 80125\, Italia
CATEGORIES:Spettacoli
ATTACH;FMTTYPE=image/jpeg:https://mostradoltremare.it/wp-content/uploads/2025/03/dinosaurs-experience.jpg
ORGANIZER;CN="Alta Classe Lab s.r.l.s.":MAILTO:altaclasselab@libero.it
END:VEVENT
BEGIN:VEVENT
DTSTART;TZID=UTC:20250701T180000
DTEND;TZID=UTC:20250706T235900
DTSTAMP:20260421T082146
CREATED:20250528T081350Z
LAST-MODIFIED:20250703T114423Z
UID:34000-1751392800-1751846340@mostradoltremare.it
SUMMARY:COCA COLA PIZZA VILLAGE 2025
DESCRIPTION:Food & drink\, diretta radio-televisiva con RTL 102.5\, incontri format narrativo Pizza Tales\, Master Class\, attività per i più piccoli\, Contest Musicale. Al centro della scena\, il grande palco Firmato RTL 102.5\, media partner ufficiale\, che ogni sera trasmetterà in diretta radio tv e animerà il villaggio con live e ospiti – \nProgramma dei convegni e dei concerti in aggiornamento – consultabile sul profilo Facebook ufficiale della manifestazione\, linkato sotto. \nIngressi Piazzale Tecchio\, Viale Kennedy\, Via Terracina. \nIngresso gratuito.  Menu a pagamento\, da acquistare online oppure presso le casse: \nTICKETS – Pizza Village \n 
URL:https://mostradoltremare.it/event/pizza-village-2025/
LOCATION:Aree esterne
CATEGORIES:Fiera
ATTACH;FMTTYPE=image/jpeg:https://mostradoltremare.it/wp-content/uploads/2025/05/2025pizzavillage2025.jpg
ORGANIZER;CN="ORAMATA GRANDI EVENTI S.R.L.":MAILTO:info@pizzavillage.it
END:VEVENT
BEGIN:VEVENT
DTSTART;TZID=UTC:20250704T083000
DTEND;TZID=UTC:20250706T203000
DTSTAMP:20260421T082146
CREATED:20250107T144411Z
LAST-MODIFIED:20250704T082219Z
UID:30425-1751617800-1751833800@mostradoltremare.it
SUMMARY:UBL The Italian Championship 2025
DESCRIPTION:UBL | THE ITALIAN CHAMPIONSHIP® è la più grande competizione internazionale di CrossFit in Italia. Tre giorni di sfide ad alta intensità con i migliori atleti da tutta Europa\, expo fitness\, aree food & chill\, dj set e attività per il pubblico come workshop e seminari. UBL | THE ITALIAN CHAMPIONSHIP è un evento pensato per tutti gli appassionati di fitness. \nIl biglietto gratuito è previsto per le persone con disabilità\, con documentazione (Legge 118/71 e successive modifiche). In caso di accompagnatore\, l’ingresso è valido solo congiunto. \norari performance: il venerdì dalle 8\,30 alle 18\,30 nei padiglioni e dalle 16\,30 alle 22\,30 in piscina; il sabato dalle 8\,00 alle 18\,30 nei padiglioni e dalle 16\,30 alle 22\,30 in piscina; la domenica dalle 8\,30 alle 20\,30 \nPer informazioni e contatti: info@italianchampionship.it | support@italianchampionship.it \n  \n\n\n\nTipologia\nEarly Bird\n(online fino al 1° giugno)\nPrevendita Online\nVendita in Loco\n\n\n\n\nGiornaliero\n–\n€ 10\,00\n€ 15\,00\n\n\nThree Days\n€ 19\,00\n€ 25\,00\n€ 35\,00\n\n\nBambini e ragazzi sotto i 15 anni\nIngresso gratuito\n\n\n\nInfo e biglietti su https://www.italianchampionship.it/
URL:https://mostradoltremare.it/event/ubl-the-italian-championship-2025/
LOCATION:Padiglioni 5-6 e Piscina\, Viale Kennedy 54\, Napoli\, 80125
CATEGORIES:Sportivo
ATTACH;FMTTYPE=image/png:https://mostradoltremare.it/wp-content/uploads/2025/01/UBL-locandinaMostra.png
ORGANIZER;CN="ASD CROSSTRAINING ITALIA":MAILTO:info@italianchampionship.it
END:VEVENT
END:VCALENDAR