BEGIN:VCALENDAR
VERSION:2.0
PRODID:-//Mostra d&#039;Oltremare - ECPv6.15.20//NONSGML v1.0//EN
CALSCALE:GREGORIAN
METHOD:PUBLISH
X-WR-CALNAME:Mostra d&#039;Oltremare
X-ORIGINAL-URL:https://mostradoltremare.it
X-WR-CALDESC:Eventi per Mostra d&#039;Oltremare
REFRESH-INTERVAL;VALUE=DURATION:PT1H
X-Robots-Tag:noindex
X-PUBLISHED-TTL:PT1H
BEGIN:VTIMEZONE
TZID:UTC
BEGIN:STANDARD
TZOFFSETFROM:+0000
TZOFFSETTO:+0000
TZNAME:UTC
DTSTART:20220101T000000
END:STANDARD
END:VTIMEZONE
BEGIN:VEVENT
DTSTART;TZID=UTC:20231026T120000
DTEND;TZID=UTC:20231102T180000
DTSTAMP:20260419T141442
CREATED:20241002T125646Z
LAST-MODIFIED:20241002T125705Z
UID:22471-1698321600-1698948000@mostradoltremare.it
SUMMARY:CONCORSI COMUNE DI SESSA AURUNCA
DESCRIPTION:per il reclutamento a tempo indeterminato di 14 unità di personale appartenente all’area degli Istruttori (già Categoria Giuridica C) e di 9 unità di personale appartenente all’area dei funzionari (già Categoria Giuridica D) – diversi profili professionali\nSvolgimento nei giorni 26\, 27\, 30\, 31 ottobre e 2 novembre 2023 – Location: Ristorante 1° piano il 26\, 27\, 31 ottobre e 2 novembre 2023; Padiglione 10 il 30 ottobre 2023.\nPer il diario di esame\, le istruzioni per l’accesso e le modalità di svolgimento delle prove scritte\, consultare il link  a lato.\nIngresso candidati Piazzale Tecchio
URL:https://mostradoltremare.it/event/concorsi-comune-di-sessa-aurunca/
LOCATION:Ristorante della Piscina Piano Superiore e Padiglione 10\, Piazzale Tecchio\, Napoli\, 80125
CATEGORIES:Concorsi
ATTACH;FMTTYPE=image/jpeg:https://mostradoltremare.it/wp-content/uploads/2024/10/22379_image_pad-10.jpg
ORGANIZER;CN="VENTIEVENTI SRL":MAILTO:info@tuttosposi.it
END:VEVENT
END:VCALENDAR