BEGIN:VCALENDAR
VERSION:2.0
PRODID:-//Mostra d&#039;Oltremare - ECPv6.15.20//NONSGML v1.0//EN
CALSCALE:GREGORIAN
METHOD:PUBLISH
X-ORIGINAL-URL:https://mostradoltremare.it
X-WR-CALDESC:Eventi per Mostra d&#039;Oltremare
REFRESH-INTERVAL;VALUE=DURATION:PT1H
X-Robots-Tag:noindex
X-PUBLISHED-TTL:PT1H
BEGIN:VTIMEZONE
TZID:UTC
BEGIN:STANDARD
TZOFFSETFROM:+0000
TZOFFSETTO:+0000
TZNAME:UTC
DTSTART:20220101T000000
END:STANDARD
END:VTIMEZONE
BEGIN:VEVENT
DTSTART;TZID=UTC:20231120T093000
DTEND;TZID=UTC:20231124T170000
DTSTAMP:20260421T162744
CREATED:20241002T211625Z
LAST-MODIFIED:20241002T211640Z
UID:22858-1700472600-1700845200@mostradoltremare.it
SUMMARY:Maxi Concorsi per Funzionari Agenzia delle Entrate
DESCRIPTION:Nei giorni 20\, 22 \, 23 e 24 novembre due sessioni giornaliere: la prima alle ore 9\,30\, la seconda alle ore 14\,30; il 21 novembre unica sessione alle ore 9\,30.\nIngresso unico candidati Viale Kennedy
URL:https://mostradoltremare.it/event/maxi-concorsi-per-funzionari-agenzia-delle-entrate/
LOCATION:Padiglioni 4\, 5 e 6\, Viale Kennedy 54\,P.le Tecchio.
CATEGORIES:Concorsi
ATTACH;FMTTYPE=image/png:https://mostradoltremare.it/wp-content/uploads/2024/10/22858_image_agenzia-entrate-732-x-381.png
ORGANIZER;CN="Pomigliano Danza":MAILTO:info@pomiglianodanza_it
END:VEVENT
END:VCALENDAR