BEGIN:VCALENDAR
VERSION:2.0
PRODID:-//Mostra d&#039;Oltremare - ECPv6.15.20//NONSGML v1.0//EN
CALSCALE:GREGORIAN
METHOD:PUBLISH
X-WR-CALNAME:Mostra d&#039;Oltremare
X-ORIGINAL-URL:https://mostradoltremare.it
X-WR-CALDESC:Eventi per Mostra d&#039;Oltremare
REFRESH-INTERVAL;VALUE=DURATION:PT1H
X-Robots-Tag:noindex
X-PUBLISHED-TTL:PT1H
BEGIN:VTIMEZONE
TZID:UTC
BEGIN:STANDARD
TZOFFSETFROM:+0000
TZOFFSETTO:+0000
TZNAME:UTC
DTSTART:20200101T000000
END:STANDARD
END:VTIMEZONE
BEGIN:VEVENT
DTSTART;TZID=UTC:20211024T100000
DTEND;TZID=UTC:20211024T180000
DTSTAMP:20260423T122252
CREATED:20241008T203937Z
LAST-MODIFIED:20241008T203937Z
UID:24768-1635069600-1635098400@mostradoltremare.it
SUMMARY:Elezioni Ordine dei Giornalisti della Campania
DESCRIPTION:prima convocazione 17 ottobre 2021; seconda convocazione 24 ottobre 2021; eventuale ballottaggio 7 novembre 2021. Ingresso Viale Marconi
URL:https://mostradoltremare.it/event/elezioni-ordine-dei-giornalisti-della-campania/
LOCATION:Sala Marco Polo (Ristorante della Piscina Piano Superiore)
CATEGORIES:Congresso
ATTACH;FMTTYPE=image/png:https://mostradoltremare.it/wp-content/uploads/2024/10/24768_image_ordine-giornalisti-logo.png
ORGANIZER;CN="Ordine dei Giornalisti della Campania":MAILTO:odgcampania@yahoo_it
END:VEVENT
END:VCALENDAR