BEGIN:VCALENDAR
VERSION:2.0
PRODID:-//Mostra d&#039;Oltremare - ECPv6.15.20//NONSGML v1.0//EN
CALSCALE:GREGORIAN
METHOD:PUBLISH
X-WR-CALNAME:Mostra d&#039;Oltremare
X-ORIGINAL-URL:https://mostradoltremare.it
X-WR-CALDESC:Eventi per Mostra d&#039;Oltremare
REFRESH-INTERVAL;VALUE=DURATION:PT1H
X-Robots-Tag:noindex
X-PUBLISHED-TTL:PT1H
BEGIN:VTIMEZONE
TZID:UTC
BEGIN:STANDARD
TZOFFSETFROM:+0000
TZOFFSETTO:+0000
TZNAME:UTC
DTSTART:20240101T000000
END:STANDARD
END:VTIMEZONE
BEGIN:VEVENT
DTSTART;TZID=UTC:20251011T080000
DTEND;TZID=UTC:20251012T130000
DTSTAMP:20260422T045609
CREATED:20250925T101437Z
LAST-MODIFIED:20251003T081305Z
UID:43358-1760169600-1760274000@mostradoltremare.it
SUMMARY:Gestione degli infortuni e delle patologie da sport
DESCRIPTION:L’evento conferirà 8\,4 crediti ECM ed è pensato per esplorare un approccio multidisciplinare e integrato nella prevenzione e riabilitazione delle patologie sportive. \nIngresso Viale Kennedy 54. \nOrari: l’11 ottobre dalle 8\,00 alle 19\,00; il 12 ottobre dalle 8\,00 alle 13\,00 \nIscrizioni al link sottostante
URL:https://mostradoltremare.it/event/gestione-degli-infortuni-e-delle-patologie-da-sport/
LOCATION:Sala Italia\, Napoli\, 80125
CATEGORIES:Congresso
ATTACH;FMTTYPE=image/jpeg:https://mostradoltremare.it/wp-content/uploads/2025/09/accademia-nazionale-sanita.jpg
ORGANIZER;CN="Accademia Nazionale della Sanit%C3%A0":MAILTO:segreteria@accademiasanita.it
END:VEVENT
END:VCALENDAR