BEGIN:VCALENDAR
VERSION:2.0
PRODID:-//Mostra d&#039;Oltremare - ECPv6.15.20//NONSGML v1.0//EN
CALSCALE:GREGORIAN
METHOD:PUBLISH
X-ORIGINAL-URL:https://mostradoltremare.it
X-WR-CALDESC:Eventi per Mostra d&#039;Oltremare
REFRESH-INTERVAL;VALUE=DURATION:PT1H
X-Robots-Tag:noindex
X-PUBLISHED-TTL:PT1H
BEGIN:VTIMEZONE
TZID:UTC
BEGIN:STANDARD
TZOFFSETFROM:+0000
TZOFFSETTO:+0000
TZNAME:UTC
DTSTART:20240101T000000
END:STANDARD
END:VTIMEZONE
BEGIN:VEVENT
DTSTART;TZID=UTC:20251210T170000
DTEND;TZID=UTC:20251210T210000
DTSTAMP:20260421T210859
CREATED:20250714T075540Z
LAST-MODIFIED:20251205T105603Z
UID:36894-1765386000-1765400400@mostradoltremare.it
SUMMARY:PIZZA DOC AWARDS - Oscar della Pizza 2025
DESCRIPTION:La Notte delle Stelle del Mondo Pizza\,. Evento che celebra l’anima\, il talento e la passione di un intero settore. Una serata unica e irripetibile\, pensata per rendere omaggio a chi\, ogni giorno\, con dedizione e creatività\, contribuisce a rendere la pizza un’eccellenza riconosciuta e amata in tutto il mondo. I Pizza DOC Awards sono molto più di una premiazione: sono il palcoscenico delle storie\, dei volti\, dei percorsi e delle innovazioni che animano il mondo della pizza. \nA ricevere il meritato riconoscimento saranno pizzaioli d’eccellenza\, imprenditori visionari\, comunicatori del gusto\, giornalisti di settore e ambasciatori della cultura della pizza italiana nel mondo. \nI premi saranno assegnati attraverso un doppio sistema di valutazione: \n\nda una parte\, il giudizio attento e competente di un Comitato Scientifico composto da esperti del settore;\ndall’altra\, il voto del pubblico\, che darà voce a chi vive e ama ogni giorno questo mondo straordinario.\n\nIn una città simbolo come Napoli\, culla della pizza e patrimonio UNESCO\, i Pizza DOC Awards si trasformano in una grande festa di condivisione e ispirazione\, dove il talento incontra la tradizione e la qualità viene finalmente celebrata sotto le luci della ribalta. \nUna serata di emozioni\, storie e riconoscimenti. Un evento pensato per chi fa della pizza la propria arte\, missione e stile di vita. \nPizza DOC Awards 2025 – Dove nasce il futuro della pizza.
URL:https://mostradoltremare.it/event/pizza-doc-awards-2025/
LOCATION:Teatro Mediterraneo
CATEGORIES:Congresso
ATTACH;FMTTYPE=image/jpeg:https://mostradoltremare.it/wp-content/uploads/2025/07/post-awards-2025-1.jpg
ORGANIZER;CN="Giaccoli Doc srl":MAILTO:info@accademianazionalepizzadoc.it
END:VEVENT
END:VCALENDAR