BEGIN:VCALENDAR
VERSION:2.0
PRODID:-//Mostra d&#039;Oltremare - ECPv6.15.20//NONSGML v1.0//EN
CALSCALE:GREGORIAN
METHOD:PUBLISH
X-WR-CALNAME:Mostra d&#039;Oltremare
X-ORIGINAL-URL:https://mostradoltremare.it
X-WR-CALDESC:Eventi per Mostra d&#039;Oltremare
REFRESH-INTERVAL;VALUE=DURATION:PT1H
X-Robots-Tag:noindex
X-PUBLISHED-TTL:PT1H
BEGIN:VTIMEZONE
TZID:UTC
BEGIN:STANDARD
TZOFFSETFROM:+0000
TZOFFSETTO:+0000
TZNAME:UTC
DTSTART:20180101T000000
END:STANDARD
END:VTIMEZONE
BEGIN:VEVENT
DTSTART;TZID=UTC:20190416T080000
DTEND;TZID=UTC:20190416T180000
DTSTAMP:20260425T225951
CREATED:20241009T144028Z
LAST-MODIFIED:20241009T144051Z
UID:25469-1555401600-1555437600@mostradoltremare.it
SUMMARY:TUTTONORMEL 2019
DESCRIPTION:Incontro tecnico sull’applicazione delle norme del settore elettrico.\nInfo ed iscrizioni su www.tne.it
URL:https://mostradoltremare.it/event/tuttonormel-2019/
LOCATION:Sala Ischia del Palacongressi -Viale Kennedy 54 – Via Terracina\, Via J.F. Kennedy\, 54\, Napoli\, NA\, 80125\, Italy
CATEGORIES:Congresso
ATTACH;FMTTYPE=image/jpeg:https://mostradoltremare.it/wp-content/uploads/2024/10/25469_image_itt-2019.jpg
ORGANIZER;CN="TNE srl":MAILTO:info@tne_it
END:VEVENT
END:VCALENDAR