BEGIN:VCALENDAR
VERSION:2.0
PRODID:-//Mostra d&#039;Oltremare - ECPv6.15.20//NONSGML v1.0//EN
CALSCALE:GREGORIAN
METHOD:PUBLISH
X-WR-CALNAME:Mostra d&#039;Oltremare
X-ORIGINAL-URL:https://mostradoltremare.it
X-WR-CALDESC:Eventi per Mostra d&#039;Oltremare
REFRESH-INTERVAL;VALUE=DURATION:PT1H
X-Robots-Tag:noindex
X-PUBLISHED-TTL:PT1H
BEGIN:VTIMEZONE
TZID:UTC
BEGIN:STANDARD
TZOFFSETFROM:+0000
TZOFFSETTO:+0000
TZNAME:UTC
DTSTART:20200101T000000
END:STANDARD
END:VTIMEZONE
BEGIN:VEVENT
DTSTART;TZID=UTC:20211214T170000
DTEND;TZID=UTC:20211214T193000
DTSTAMP:20260423T123243
CREATED:20241002T213727Z
LAST-MODIFIED:20241002T213741Z
UID:22945-1639501200-1639510200@mostradoltremare.it
SUMMARY:Giuramento degli Infermieri
DESCRIPTION:
URL:https://mostradoltremare.it/event/giuramento-degli-infermieri/
LOCATION:Teatro Mediterraneo e Piazzale antistante\, Viale J.F.Kennedy 54\, Napoli\, 80125
CATEGORIES:Congresso
ATTACH;FMTTYPE=image/png:https://mostradoltremare.it/wp-content/uploads/2024/10/22945_image_opi-napoli.png
ORGANIZER;CN="Ordine delle Professioni Infermieristiche di Napoli":MAILTO:info@opinapoli_it
END:VEVENT
END:VCALENDAR