BEGIN:VCALENDAR
VERSION:2.0
PRODID:-//Mostra d&#039;Oltremare - ECPv6.15.20//NONSGML v1.0//EN
CALSCALE:GREGORIAN
METHOD:PUBLISH
X-ORIGINAL-URL:https://mostradoltremare.it
X-WR-CALDESC:Eventi per Mostra d&#039;Oltremare
REFRESH-INTERVAL;VALUE=DURATION:PT1H
X-Robots-Tag:noindex
X-PUBLISHED-TTL:PT1H
BEGIN:VTIMEZONE
TZID:UTC
BEGIN:STANDARD
TZOFFSETFROM:+0000
TZOFFSETTO:+0000
TZNAME:UTC
DTSTART:20230101T000000
END:STANDARD
END:VTIMEZONE
BEGIN:VEVENT
DTSTART;TZID=UTC:20240122T090000
DTEND;TZID=UTC:20240123T170000
DTSTAMP:20260423T072414
CREATED:20241002T182525Z
LAST-MODIFIED:20241002T183453Z
UID:22628-1705914000-1706029200@mostradoltremare.it
SUMMARY:M.IT. MEET ITALIAN BRANDS 2024
DESCRIPTION:Fashion Event Internazionale di Networking: 80 brand campani incontrano buyers da 35 paesi.\nEvento nell’ambito delle attività promosse dal Tavolo della Moda e del Design – MODEC – della Regione Campania.\nIl 22 e 23 gennaio: Expo\, incontri\, convegni in Mostra – il 24 gennaio: visita dei buyers presso le aziende.\nIngresso Viale Kennedy 54
URL:https://mostradoltremare.it/event/m-it-meet-italian-brands-2024/
LOCATION:Padiglione 6
CATEGORIES:Fiera
ATTACH;FMTTYPE=image/png:https://mostradoltremare.it/wp-content/uploads/2024/10/22628_image_mit-2024.png
ORGANIZER;CN="VENTIEVENTI SRL":MAILTO:info@tuttosposi.it
END:VEVENT
END:VCALENDAR