BEGIN:VCALENDAR
VERSION:2.0
PRODID:-//Mostra d&#039;Oltremare - ECPv6.15.20//NONSGML v1.0//EN
CALSCALE:GREGORIAN
METHOD:PUBLISH
X-ORIGINAL-URL:https://mostradoltremare.it
X-WR-CALDESC:Eventi per Mostra d&#039;Oltremare
REFRESH-INTERVAL;VALUE=DURATION:PT1H
X-Robots-Tag:noindex
X-PUBLISHED-TTL:PT1H
BEGIN:VTIMEZONE
TZID:UTC
BEGIN:STANDARD
TZOFFSETFROM:+0000
TZOFFSETTO:+0000
TZNAME:UTC
DTSTART:20230101T000000
END:STANDARD
END:VTIMEZONE
BEGIN:VEVENT
DTSTART;TZID=UTC:20241106T080000
DTEND;TZID=UTC:20241108T140000
DTSTAMP:20260422T063900
CREATED:20241001T111839Z
LAST-MODIFIED:20241104T114930Z
UID:19808-1730880000-1731074400@mostradoltremare.it
SUMMARY:ORIENTASUD 2024 - 25^ edizione
DESCRIPTION:Manifestazione dedicata all’orientamento universitario con ingressi ad invito. \nINGRESSO VISITATORI ESCLUSIVAMENTE DA PIAZZALE TECCHIO. \n  \n  \n 
URL:https://mostradoltremare.it/event/orientasud-2024-25-edizione/
LOCATION:Padiglione 10 e Sala Italia\, Piazzale Tecchio\, Napoli
CATEGORIES:Fiera
ATTACH;FMTTYPE=image/jpeg:https://mostradoltremare.it/wp-content/uploads/2024/10/OOrientasud.jpg
END:VEVENT
BEGIN:VEVENT
DTSTART;TZID=UTC:20241108T100000
DTEND;TZID=UTC:20241110T180000
DTSTAMP:20260422T063900
CREATED:20241001T111602Z
LAST-MODIFIED:20241031T125804Z
UID:19800-1731060000-1731261600@mostradoltremare.it
SUMMARY:CREATTIVA NAPOLI 2024 - 13^ edizione
DESCRIPTION:Fiera delle arti manuali. Area espositiva\, Corsi\, Dimostrazioni. \nInformazioni relative al costo dei biglietti al link: https://www.fieracreattiva.it/napoli-creattiva/date-orari-costi/ \nOrari: venerdì e sabato 10\,00-19\,00 – domenica 10\,00-18\,00. \nIngressi: Viale Kennedy\, Piazzale Tecchio\, Via Terracina. \n  \n 
URL:https://mostradoltremare.it/event/creattiva-napoli-2024-13-edizione/
LOCATION:Padiglioni 5-6 e Piscina\, Viale Kennedy 54\, Napoli\, 80125
CATEGORIES:Fiera
ATTACH;FMTTYPE=image/jpeg:https://mostradoltremare.it/wp-content/uploads/2024/10/CREATTIVA2025.jpg
ORGANIZER;CN="PROMOBERG srl":MAILTO:creattiva@promoberg.it
END:VEVENT
BEGIN:VEVENT
DTSTART;TZID=UTC:20241109T100000
DTEND;TZID=UTC:20241111T180000
DTSTAMP:20260422T063900
CREATED:20241001T111435Z
LAST-MODIFIED:20241104T114411Z
UID:19797-1731146400-1731348000@mostradoltremare.it
SUMMARY:AESTETICA 2024 - 27^ edizione
DESCRIPTION:Prodotti\, materiali\, attrezzature e servizi per i professionisti di estetica\, cosmesi\, acconciature\, bellezza e benessere. \nEventi collaterali: Nails Challenge e Hair Show \ningresso Piazzale Tecchio. \nOrari manifestazione: sabato e domenica dalle 10\,00 alle 20\,00 – lunedì dalle 10\,00 alle 18\,00. \nInfoline 0815922946 \nBiglietti in vendita a partire da luglio 2024 su www.aestetica.it
URL:https://mostradoltremare.it/event/aestetica-2024-27-edizione/
LOCATION:Padiglioni 1-2-3-3B
CATEGORIES:Fiera
ATTACH;FMTTYPE=image/jpeg:https://mostradoltremare.it/wp-content/uploads/2024/10/aestetica-2024.jpg
END:VEVENT
BEGIN:VEVENT
DTSTART;TZID=UTC:20241122T100000
DTEND;TZID=UTC:20241124T200000
DTSTAMP:20260422T063900
CREATED:20241001T110150Z
LAST-MODIFIED:20241118T172720Z
UID:19788-1732269600-1732478400@mostradoltremare.it
SUMMARY:PADELNESS 2024- 1^ edizione
DESCRIPTION:area espositiva\, tornei\, masterclass\, convegni. \ningressi Viale Kennedy 54 e P.le Tecchio \nAcquisto biglietti ed abbonamenti su www.padelness.it \n 
URL:https://mostradoltremare.it/event/padelness-2024-1-edizione/
LOCATION:Padiglioni 4\,5\,6 ed area esterna
CATEGORIES:Fiera
ATTACH;FMTTYPE=image/jpeg:https://mostradoltremare.it/wp-content/uploads/2024/10/prova.jpg
ORGANIZER;CN="Eventi in Mostra srl":MAILTO:info@padelness.it
END:VEVENT
BEGIN:VEVENT
DTSTART;TZID=UTC:20241129T093000
DTEND;TZID=UTC:20241201T180000
DTSTAMP:20260422T063900
CREATED:20241001T105803Z
LAST-MODIFIED:20241129T074054Z
UID:19777-1732872600-1733076000@mostradoltremare.it
SUMMARY:ARKEDA 2024 - 11^ edizione
DESCRIPTION:Manifestazione riservata ai visitatori professionali – ingresso gratuito con registrazione obbligatoria su Accredito Visitatori – Arkeda \nIngresso Viale Kennedy 54. \nLa manifestazione gode del patrocinio del Consiglio Nazionale degli Architetti P.P.C.\, degli Ordini degli Architetti di tutta Italia\, degli Ingegneri\, dell’ADI\, delle Associazioni di Designer e delle Università. A garanzia dell’alto profilo dell’evento si prevedono anche quest’anno numerosi corsi di aggiornamento con rilascio di crediti formativi ed una serie di dibattiti e workshop dedicati ai professionisti.
URL:https://mostradoltremare.it/event/arkeda-2024-11-edizione/
LOCATION:Padiglioni 4\,5 e 6\, Viale Kennedy\, Napoli\, Italy
CATEGORIES:Fiera
ATTACH;FMTTYPE=image/png:https://mostradoltremare.it/wp-content/uploads/2024/10/arkeda-m.png
ORGANIZER;CN="Progecta s.r.l.":MAILTO:info@arkeda.it
END:VEVENT
BEGIN:VEVENT
DTSTART;TZID=UTC:20241130T100000
DTEND;TZID=UTC:20241201T200000
DTSTAMP:20260422T063900
CREATED:20241001T105141Z
LAST-MODIFIED:20241122T084442Z
UID:19772-1732960800-1733083200@mostradoltremare.it
SUMMARY:FIERA DEL BARATTO E DELL'USATO 2024 - 54^ Edizione
DESCRIPTION:Collezionismo\, modernariato\, antiquariato\, artigianato manufatto\, abbigliamento vintage\, retrogaming e il vasto settore del “di tutto di più”. Possono partecipare sia hobbisti che titolari di Partita IVA\, purché corrispondano alle tipologie suddette. \nApertura Iscrizioni:  17 settembre 2024 – Email:  info@bidonville.org. \nPrezzo biglietto in fiera Euro 5\,00; online Euro 6\,00. Ingresso gratuito per gli under 12 e gli over 70 \nIngresso Piazzale Tecchio
URL:https://mostradoltremare.it/event/fiera-del-baratto-e-dellusato-2024-edizione-autunnale/
LOCATION:Padiglioni 1-2-3-3B
CATEGORIES:Fiera
ATTACH;FMTTYPE=image/jpeg:https://mostradoltremare.it/wp-content/uploads/2024/10/BARATTO-fiera-300x156-1.jpg
ORGANIZER;CN="Bidonville 2.0 sas di Consiglia Auletta":MAILTO:bidon@bidonville.org
END:VEVENT
END:VCALENDAR