BEGIN:VCALENDAR
VERSION:2.0
PRODID:-//Mostra d&#039;Oltremare - ECPv6.15.20//NONSGML v1.0//EN
CALSCALE:GREGORIAN
METHOD:PUBLISH
X-WR-CALNAME:Mostra d&#039;Oltremare
X-ORIGINAL-URL:https://mostradoltremare.it
X-WR-CALDESC:Eventi per Mostra d&#039;Oltremare
REFRESH-INTERVAL;VALUE=DURATION:PT1H
X-Robots-Tag:noindex
X-PUBLISHED-TTL:PT1H
BEGIN:VTIMEZONE
TZID:UTC
BEGIN:STANDARD
TZOFFSETFROM:+0000
TZOFFSETTO:+0000
TZNAME:UTC
DTSTART:20200101T000000
END:STANDARD
END:VTIMEZONE
BEGIN:VEVENT
DTSTART;TZID=UTC:20210618T093000
DTEND;TZID=UTC:20210620T150000
DTSTAMP:20260425T110847
CREATED:20241008T202208Z
LAST-MODIFIED:20241008T202208Z
UID:24661-1624008600-1624201200@mostradoltremare.it
SUMMARY:BMT 2021 - 24^ edizione
DESCRIPTION:Borsa Mediterranea del Turismo. Aree espositive\, workshop\, incontri con i buyers Layout e percorso rinnovati per garantire la partecipazione in massima sicurezza. Venerdì e sabato riservata agli operatori di settore – domenica aperta al pubblico. Orari: venerdì e sabato 9\,30-18\,30 – domenica 9\,30-15\,00 Ingressi Viale Kennedy – Via Terracina
URL:https://mostradoltremare.it/event/bmt-2021-24-edizione/
LOCATION:Padiglioni 4-5-6 ed area esterna\, Viale Kennedy 54\, Napoli\, 80125
CATEGORIES:Fiera
ATTACH;FMTTYPE=image/jpeg:https://mostradoltremare.it/wp-content/uploads/2024/10/24661_image_BMT-2021.jpg
ORGANIZER;CN="PROGECTA SRL":MAILTO:info@progecta.org
END:VEVENT
END:VCALENDAR