BEGIN:VCALENDAR
VERSION:2.0
PRODID:-//Mostra d&#039;Oltremare - ECPv6.15.20//NONSGML v1.0//EN
CALSCALE:GREGORIAN
METHOD:PUBLISH
X-WR-CALNAME:Mostra d&#039;Oltremare
X-ORIGINAL-URL:https://mostradoltremare.it
X-WR-CALDESC:Eventi per Mostra d&#039;Oltremare
REFRESH-INTERVAL;VALUE=DURATION:PT1H
X-Robots-Tag:noindex
X-PUBLISHED-TTL:PT1H
BEGIN:VTIMEZONE
TZID:UTC
BEGIN:STANDARD
TZOFFSETFROM:+0000
TZOFFSETTO:+0000
TZNAME:UTC
DTSTART:20230101T000000
END:STANDARD
END:VTIMEZONE
BEGIN:VEVENT
DTSTART;TZID=UTC:20240614T180000
DTEND;TZID=UTC:20240623T235900
DTSTAMP:20260422T230831
CREATED:20241003T202014Z
LAST-MODIFIED:20241003T202036Z
UID:23632-1718388000-1719187140@mostradoltremare.it
SUMMARY:Coca-Cola PIZZA VILLAGE 2024
DESCRIPTION:Spazi espositivi\, Food & Drink\, laboratori per bambini\, Pizza Tales: ogni sera dibattiti alla presenza di giornalisti della carta stampata e del web\, influencer\, mixologist\, imprenditori.\nMusica dal vivo in partnership con RTL 102.5.\nPrezzo Menù (pizza\, bibita\, dolce e caffè) = Euro 15\,00.\nIngressi: Piazzale Tecchio\, Viale Kennedy\, Via Terracina
URL:https://mostradoltremare.it/event/coca-cola-pizza-village-2024/
LOCATION:Area 28 Fontane e piazzale antistante Teatro Mediterraneo\, Piazzale Tecchio\, Napoli
CATEGORIES:Fiera
ATTACH;FMTTYPE=image/jpeg:https://mostradoltremare.it/wp-content/uploads/2024/10/23632_image_pizza-village-2024.jpg
ORGANIZER;CN="ORAMATA GRANDI EVENTI S.R.L.":MAILTO:info@pizzavillage.it
END:VEVENT
BEGIN:VEVENT
DTSTART;TZID=UTC:20240617T103000
DTEND;TZID=UTC:20240619T230000
DTSTAMP:20260422T230831
CREATED:20241003T202318Z
LAST-MODIFIED:20241003T202343Z
UID:23650-1718620200-1718838000@mostradoltremare.it
SUMMARY:CAMPIONATO MONDIALE DEL PIZZAIUOLI 2024 - 21^ edizione
DESCRIPTION:Caputo Cup.\nCompetizione internazionale dei professionisti della pizza.\nPer informazioni: tel: 081-19173674; Email: info@pizzaiuolinapoletani.it.\nPer iscriversi: https://www.pizzaiuolinapoletani.it/campionato-mondiale-del-pizzaiuolo/
URL:https://mostradoltremare.it/event/campionato-mondiale-del-pizzaiuoli-2024-21-edizione/
LOCATION:Padiglione 1 Sale A\, B\, F\, Piazzale Tecchio\, Napoli\, Seleziona uno Stato:\, 80125\, Italia
CATEGORIES:Fiera
ATTACH;FMTTYPE=image/jpeg:https://mostradoltremare.it/wp-content/uploads/2024/10/23650_image_21MO-CAMPIONATO-MONDIALE.jpg
END:VEVENT
END:VCALENDAR