BEGIN:VCALENDAR
VERSION:2.0
PRODID:-//Mostra d&#039;Oltremare - ECPv6.15.20//NONSGML v1.0//EN
CALSCALE:GREGORIAN
METHOD:PUBLISH
X-WR-CALNAME:Mostra d&#039;Oltremare
X-ORIGINAL-URL:https://mostradoltremare.it
X-WR-CALDESC:Eventi per Mostra d&#039;Oltremare
REFRESH-INTERVAL;VALUE=DURATION:PT1H
X-Robots-Tag:noindex
X-PUBLISHED-TTL:PT1H
BEGIN:VTIMEZONE
TZID:UTC
BEGIN:STANDARD
TZOFFSETFROM:+0000
TZOFFSETTO:+0000
TZNAME:UTC
DTSTART:20200101T000000
END:STANDARD
END:VTIMEZONE
BEGIN:VEVENT
DTSTART;TZID=UTC:20211226T090000
DTEND;TZID=UTC:20211226T113000
DTSTAMP:20260423T103851
CREATED:20241002T214352Z
LAST-MODIFIED:20241002T214407Z
UID:22978-1640509200-1640518200@mostradoltremare.it
SUMMARY:San Paolo Sport Day
DESCRIPTION:Gara podistica. Manifestazione sportiva aperta a tutti che si svolge fra lo Stadio Maradona e la Mostra d’Oltremare.\nIngresso ed uscita Viale Marconi
URL:https://mostradoltremare.it/event/san-paolo-sport-day/
LOCATION:Aree esterne
CATEGORIES:Parco,Sportivo
ATTACH;FMTTYPE=image/png:https://mostradoltremare.it/wp-content/uploads/2024/10/22978_image_san-paolo-sport-day-2021-1.png
ORGANIZER;CN="ASD ENTERPRISE YOUNG":MAILTO:info@sanpaolosportday_eu
END:VEVENT
END:VCALENDAR