BEGIN:VCALENDAR
VERSION:2.0
PRODID:-//Mostra d&#039;Oltremare - ECPv6.15.20//NONSGML v1.0//EN
CALSCALE:GREGORIAN
METHOD:PUBLISH
X-WR-CALNAME:Mostra d&#039;Oltremare
X-ORIGINAL-URL:https://mostradoltremare.it
X-WR-CALDESC:Eventi per Mostra d&#039;Oltremare
REFRESH-INTERVAL;VALUE=DURATION:PT1H
X-Robots-Tag:noindex
X-PUBLISHED-TTL:PT1H
BEGIN:VTIMEZONE
TZID:UTC
BEGIN:STANDARD
TZOFFSETFROM:+0000
TZOFFSETTO:+0000
TZNAME:UTC
DTSTART:20190101T000000
END:STANDARD
END:VTIMEZONE
BEGIN:VEVENT
DTSTART;TZID=UTC:20200208T103000
DTEND;TZID=UTC:20200216T203000
DTSTAMP:20260425T211706
CREATED:20241008T195934Z
LAST-MODIFIED:20241008T195934Z
UID:24567-1581157800-1581885000@mostradoltremare.it
SUMMARY:Nauticsud 2020 - 47^ edizione
DESCRIPTION:Salone Internazionale della Nautica da diporto. Yacht\, gozzi\, gommoni\, motori marini\, accessori per la nautica\, vela\, canoe\, moto d’acqua\, servizi. Orari: dal lunedì al giovedì = 12\,30-19\,00 – venerdì\, sabato e domenica = 10\,30-20\,30 Eventi collaterali presso Padiglione 10: “Fisco e Nautica” il 10 febbraio ore 15\,00; “Marine Litter e i danni irreversibili della plastica in mare” l’11 febbraio ore 15\,00; “Aree marine protette” il 12 febbraio ore 15\,00; “E’ vela in Campania” il 13 febbraio ore 17\,00. Nauticsud Award 2020 – con ingresso ad inviti presso Teatro Mediterraneo\, 13 febbraio ore 20\,00. Ingressi Piazzale Tecchio\, Viale Kennedy 54 e Via Terracina 197 Prezzo biglietto intero Euro 10\,00 – in vendita anche online su www.etes.it e su www.nauticsudofficial.it. Saranno applicati diritti di prevendita. Prezzo ridotto scolaresche Euro 6\,00. Omaggio per Bambini under 12.
URL:https://mostradoltremare.it/event/nauticsud-2020-47-edizione/
LOCATION:Padiglioni 1\,2\,3\,3B\,4\,5\,6\,10+area 28 Fontane\, Piazzale Tecchio e Viale Kennedy\, Napoli\, 80125
CATEGORIES:Fiera
ATTACH;FMTTYPE=image/png:https://mostradoltremare.it/wp-content/uploads/2024/10/24567_image_nauticsud-2020.png
ORGANIZER;CN="AFINA e Mostra d Oltremare":MAILTO:segreteria@afina.it
END:VEVENT
BEGIN:VEVENT
DTSTART;TZID=UTC:20200221T140000
DTEND;TZID=UTC:20200222T200000
DTSTAMP:20260425T211706
CREATED:20241008T200017Z
LAST-MODIFIED:20241008T200017Z
UID:24571-1582293600-1582401600@mostradoltremare.it
SUMMARY:Sport Expo 2020
DESCRIPTION:Area espositiva\, seminari\, conferenze\, interviste. Orari di apertura al pubblico: venerdì 21 febbraio dalle 14\,00 alle 20\,00; sabato 22 febbraio dalle 9\,00 alle 20\,00. Prevista il sabato mattina alle ore 11\,00 la maratona per famiglie\, “Family Run & Friends” all’interno della Mostra. Per iscrizioni: www.napolirunning.com – expo@napolirunning.com; info@napolirunning.com INGRESSO GRATUITO    
URL:https://mostradoltremare.it/event/sport-expo-2020/
LOCATION:Padiglione 3B ed aree esterne\, Napoli\, NA\, 80125\, Italia
CATEGORIES:Fiera,Parco,Sportivo
ATTACH;FMTTYPE=image/jpeg:https://mostradoltremare.it/wp-content/uploads/2024/10/24571_image_sport-expo-2020.jpg
ORGANIZER;CN="NAPOLI RUNNING SRL":MAILTO:info@napolirunning.com
END:VEVENT
END:VCALENDAR