BEGIN:VCALENDAR
VERSION:2.0
PRODID:-//Mostra d&#039;Oltremare - ECPv6.15.20//NONSGML v1.0//EN
CALSCALE:GREGORIAN
METHOD:PUBLISH
X-ORIGINAL-URL:https://mostradoltremare.it
X-WR-CALDESC:Eventi per Mostra d&#039;Oltremare
REFRESH-INTERVAL;VALUE=DURATION:PT1H
X-Robots-Tag:noindex
X-PUBLISHED-TTL:PT1H
BEGIN:VTIMEZONE
TZID:UTC
BEGIN:STANDARD
TZOFFSETFROM:+0000
TZOFFSETTO:+0000
TZNAME:UTC
DTSTART:20220101T000000
END:STANDARD
END:VTIMEZONE
BEGIN:VTIMEZONE
TZID:UTC
BEGIN:STANDARD
TZOFFSETFROM:+0000
TZOFFSETTO:+0000
TZNAME:UTC
DTSTART:20220101T000000
END:STANDARD
END:VTIMEZONE
BEGIN:VEVENT
DTSTART;TZID=UTC:20230522T100000
DTEND;TZID=UTC:20230524T180000
DTSTAMP:20260423T123326
CREATED:20241002T080242Z
LAST-MODIFIED:20241002T105906Z
UID:20590-1684749600-1684951200@mostradoltremare.it
SUMMARY:TUTTOPIZZA 2023 - 6^ edizione
DESCRIPTION:Salone Internazionale della Pizza\, con Master Class\, Trofeo Tuttopizza\, Seminari e Convegni.\nManifestazione B2B riservata agli operatori di settore del business pizza. Partecipazione previa iscrizione al sito https://tuttopizzaexpo.com/i-visitatori/\nIngresso Viale Kennedy
URL:https://mostradoltremare.it/event/tuttopizza-2023-6-edizione/
LOCATION:Padiglioni 4\, 5 e 6\, Viale Kennedy 54\,P.le Tecchio.
CATEGORIES:Fiera
ATTACH;FMTTYPE=image/png:https://mostradoltremare.it/wp-content/uploads/2024/10/20590_image_tuttopizza-2023.png
ORGANIZER;CN="SQUISITO EVENTI SRLS":MAILTO:segreteria@tuttohotel.info
END:VEVENT
BEGIN:VEVENT
DTSTART;TZID=UTC:20230909T100000
DTEND;TZID=UTC:20230917T220000
DTSTAMP:20260423T123326
CREATED:20241002T111045Z
LAST-MODIFIED:20241002T111102Z
UID:22365-1694253600-1694988000@mostradoltremare.it
SUMMARY:FESTIVAL DELL'ORIENTE - NAPOLI INCONTRA IL MONDO 2023
DESCRIPTION:Musiche\, colori\, folklore\, artigianato\, gastronomia\, arte…. Un unico biglietto per tanti festival.\nLa manifestazione si effettua solo nei weekend 9-10 e 16-17 settembre 2023. Orario continuato 10\,00-22\,00.\nIngressi Piazzale Tecchio e Viale Kennedy fra i padiglioni 5 e 6. \nINFORMAZIONI VISITATORI
URL:https://mostradoltremare.it/event/festival-delloriente-napoli-incontra-il-mondo-2023/
LOCATION:Padiglioni 1-2-3-3B-4-5-6-Viale 28 Fontane-Piazzale antistante Teatro Mediterraneo-area Fontana Esedra\, Piazzale Tecchio\, Napoli\, 80125
CATEGORIES:Fiera
ATTACH;FMTTYPE=image/jpeg:https://mostradoltremare.it/wp-content/uploads/2024/10/22365_image_oriente-2023-napoli.jpg
ORGANIZER;CN="Idee in fiera s.r.l.":MAILTO:staff@festivaldelloriente_net
END:VEVENT
BEGIN:VEVENT
DTSTART;TZID=UTC:20231026T103000
DTEND;TZID=UTC:20231029T213000
DTSTAMP:20260423T123326
CREATED:20241002T125526Z
LAST-MODIFIED:20241002T125547Z
UID:22467-1698316200-1698615000@mostradoltremare.it
SUMMARY:TUTTOSPOSI 2023 - 34^ edizione
DESCRIPTION:Fiera internazionale del wedding.\nUnico Ingresso Piazzale Tecchio.\nPrezzo biglietto 1 giorno singolo: Euro 10\,00 – Prezzo abbonamento 4 giorni: Euro 15\,00.  Acquisto online al seguente link https://tuttosposi.it/prezzi-e-orari/\nPer info\, programma\, ecc. cliccare al seguente link L’evento \nL’evento \nPer esporre in fiera: Diventa Espositore – TUTTOSPOSI – Fiera del Wedding
URL:https://mostradoltremare.it/event/tuttosposi-2023-34-edizione/
LOCATION:Padiglioni 1-2-3B e reception padiglione 1\, Piazzale Tecchio\, Napoli\, 80125
CATEGORIES:Fiera
ATTACH;FMTTYPE=image/png:https://mostradoltremare.it/wp-content/uploads/2024/10/22467_image_tuttosposi-2023.png
ORGANIZER;CN="VENTIEVENTI SRL":MAILTO:info@tuttosposi.it
END:VEVENT
BEGIN:VEVENT
DTSTART;TZID=UTC:20231108T080000
DTEND;TZID=UTC:20231110T140000
DTSTAMP:20260423T123326
CREATED:20241002T210833Z
LAST-MODIFIED:20241002T210846Z
UID:22837-1699430400-1699624800@mostradoltremare.it
SUMMARY:ORIENTASUD 2023 - 24^ edizione
DESCRIPTION:Il salone delle opportunità.\nIngresso Piazzale Tecchio
URL:https://mostradoltremare.it/event/orientasud-2023-24-edizione/
LOCATION:Padiglione 10 e Sala Italia\, Piazzale Tecchio\, Napoli
CATEGORIES:Fiera
ATTACH;FMTTYPE=image/jpeg:https://mostradoltremare.it/wp-content/uploads/2024/10/22837_image_orientasud.jpg
ORGANIZER;CN="All Social srl":MAILTO:segreteria@orientasud.it
END:VEVENT
BEGIN:VEVENT
DTSTART;TZID=UTC:20231110T080000
DTEND;TZID=UTC:20231213T170000
DTSTAMP:20260423T123326
CREATED:20231106T111427Z
LAST-MODIFIED:20231114T194859Z
UID:484-1699603200-1702486800@mostradoltremare.it
SUMMARY:CREATTIVA NAPOLI 2023
DESCRIPTION:Manifestazione dedicata a bricolage\, hobbistica\, arti manuali. Area Expo\, corsi\, dimostrazioni. \nIngresso Viale Kennedy 54. \nOrari: venerdì e sabato 10\,00-19\,00 – domenica 10\,00-18\,30 \n 
URL:https://mostradoltremare.it/event/creattiva-napoli-2023-12-edizione/
LOCATION:Padiglioni 5-6 e Piscina\, Viale Kennedy 54\, Napoli\, 80125
CATEGORIES:Fiera
ATTACH;FMTTYPE=image/jpeg:https://mostradoltremare.it/wp-content/uploads/2023/11/napoli-creattiva-official-10-12-novembre-2023-e1699991310520.jpg
ORGANIZER;CN="PROMOBERG srl":MAILTO:creattiva@promoberg.it
END:VEVENT
BEGIN:VEVENT
DTSTART;TZID=UTC:20231125T100000
DTEND;TZID=UTC:20231126T200000
DTSTAMP:20260423T123326
CREATED:20231106T111047Z
LAST-MODIFIED:20231114T194911Z
UID:476-1700906400-1701028800@mostradoltremare.it
SUMMARY:FIERA DEL BARATTO E DELL'USATO
DESCRIPTION:La cultura del riciclo.
URL:https://mostradoltremare.it/event/fiera-del-baratto-e-dellusato-52-edizione/
LOCATION:Padiglioni 1-2-3-3B
CATEGORIES:Fiera
ATTACH;FMTTYPE=image/jpeg:https://mostradoltremare.it/wp-content/uploads/2023/11/20170308_093301.jpg
END:VEVENT
BEGIN:VEVENT
DTSTART;TZID=UTC:20231201T093000
DTEND;TZID=UTC:20231203T183000
DTSTAMP:20260423T123326
CREATED:20241002T212048Z
LAST-MODIFIED:20241002T212102Z
UID:22874-1701423000-1701628200@mostradoltremare.it
SUMMARY:ARKEDA 2023 - 10^ edizione
DESCRIPTION:Mostra Convegno di Architettura Edilizia Design.\nIngresso Viale Kennedy 54.\nRegistrazione visitatori: https://arkeda.it/accredito-visitatori/
URL:https://mostradoltremare.it/event/arkeda-2023-10-edizione/
LOCATION:Padiglioni 4\, 5 e 6\, Viale Kennedy 54\,P.le Tecchio.
CATEGORIES:Fiera
ATTACH;FMTTYPE=image/png:https://mostradoltremare.it/wp-content/uploads/2024/10/22874_image_arkeda.png
ORGANIZER;CN="Progecta s.r.l.":MAILTO:info@pharmexpo.it
END:VEVENT
BEGIN:VEVENT
DTSTART;TZID=UTC:20231208T110000
DTEND;TZID=UTC:20231217T220000
DTSTAMP:20260423T123326
CREATED:20241002T212253Z
LAST-MODIFIED:20241002T212305Z
UID:22885-1702033200-1702850400@mostradoltremare.it
SUMMARY:SAY WOW!
DESCRIPTION:House of Luxury. La special sale dei top brand fino a -90%!\nIngresso Piazzale Tecchio\nBiglietti su https://www.saywow.me/it-it/login
URL:https://mostradoltremare.it/event/say-wow/
LOCATION:Padiglione 10\, Piazzale Tecchio\, Napoli\, 80125
CATEGORIES:Fiera
ATTACH;FMTTYPE=image/png:https://mostradoltremare.it/wp-content/uploads/2024/10/22885_image_say-wow-private-sales.png
ORGANIZER;CN="Say Wow srl":MAILTO:hello@saywow_me
END:VEVENT
BEGIN:VEVENT
DTSTART;TZID=UTC:20231214T093000
DTEND;TZID=UTC:20231215T173000
DTSTAMP:20260423T123326
CREATED:20241002T212440Z
LAST-MODIFIED:20241002T212547Z
UID:22895-1702546200-1702661400@mostradoltremare.it
SUMMARY:SMAU NAPOLI 2023
DESCRIPTION:In scena le eccellenze innovative campane.\nRegistrazione visitatori al seguente link: https://www.smau.it/napoli/visitatore/login
URL:https://mostradoltremare.it/event/smau-napoli-2023/
LOCATION:Padiglione 6
CATEGORIES:Fiera
ATTACH;FMTTYPE=image/jpeg:https://mostradoltremare.it/wp-content/uploads/2024/10/22895_image_smau-2023.jpg
ORGANIZER;CN="Smau Servizi s.r.l.":MAILTO:contact@smau_it
END:VEVENT
BEGIN:VEVENT
DTSTART;TZID=UTC:20240115T100000
DTEND;TZID=UTC:20240117T180000
DTSTAMP:20260423T123326
CREATED:20241002T115541Z
LAST-MODIFIED:20241002T115612Z
UID:22429-1705312800-1705514400@mostradoltremare.it
SUMMARY:TUTTOHOTEL 2024 - 4^ edizione
DESCRIPTION:Salone dell’ospitalità mediterranea. Fiera per Hotel\, B&B e strutture ricettive. Mostre espositive Ecohospitality e B&BexpoDesign. 2^ edizione dei Tuttohotel Awards. Convegni e seminari\nPer i visitatori registrazione obbligatoria su: https://www.tuttohotel.info/visitatori\nIngresso Piazzale Tecchio
URL:https://mostradoltremare.it/event/tuttohotel-2024-4-edizione/
LOCATION:Padiglione 10\, Piazzale Tecchio\, Napoli\, 80125
CATEGORIES:Fiera
ATTACH;FMTTYPE=image/jpeg:https://mostradoltremare.it/wp-content/uploads/2024/10/22429_image_tuttohotel-2024-ospitalita.jpg
ORGANIZER;CN="SQUISITO EVENTI SRLS":MAILTO:segreteria@tuttohotel.info
END:VEVENT
BEGIN:VEVENT
DTSTART;TZID=UTC:20240210T103000
DTEND;TZID=UTC:20240218T203000
DTSTAMP:20260423T123326
CREATED:20241002T183822Z
LAST-MODIFIED:20241002T183912Z
UID:22643-1707561000-1708288200@mostradoltremare.it
SUMMARY:NAUTICSUD 2024 - 50^ edizione
DESCRIPTION:Salone internazionale della nautica da diporto. Imbarcazioni\, gommoni\, gozzi\, motori\, accessori\, servizi.\nConvegni Stati Generali della Nautica da Diporto nei giorni 10\, 12\, 13\, 14 e 16 febbraio 2024 presso sala E del padiglione 10. Convegno della F.I.V. “E’ vela in Campania” il 15 febbraio 2024 ore 17\,00 presso la Sala Italia del Teatro Mediterraneo.\nOrari di apertura: dal lunedì al giovedì 12\,30-19\,00 – venerdì\, sabato e domenica 10\,30-20\,30.\nIngressi Piazzale Tecchio e Viale Kennedy.
URL:https://mostradoltremare.it/event/nauticsud-2024-50-edizione/
LOCATION:Padiglioni 1-2-3-3B-4-5-6-10-aree esterne
CATEGORIES:Fiera
ATTACH;FMTTYPE=image/png:https://mostradoltremare.it/wp-content/uploads/2024/10/22643_image_nauticsud-logo.png
END:VEVENT
BEGIN:VEVENT
DTSTART;TZID=UTC:20240314T100000
DTEND;TZID=UTC:20240316T180000
DTSTAMP:20260423T123326
CREATED:20241002T185129Z
LAST-MODIFIED:20241002T185216Z
UID:22685-1710410400-1710612000@mostradoltremare.it
SUMMARY:BMT 2024 - 27^ edizione
DESCRIPTION:Area espositiva\, workshop\, incontri B2B\, convegni\, presentazioni.\nRegistrazione obbligatoria su https://bmtnapoli.com/accredito-visitatori/\nIngresso Viale Kennedy 54
URL:https://mostradoltremare.it/event/bmt-2024-27-edizione/
LOCATION:Padiglioni 3\, 3B\, 4\, 5 e 6\, Viale Kennedy 54\, Napoli\, 80125
CATEGORIES:Fiera
ATTACH;FMTTYPE=image/jpeg:https://mostradoltremare.it/wp-content/uploads/2024/10/22685_image_bmt-2024-marzo.jpg
ORGANIZER;CN="PROGECTA SRL":MAILTO:info@progecta.org
END:VEVENT
BEGIN:VEVENT
DTSTART;TZID=UTC:20240406T100000
DTEND;TZID=UTC:20240407T200000
DTSTAMP:20260423T123326
CREATED:20241002T190343Z
LAST-MODIFIED:20241002T190423Z
UID:22713-1712397600-1712520000@mostradoltremare.it
SUMMARY:FIERA DEL BARATTO E DELL'USATO 2024 - 53^ edizione
DESCRIPTION:Collezionismo\, modernariato\, antiquariato\, artigianato manufatto\, abbigliamento vintage e il vasto settore del “di tutto di più”.\nInfoline 08118206507 – 3923729728\nIngresso Piazzale Tecchio.\nIl costo del biglietto è di 5 euro presso le biglietterie della Mostra d’Oltremare. L’ingresso è gratuito per i bambini sotto i 12 anni e per gli adulti sopra i 70.\nE’ possibile acquistare biglietti online su www.webtic.it
URL:https://mostradoltremare.it/event/fiera-del-baratto-e-dellusato-2024-53-edizione/
LOCATION:Padiglioni 1-2-3-3B\, Piazzale Tecchio\, Napoli\, 80125\, Italia
CATEGORIES:Fiera
ATTACH;FMTTYPE=image/png:https://mostradoltremare.it/wp-content/uploads/2024/10/22713_image_baratto-aprile.png
ORGANIZER;CN="Bidonville 2.0 sas di Consiglia Auletta":MAILTO:bidon@bidonville.org
END:VEVENT
BEGIN:VEVENT
DTSTART;TZID=UTC:20240413T100000
DTEND;TZID=UTC:20240414T190000
DTSTAMP:20260423T123326
CREATED:20241002T191120Z
LAST-MODIFIED:20241002T191154Z
UID:22740-1713002400-1713121200@mostradoltremare.it
SUMMARY:QUATTROZAMPEINFIERA 2024 - 10^ edizione
DESCRIPTION:Il mondo a misura di cane e gatto.\nPer visitare la manifestazione\, si prega consultare il BAU DECALOGO al link https://www.quattrozampeinfiera.it/it/bau-decalogo.html\nIngresso Viale Kennedy
URL:https://mostradoltremare.it/event/quattrozampeinfiera-2024-10-edizione/
LOCATION:Padiglioni 5-6 e Laghetto Fasilides – Napoli\, 80125
CATEGORIES:Fiera
ATTACH;FMTTYPE=image/jpeg:https://mostradoltremare.it/wp-content/uploads/2024/10/22740_image_quattrozampeinfiera-2024.jpg
END:VEVENT
BEGIN:VEVENT
DTSTART;TZID=UTC:20240425T100000
DTEND;TZID=UTC:20240428T190000
DTSTAMP:20260423T123326
CREATED:20241002T191239Z
LAST-MODIFIED:20241002T191331Z
UID:22748-1714039200-1714330800@mostradoltremare.it
SUMMARY:COMICON 2024 - 24^edizione
DESCRIPTION:Orari di apertura al pubblico dalle 10:00 alle 19:00\nIngresso Piazzale Tecchio per abbonati\, accreditati\, biglietti giornalieri\, disabili ed accessi prioritari. Ingresso Viale Kennedy solo per gli accreditati. Ingresso Viale delle Palme per abbonati\, biglietti giornalieri\, accreditati ed accessi prioritari. Ingresso via Terracina per abbonati\, biglietti giornalieri\, accreditati e scuole. Ingresso Viale Marconi per accreditati e scuole.\nL’accesso è consentito solo con Documento d’Identità con foto (Passaporto\, Carta d’Identità\, Patente) . Per bambini non muniti di Carta d’identità si accetta una foto autenticata al Comune.\nBiglietti ed abbonamenti esauriti –\nPer info sugli accessi e gli omaggi per i disabili\, scrivere a inclusione@comicon.it.\nPer una maggiore tutela degli amici a quattro zampe\, l’ingresso ai cani non è consentito\, neppure a quelli di piccola taglia a causa dell’elevato numero di persone che affollano la manifestazione.
URL:https://mostradoltremare.it/event/comicon-2024-24edizione/
LOCATION:Padiglioni 1\,2\,3\,3B\,4\,5\,6\,10\, Teatro Mediterraneo\, Sala Italia\, aree esterne
CATEGORIES:Fiera
ATTACH;FMTTYPE=image/jpeg:https://mostradoltremare.it/wp-content/uploads/2024/10/22748_image_comicons.jpg
END:VEVENT
BEGIN:VEVENT
DTSTART;TZID=UTC:20240508T093000
DTEND;TZID=UTC:20240510T153000
DTSTAMP:20260423T123326
CREATED:20241002T191521Z
LAST-MODIFIED:20241002T191541Z
UID:22760-1715160600-1715355000@mostradoltremare.it
SUMMARY:FUTURIAMO 2024 - 1^ edizione
DESCRIPTION:“Futuriamo: orientarsi oggi\, nel mondo del domani” . Manifestazione dedicata al Mondo dei giovani e degli studenti in cerca della giusta conoscenza per costruire il proprio futuro. Quattro le aree tematiche: sport\, arte e spettacolo\, turismo\, nuove tecnologie e terzo settore.\nContatti: 3501846107 – info@futuriamo.it\nRegistrazione partecipanti su www.futuriamo.it.\nIngresso Piazzale Tecchio
URL:https://mostradoltremare.it/event/futuriamo-2024-1-edizione/
LOCATION:Padiglione 10\, Piazzale Tecchio\, Napoli\, 80125
CATEGORIES:Fiera
ATTACH;FMTTYPE=image/jpeg:https://mostradoltremare.it/wp-content/uploads/2024/10/22760_image_FUTURIAMO-2024.jpg
ORGANIZER;CN="JOB-ROAD-ACADEMY-SOC-COOP-ARL":MAILTO:info@jroadacademy_com
END:VEVENT
BEGIN:VEVENT
DTSTART;TZID=UTC:20240511T093000
DTEND;TZID=UTC:20240512T180000
DTSTAMP:20260423T123326
CREATED:20241002T191750Z
LAST-MODIFIED:20241002T191807Z
UID:22772-1715419800-1715536800@mostradoltremare.it
SUMMARY:SIFERR 2024 - 4^ edizione
DESCRIPTION:Salone Internazionale della Ferramenta\, Colori\, Giardinaggio e Sicurezza\, riservata a professionisti ed operatori dotati di partita IVA.\nRegistrazione visitatori su http://www.siferr.com/it/partecipa_evento.aspx\nOrari: sabato 9\,30-18\,30; domenica 9\,30-18\,00.\ningresso Viale Kennedy 54
URL:https://mostradoltremare.it/event/siferr-2024-4-edizione/
LOCATION:Padiglioni 6-5-4-3\, Viale Kennedy 54\, Napoli\, NA\, 80125\, Italia
CATEGORIES:Fiera
ATTACH;FMTTYPE=image/jpeg:https://mostradoltremare.it/wp-content/uploads/2024/10/22772_image_siferr-2024.jpg
ORGANIZER;CN="MA.MU. Marketing Multimediale SRL":MAILTO:eventi@iferronline.com
END:VEVENT
BEGIN:VEVENT
DTSTART;TZID=UTC:20240520T100000
DTEND;TZID=UTC:20240522T180000
DTSTAMP:20260423T123326
CREATED:20241003T153057Z
LAST-MODIFIED:20241003T153151Z
UID:23457-1716199200-1716400800@mostradoltremare.it
SUMMARY:TUTTOPIZZA 2024 - 7^ edizione
DESCRIPTION:Salone internazionale del settore della filiera della pizza. Fiera professionale riservata agli operatori\,  Tuttopizza offre l’opportunità ai fornitori di materie prime\, semilavorati\, attrezzature\, impianti\, accessori e servizi per la ristorazione e il settore pizza\, di farsi conoscere e vendere i propri prodotti a pizzaioli\, ristoratori e operatori interessati a questo segmento di mercato.\nIngresso Gratuito con Registrazione su  https://tuttopizzaexpo.com/i-visitatori/
URL:https://mostradoltremare.it/event/tuttopizza-2024-7-edizione/
LOCATION:Padiglioni 3\, 3B\, 4\, 5 e 6\, Viale Kennedy 54\, Napoli\, 80125
CATEGORIES:Fiera
ATTACH;FMTTYPE=image/png:https://mostradoltremare.it/wp-content/uploads/2024/10/23457_image_tuttopizza-2024.png
ORGANIZER;CN="Squisito Eventi srls":MAILTO:info@tuttopizzaexpo.com
END:VEVENT
BEGIN:VEVENT
DTSTART;TZID=UTC:20240601T093000
DTEND;TZID=UTC:20240603T170000
DTSTAMP:20260423T123326
CREATED:20241003T161908Z
LAST-MODIFIED:20241003T161942Z
UID:23514-1717234200-1717434000@mostradoltremare.it
SUMMARY:MED ITALY 2024 - 2^ edizione
DESCRIPTION:Evening Dress Makers Exhibition. Abiti ed accessori moda. Un appuntamento con l’eleganza che mira alla Valorizzazione e alla Promozione del Made in Italy .\nPer partecipare come visitatore\, iscriversi al seguente link: Med Italy 2024 – idloom.events \nOrario apertura: \nSabato 1 e Domenica 2 Giugno 2024\nore 9.30 alle ore 18.30 \nLunedì 3 Giugno 2024\nore 9.30 alle ore 17.00
URL:https://mostradoltremare.it/event/med-italy-2024-2-edizione/
LOCATION:Padiglioni 5 e 6
CATEGORIES:Fiera
ATTACH;FMTTYPE=image/jpeg:https://mostradoltremare.it/wp-content/uploads/2024/10/20710_image_med-italy.jpg
END:VEVENT
BEGIN:VEVENT
DTSTART;TZID=UTC:20240616T100000
DTEND;TZID=UTC:20240616T235900
DTSTAMP:20260423T123326
CREATED:20241003T202227Z
LAST-MODIFIED:20241003T202244Z
UID:23644-1718532000-1718582340@mostradoltremare.it
SUMMARY:SOUTH MARKET VILLAGE
DESCRIPTION:Dalle 10\,00 alle 21\,00 Market – Dalle 21\,00 alle 24\,00 Music after Market.\nArea mercato\, area bimbi\, area giochi\, area basket\, area live performance e DJ Set.\nIngresso Via Marconi
URL:https://mostradoltremare.it/event/south-market-village/
LOCATION:Giardino dei Cedri\, Via Marconi\, Napoli\, 80125
CATEGORIES:Fiera
ATTACH;FMTTYPE=image/jpeg:https://mostradoltremare.it/wp-content/uploads/2024/10/23644_image_rettangolare-South-Market-Village.jpeg
END:VEVENT
BEGIN:VEVENT
DTSTART;TZID=UTC:20241025T103000
DTEND;TZID=UTC:20241028T213000
DTSTAMP:20260423T123326
CREATED:20241015T170559Z
LAST-MODIFIED:20241025T121655Z
UID:26966-1729852200-1730151000@mostradoltremare.it
SUMMARY:TUTTOSPOSI 2024 - 35^ edizione
DESCRIPTION:Area espositiva\, sfilate\, consulenze.\nIngresso Piazzale Tecchio
URL:https://mostradoltremare.it/event/tuttosposi-2024-35-edizione/
LOCATION:Padiglioni 1-2-3B\, Piazzale Tecchio\, Napoli\, 80125\, Italia
CATEGORIES:Fiera
ATTACH;FMTTYPE=image/png:https://mostradoltremare.it/wp-content/uploads/2024/10/tutto.png
ORGANIZER;CN="VENTIEVENTI SRL":MAILTO:info@tuttosposi.it
END:VEVENT
BEGIN:VEVENT
DTSTART;TZID=UTC:20241117T100000
DTEND;TZID=UTC:20241119T180000
DTSTAMP:20260423T123326
CREATED:20241001T111015Z
LAST-MODIFIED:20241111T142036Z
UID:19793-1731837600-1732039200@mostradoltremare.it
SUMMARY:GUSTUS 2024 - 10^ edizione
DESCRIPTION:Expo dei Sapori Mediterranei. Riservato esclusivamente agli operatori di settore. \nRegistrazione obbligatoria su: Accredito Visitatori – Gustus \nIngresso Viale Kennedy
URL:https://mostradoltremare.it/event/gustus-2024-10-edizione/
LOCATION:Padiglioni 2\, 3 e 3B
CATEGORIES:Fiera
ATTACH;FMTTYPE=image/jpeg:https://mostradoltremare.it/wp-content/uploads/2024/10/gustus.jpg
ORGANIZER;CN="Progecta s.r.l.":MAILTO:info@arkeda.it
END:VEVENT
BEGIN:VEVENT
DTSTART;TZID=UTC:20241117T110000
DTEND;TZID=UTC:20241117T190000
DTSTAMP:20260423T123326
CREATED:20241015T170739Z
LAST-MODIFIED:20241111T141848Z
UID:26970-1731841200-1731870000@mostradoltremare.it
SUMMARY:KICKIT NEX7 NAPOLI
DESCRIPTION:Evento di Streetwear.\nIngresso Piazzale Tecchio.\nBiglietto Standard Euro 10\,00; Premium Pack Euro 20\,00 – acquistabili SU KICKIT® | L’Evento N°1 in Italia di Street-Culture! Market\, Streetwear\, Sneakers & Sport. \n 
URL:https://mostradoltremare.it/event/kickit-napoli/
LOCATION:Padiglione 10\, Piazzale Tecchio\, Napoli\, 80125
CATEGORIES:Fiera
ATTACH;FMTTYPE=image/jpeg:https://mostradoltremare.it/wp-content/uploads/2024/10/26970_image_kickit.jpg
END:VEVENT
BEGIN:VEVENT
DTSTART;TZID=UTC:20241126T090000
DTEND;TZID=UTC:20241127T133000
DTSTAMP:20260423T123326
CREATED:20241001T110013Z
LAST-MODIFIED:20241111T140906Z
UID:19783-1732611600-1732714200@mostradoltremare.it
SUMMARY:SALONE DELLO STUDENTE 2024
DESCRIPTION:Orientamento universitario\, formativo e professionale post diploma e post laurea. \nL’ingresso al Salone è libero e gratuito. Necessaria l’iscrizione online. \nIn linea con le nuove direttive emanate dal MIUR in materia di Alternanza scuola-lavoro\, la partecipazione al Salone dello Studente\, sia in presenza fisica sia in digitale\, è valida ai fini dell’ottenimento dei crediti PCTO. Per stipulare una convenzione\,  scrivere a salonedellostudente@class.it  oppure contattare il Team Scuole ai seguenti numeri: 0258219329-0258219360-0258219732. \nIngresso Piazzale Tecchio.
URL:https://mostradoltremare.it/event/salone-dello-studente-campus-orienta-2024/
LOCATION:Padiglione 10
CATEGORIES:Fiera
ATTACH;FMTTYPE=image/jpeg:https://mostradoltremare.it/wp-content/uploads/2024/10/campus-rettangolare.jpg
END:VEVENT
BEGIN:VEVENT
DTSTART;TZID=UTC:20241203T093000
DTEND;TZID=UTC:20241205T183000
DTSTAMP:20260423T123326
CREATED:20241127T140116Z
LAST-MODIFIED:20241202T104218Z
UID:29443-1733218200-1733423400@mostradoltremare.it
SUMMARY:VERSO IL LAVORO 2024
DESCRIPTION:Opportunità per chi è alla ricerca di un impiego\, sia per candidarsi a nuove posizioni\, sia per potenziare le proprie competenze. Manifestazione aperta a un pubblico vasto\, senza limiti d’età\, accessibile a giovani laureati\, professionisti in cerca di nuove sfide e chiunque desideri reinserirsi nel mercato del lavoro. \nPrenotazione colloqui sul sito del Comune di Napoli al link sotto indicato. \nUNICO INGRESSO PIAZZALE TECCHIO \n 
URL:https://mostradoltremare.it/event/verso-il-lavoro-2024/
LOCATION:Sala Marco Polo (Ristorante della Piscina Piano Superiore)
CATEGORIES:Fiera
ATTACH;FMTTYPE=image/jpeg:https://mostradoltremare.it/wp-content/uploads/2024/11/2-2024versoillavoro.jpg
END:VEVENT
BEGIN:VEVENT
DTSTART;TZID=UTC:20250208T103000
DTEND;TZID=UTC:20250216T203000
DTSTAMP:20260423T123326
CREATED:20250127T084847Z
LAST-MODIFIED:20250210T094005Z
UID:30768-1739010600-1739737800@mostradoltremare.it
SUMMARY:NAUTICSUD 2025 - 51^ edizione
DESCRIPTION:il Salone offre un’occasione unica per scoprire le ultime tecnologie\, imbarcazioni di lusso e le nuove tendenze del mondo nautico. \nIngressi Piazzale Tecchio e Viale Kennedy. \nOrari: dal lunedì al giovedì 12\,30-19\,00;  venerdì\, sabato e domenica 10\,30-20\,30. \nPrezzi biglietti: \n-Biglietto intero visitatore €/cad. 15\,00 \n-Biglietto OnLine €/cad. 15\,00 + 2\,00 prevendita \n-Biglietto scolaresche €/cad. 8\,00 \n-Under 10 – omaggio \n-Biglietto ridotto under 16 €/cad. 10\,00 \n-Biglietto ridotto under 16 OnLine €/cad. 10\,00 + 2\,00 prevendita \n-Biglietto accompagnatore visitatore non autosufficiente: Omaggio \nDi seguito il link attivato per la vendita online: \nhttps://bit.ly/Nauticsud2025 \n  \n  \n 
URL:https://mostradoltremare.it/event/nauticsud-2025-51-edizione/
LOCATION:Padiglioni 1-2-3-3B-4-5-6-10-aree esterne
CATEGORIES:Fiera
ATTACH;FMTTYPE=image/jpeg:https://mostradoltremare.it/wp-content/uploads/2025/01/nauticsud.jpg
ORGANIZER;CN="AFINA e Mostra d Oltremare":MAILTO:segreteria@afina.it
END:VEVENT
BEGIN:VEVENT
DTSTART;TZID=UTC:20250301T100000
DTEND;TZID=UTC:20250302T183000
DTSTAMP:20260423T123326
CREATED:20241125T112305Z
LAST-MODIFIED:20250206T095442Z
UID:29405-1740823200-1740940200@mostradoltremare.it
SUMMARY:EXVAPO 2025 - 6^ edizione
DESCRIPTION:La fiera dello Svapo del Sud Italia. Produttori\, distributori e rivenditori\, che si sono affermati per professionalità e spirito innovativo nel mondo del vaping\, presentano le novità di mercato. \nManifestazione B2B riservata agli operatori di settore. Registrazione su https://www.exvapo.com/biglietti/ \n  \n  \n  \n 
URL:https://mostradoltremare.it/event/exvapo-2025-6-edizione/
LOCATION:Padiglione 6\, Viale Kennedy 54 e P.le Tecchio –  Napoli\, 80125
CATEGORIES:Fiera
ATTACH;FMTTYPE=image/jpeg:https://mostradoltremare.it/wp-content/uploads/2024/11/475857928_1031430445697863_7832701632506586938_n.jpg
ORGANIZER;CN="Atohm Service srl":MAILTO:info@exvapo.com
END:VEVENT
BEGIN:VEVENT
DTSTART;TZID=UTC:20250313T100000
DTEND;TZID=UTC:20250315T180000
DTSTAMP:20260423T123326
CREATED:20250228T101526Z
LAST-MODIFIED:20250313T083058Z
UID:31372-1741860000-1742061600@mostradoltremare.it
SUMMARY:BMT Borsa Mediterranea del Turismo 2025 - 28^ edizione
DESCRIPTION:La Borsa Mediterranea del Turismo è la più importante fiera b2b del Mediterraneo:\, un appuntamento strategico per gli operatori del settore.\nIl programma si sviluppa durante i 3 giorni di manifestazione iniziando con l’inaugurazione che apre i lavori alla presenza delle Istituzioni e di illustri ospiti e giornalisti. \nArea Espositiva\, convegni\, workshop. \n  \nAccredito visitatori | BMT
URL:https://mostradoltremare.it/event/bmt-borsa-mediterranea-del-turismo-2025-28-edizione/
LOCATION:Padiglioni 3B\, 3\, 4\, 5 e 6 – P.le Tecchio
CATEGORIES:Fiera
ATTACH;FMTTYPE=image/jpeg:https://mostradoltremare.it/wp-content/uploads/2025/02/BMT.jpg
ORGANIZER;CN="PROGECTA SRL":MAILTO:info@progecta.org
END:VEVENT
BEGIN:VEVENT
DTSTART;TZID=UTC:20250321T100000
DTEND;TZID=UTC:20250323T190000
DTSTAMP:20260423T123326
CREATED:20250204T092530Z
LAST-MODIFIED:20250317T141918Z
UID:31130-1742551200-1742756400@mostradoltremare.it
SUMMARY:PESCARE SHOW 2025 - 2^ edizione
DESCRIPTION:Un’occasione unica per immergersi nelle ultime novità del settore\, incontrare esperti e specialisti di diverse tecniche di pesca e partecipare a tante iniziative per tutta la famiglia.  Diverse attività esperienziali e laboratoriali proposte dalla Federazione Italiana Pesca Sportiva ed Attività Subacquee – Fipsas. \nIngresso Piazzale Tecchio \n 
URL:https://mostradoltremare.it/event/pescare-show-2025-2-edizione/
LOCATION:Padiglioni 3 e 3B
CATEGORIES:Fiera
ATTACH;FMTTYPE=image/jpeg:https://mostradoltremare.it/wp-content/uploads/2025/02/pescare-show-2025.jpg
ORGANIZER;CN="Italian Exhibition Group S.p.A":MAILTO:pescareshow@iegexpo.it
END:VEVENT
BEGIN:VEVENT
DTSTART;TZID=UTC:20250324T100000
DTEND;TZID=UTC:20250326T130000
DTSTAMP:20260423T123326
CREATED:20250317T084105Z
LAST-MODIFIED:20250325T101540Z
UID:32465-1742810400-1742994000@mostradoltremare.it
SUMMARY:MEET ITALIAN BRANDS 2025
DESCRIPTION:Fashion event internazionale\, giunto alla sua terza edizione\, dedicato alle produzioni di eccellenza dei settori abbigliamento donna\, uomo\, bambino e accessori\, calzature e pelletteria. \nL’edizione 2025 di Meet Italian Brands aprirà in occasione delle giornate del Made in Italy. Parteciperanno aziende campane di medie e piccole dimensioni\, selezionate dalla Regione Campania attraverso una Manifestazione d’interesse. Prevista la presenza di oltre 100 buyer stranieri provenienti da 35 Paesi e 5 Continenti (America\, Asia\, Emirati Arabi\, Europa e Africa). \nIl progetto coinvolge: Regione Campania\, ITA-ICE – agenzia per l’internazionalizzazione\, Ministero degli Affari Esteri e della Cooperazione Internazionale\, Confindustria Campania e Unione Industriali Napoli\, CIS-Interporto Campano – Nola Business Park\, Mostra d’Oltremare Spa\, Università della Campania Luigi Vanvitelli\, con l’adesione di Confindustria Moda\, Assocalzaturifici\, Museo della Moda Regionale. Previsti talk show in cui addetti del settore e istituzioni potranno confrontarsi e condividere tematiche che fanno riferimento alle leve dello sviluppo del settore quali ricerca\, innovazione\, promozione di nuovi mercati\, sostenibilità ambientale e sociale\, nuove tecnologie\, formazione. \nIngressi: Viale Kennedy\, piazzale Tecchio
URL:https://mostradoltremare.it/event/meet-italian-brands-2025/
LOCATION:Padiglione 6
CATEGORIES:Fiera
ATTACH;FMTTYPE=image/jpeg:https://mostradoltremare.it/wp-content/uploads/2025/03/MIT-2025.jpg
END:VEVENT
END:VCALENDAR