BEGIN:VCALENDAR
VERSION:2.0
PRODID:-//Mostra d&#039;Oltremare - ECPv6.15.20//NONSGML v1.0//EN
CALSCALE:GREGORIAN
METHOD:PUBLISH
X-WR-CALNAME:Mostra d&#039;Oltremare
X-ORIGINAL-URL:https://mostradoltremare.it
X-WR-CALDESC:Eventi per Mostra d&#039;Oltremare
REFRESH-INTERVAL;VALUE=DURATION:PT1H
X-Robots-Tag:noindex
X-PUBLISHED-TTL:PT1H
BEGIN:VTIMEZONE
TZID:UTC
BEGIN:STANDARD
TZOFFSETFROM:+0000
TZOFFSETTO:+0000
TZNAME:UTC
DTSTART:20250101T000000
END:STANDARD
END:VTIMEZONE
BEGIN:VEVENT
DTSTART;TZID=UTC:20260207T103000
DTEND;TZID=UTC:20260215T203000
DTSTAMP:20260421T101406
CREATED:20251217T112447Z
LAST-MODIFIED:20260129T112045Z
UID:51958-1770460200-1771187400@mostradoltremare.it
SUMMARY:NAUTICSUD 2026 - 52^ edizione
DESCRIPTION:Il Salone Nautico NauticSud celebra la sua 52ª edizione\, confermandosi un appuntamento centrale per gli appassionati del mare e della nautica. Nato nel 1974\, l’evento è cresciuto nel corso dei decenni ed è diventando un punto di riferimento per professionisti e aziende leader del settore. Con una tradizione ricca di innovazioni\, il Salone offre un’occasione unica per scoprire le ultime tecnologie\, imbarcazioni di lusso e le nuove tendenze del mondo nautico. \nI giornalisti interessati a visitare la fiera dovranno inviare la richiesta di accredito alla Email segreteriafk@gmail.com. Gli accrediti saranno rilasciati ESCLUSIVAMENTE ai possessori di tesserino dell’Ordine dei Giornalisti da allegare alla domanda\, mentre per cameraman e fotografi freelance la richiesta sarà  valutata dall’ufficio stampa. \nOrari apertura fiera: dal lunedì al giovedì 12\,30-19\,00; dal venerdì alla domenica 10\,30-20\,30. \nPrezzi biglietti: Intero = Euro 15\,00; Ragazzi under 16 = Euro 12\,00; Scolaresche = Euro 8\,00 – Omaggio per bambini under 10 e per accompagnatore di portatore di handicap. \nIngressi: Piazzale Tecchio e Viale Kennedy \n 
URL:https://mostradoltremare.it/event/nauticsud-2026-52-edizione/
LOCATION:Padiglioni 1-2-3-3B-4-5-6-aree esterne
CATEGORIES:Fiera
ATTACH;FMTTYPE=image/jpeg:https://mostradoltremare.it/wp-content/uploads/2025/12/nauticsud2026.jpg
ORGANIZER;CN="AFINA e Mostra d Oltremare":MAILTO:segreteria@afina.it
END:VEVENT
END:VCALENDAR