BEGIN:VCALENDAR
VERSION:2.0
PRODID:-//Mostra d&#039;Oltremare - ECPv6.15.20//NONSGML v1.0//EN
CALSCALE:GREGORIAN
METHOD:PUBLISH
X-WR-CALNAME:Mostra d&#039;Oltremare
X-ORIGINAL-URL:https://mostradoltremare.it
X-WR-CALDESC:Eventi per Mostra d&#039;Oltremare
REFRESH-INTERVAL;VALUE=DURATION:PT1H
X-Robots-Tag:noindex
X-PUBLISHED-TTL:PT1H
BEGIN:VTIMEZONE
TZID:UTC
BEGIN:STANDARD
TZOFFSETFROM:+0000
TZOFFSETTO:+0000
TZNAME:UTC
DTSTART:20160101T000000
END:STANDARD
END:VTIMEZONE
BEGIN:VEVENT
DTSTART;TZID=UTC:20170903T210000
DTEND;TZID=UTC:20170903T233000
DTSTAMP:20260424T042646
CREATED:20241010T143645Z
LAST-MODIFIED:20241010T143645Z
UID:26326-1504472400-1504481400@mostradoltremare.it
SUMMARY:Justice Woman World Tour
DESCRIPTION:Musica elettronica al Noisy Naples Fest con la seconda ed ultima tappa italiana del Live Tour del duo francese. Prezzi biglietti: cavea alta = Euro 35\,00 + diritti di prevendita cavea bassa = Euro 55\,00 + diritti di prevendita Prevendite circuito www.etes.it Apertura cancelli ore 19\,00
URL:https://mostradoltremare.it/event/justice-woman-world-tour/
LOCATION:ARENA FLEGREA\, Via Terracina 197\, Napoli\, 80125
CATEGORIES:Spettacoli
ATTACH;FMTTYPE=image/jpeg:https://mostradoltremare.it/wp-content/uploads/2024/10/26326_image_381-justice_big.jpg
ORGANIZER;CN="Come on Web srl":MAILTO:info@etes.it
END:VEVENT
BEGIN:VEVENT
DTSTART;TZID=UTC:20170925T110000
DTEND;TZID=UTC:20170926T190000
DTSTAMP:20260424T042646
CREATED:20241010T143856Z
LAST-MODIFIED:20241010T143856Z
UID:26341-1506337200-1506452400@mostradoltremare.it
SUMMARY:Trofeo Pulcinella - 3^ edizione
DESCRIPTION:Dopo due edizioni tenutesi ad Acerra\, arriva a Napoli il Trofeo Pulcinella dell’Associazione Mani d’Oro. La competizione internazionale ha come protagonisti 100 pizzaioli\, ciascuno dei quali porta la propria farina ed il proprio impasto. Due le categorie previste: pizza verace napoletana e pizza contemporanea\, conosciuta anche come “canotto”. Due sono le giurie tecniche che valutano le creazioni dei candidati partecipanti. Oltre al voto delle giurie\, prevista anche una votazione online\, collegandosi al sito www.manidoro.pizza\, da poter esprimere entro le ore 14 del 26 settembre. Lunedì 25 settembre dalle 11\,00 alle 21\,00: gara tra i pizzaioli. Martedì 26 settembre dalle 8\,00 alle 19\,00: premiazioni Ingresso: Viale Marconi
URL:https://mostradoltremare.it/event/trofeo-pulcinella-3-edizione/
LOCATION:Sala Marco Polo (Ristorante della Piscina Piano Superiore)
CATEGORIES:Spettacoli
ATTACH;FMTTYPE=image/png:https://mostradoltremare.it/wp-content/uploads/2024/10/26341_image_associazione-manidoro.png
ORGANIZER;CN="Associazione%20Mani%20d%27Oro%20Maestri%20della%20Pizza":MAILTO:info@manidoro_pizza
END:VEVENT
END:VCALENDAR