BEGIN:VCALENDAR
VERSION:2.0
PRODID:-//Mostra d&#039;Oltremare - ECPv6.15.20//NONSGML v1.0//EN
CALSCALE:GREGORIAN
METHOD:PUBLISH
X-WR-CALNAME:Mostra d&#039;Oltremare
X-ORIGINAL-URL:https://mostradoltremare.it
X-WR-CALDESC:Eventi per Mostra d&#039;Oltremare
REFRESH-INTERVAL;VALUE=DURATION:PT1H
X-Robots-Tag:noindex
X-PUBLISHED-TTL:PT1H
BEGIN:VTIMEZONE
TZID:UTC
BEGIN:STANDARD
TZOFFSETFROM:+0000
TZOFFSETTO:+0000
TZNAME:UTC
DTSTART:20180101T000000
END:STANDARD
END:VTIMEZONE
BEGIN:VEVENT
DTSTART;TZID=UTC:20190512T180000
DTEND;TZID=UTC:20190512T223000
DTSTAMP:20260422T161706
CREATED:20241009T144549Z
LAST-MODIFIED:20241009T144617Z
UID:25495-1557684000-1557700200@mostradoltremare.it
SUMMARY:Saggio del Centro Tersicoreo Campano
DESCRIPTION:Ingresso ad inviti.
URL:https://mostradoltremare.it/event/saggio-del-centro-tersicoreo-campano/
LOCATION:Teatro Mediterraneo e Piazzale antistante\, Viale J.F.Kennedy 54\, Napoli\, 80125
CATEGORIES:Spettacoli
END:VEVENT
BEGIN:VEVENT
DTSTART;TZID=UTC:20190514T203000
DTEND;TZID=UTC:20190514T235900
DTSTAMP:20260422T161706
CREATED:20241009T144646Z
LAST-MODIFIED:20241009T144704Z
UID:25499-1557865800-1557878340@mostradoltremare.it
SUMMARY:Saggio ASD Formazione Danza Accademia Normanna
DESCRIPTION:ad inviti.\nIngresso Viale Kennedy
URL:https://mostradoltremare.it/event/saggio-asd-formazione-danza-accademia-normanna/
LOCATION:Teatro Mediterraneo e Piazzale antistante\, Viale J.F.Kennedy 54\, Napoli\, 80125
CATEGORIES:Spettacoli
ORGANIZER;CN="ASD FORMAZIONE DANZA ACCADEMIA NORMANNA":MAILTO:accademia.normanna@libero.it
END:VEVENT
BEGIN:VEVENT
DTSTART;TZID=UTC:20190516T203000
DTEND;TZID=UTC:20190516T235900
DTSTAMP:20260422T161706
CREATED:20241009T144937Z
LAST-MODIFIED:20241009T144954Z
UID:25512-1558038600-1558051140@mostradoltremare.it
SUMMARY:Saggio ASD Progetto Danza
DESCRIPTION:Spettacolo ad inviti.\nIngresso Viale Kennedy 54
URL:https://mostradoltremare.it/event/saggio-asd-progetto-danza/
LOCATION:Teatro Mediterraneo e Piazzale antistante\, Viale J.F.Kennedy 54\, Napoli\, 80125
CATEGORIES:Spettacoli
ATTACH;FMTTYPE=image/jpeg:https://mostradoltremare.it/wp-content/uploads/2024/10/20825_image_progetto-danza.jpg
ORGANIZER;CN="ASD Progetto Danza":MAILTO:progetto.danza95@libero.it
END:VEVENT
BEGIN:VEVENT
DTSTART;VALUE=DATE:20190518
DTEND;VALUE=DATE:20190519
DTSTAMP:20260422T161706
CREATED:20241009T145256Z
LAST-MODIFIED:20241009T145316Z
UID:25524-1558137600-1558223999@mostradoltremare.it
SUMMARY:Saggio ASD Centro Studi Danza Dance Art Project
DESCRIPTION:Ingresso ad inviti
URL:https://mostradoltremare.it/event/saggio-asd-centro-studi-danza-dance-art-project/
LOCATION:Teatro Mediterraneo e Piazzale antistante\, Viale J.F.Kennedy 54\, Napoli\, 80125
CATEGORIES:Spettacoli
ATTACH;FMTTYPE=image/jpeg:https://mostradoltremare.it/wp-content/uploads/2024/10/24990_image_danceartproject.jpg
ORGANIZER;CN="ASD Centro Studi Danza Dance Art Project":MAILTO:danceartprojectasd@gmail_com
END:VEVENT
BEGIN:VEVENT
DTSTART;VALUE=DATE:20190519
DTEND;VALUE=DATE:20190520
DTSTAMP:20260422T161706
CREATED:20241009T145346Z
LAST-MODIFIED:20241009T145407Z
UID:25527-1558224000-1558310399@mostradoltremare.it
SUMMARY:Saggio Associazione Danza&Danza
DESCRIPTION:Ingresso ad inviti
URL:https://mostradoltremare.it/event/saggio-associazione-danzadanza/
LOCATION:Teatro Mediterraneo e Piazzale antistante\, Viale J.F.Kennedy 54\, Napoli\, 80125
CATEGORIES:Spettacoli
END:VEVENT
BEGIN:VEVENT
DTSTART;TZID=UTC:20190519T210000
DTEND;TZID=UTC:20190519T230000
DTSTAMP:20260422T161706
CREATED:20241009T145528Z
LAST-MODIFIED:20241009T145547Z
UID:25534-1558299600-1558306800@mostradoltremare.it
SUMMARY:Serata finale OnDance Napoli
DESCRIPTION:con Roberto Bolle\, accompagnato da ballerini ed altri artisti del mondo della musica.\nL’incasso andrà a sostenere i progetti del Centro Annalisa Durante di Forcella.\nBiglietti disponibili nei punti vendita ETES e su www.arenaflegrea.com
URL:https://mostradoltremare.it/event/serata-finale-ondance-napoli/
LOCATION:ARENA FLEGREA\, Via Terracina 197\, Napoli\, 80125
CATEGORIES:Spettacoli
ATTACH;FMTTYPE=image/png:https://mostradoltremare.it/wp-content/uploads/2024/10/25534_image_ondance.png
END:VEVENT
BEGIN:VEVENT
DTSTART;TZID=UTC:20190521T193000
DTEND;TZID=UTC:20190521T233000
DTSTAMP:20260422T161706
CREATED:20241009T145711Z
LAST-MODIFIED:20241009T145741Z
UID:25543-1558467000-1558481400@mostradoltremare.it
SUMMARY:Saggio ASD Centro Accademico Movimento Danza
DESCRIPTION:Ad inviti.\nIngresso Viale Kennedy 54
URL:https://mostradoltremare.it/event/saggio-asd-centro-accademico-movimento-danza/
LOCATION:Teatro Mediterraneo e Piazzale antistante\, Viale J.F.Kennedy 54\, Napoli\, 80125
CATEGORIES:Spettacoli
ATTACH;FMTTYPE=image/jpeg:https://mostradoltremare.it/wp-content/uploads/2024/10/25543_image_ASD-movimento-danza-di-nicoletta-barra.jpg
END:VEVENT
BEGIN:VEVENT
DTSTART;VALUE=DATE:20190525
DTEND;VALUE=DATE:20190526
DTSTAMP:20260422T161706
CREATED:20241009T150045Z
LAST-MODIFIED:20241009T150105Z
UID:25559-1558742400-1558828799@mostradoltremare.it
SUMMARY:26° Saggio Scuola di Danza Patty Schisa
DESCRIPTION:Ad inviti.\nDalle 16\,00 alle 17\,00= dimostrazione danza bimbe 3-5 anni.\ndalle 20\,00 alle 23\,00 = Saggio della Scuola. 26^ edizione\nIngressi Viale Kennedy e Via Terracina
URL:https://mostradoltremare.it/event/26-saggio-scuola-di-danza-patty-schisa/
LOCATION:Teatro Mediterraneo e Piazzale antistante\, Viale J.F.Kennedy 54\, Napoli\, 80125
CATEGORIES:Spettacoli
ATTACH;FMTTYPE=image/jpeg:https://mostradoltremare.it/wp-content/uploads/2024/10/24658_image_PATTY-SCHISA.jpg
ORGANIZER;CN="Scuola di danza PATTY SCHISA":MAILTO:pattyschisa@libero.it
END:VEVENT
BEGIN:VEVENT
DTSTART;TZID=UTC:20190527T190000
DTEND;TZID=UTC:20190527T235900
DTSTAMP:20260422T161706
CREATED:20241009T150134Z
LAST-MODIFIED:20241009T150151Z
UID:25562-1558983600-1559001540@mostradoltremare.it
SUMMARY:Saggio L'Accademia Oltre la Danza
DESCRIPTION:Ad inviti. Ingresso Viale Kennedy 54.
URL:https://mostradoltremare.it/event/saggio-laccademia-oltre-la-danza/
LOCATION:Teatro Mediterraneo e Piazzale antistante\, Viale J.F.Kennedy 54\, Napoli\, 80125
CATEGORIES:Spettacoli
ATTACH;FMTTYPE=image/jpeg:https://mostradoltremare.it/wp-content/uploads/2024/10/24678_image_accademia-oltre-la-danza.jpg
ORGANIZER;CN="L'Accademia Oltre la Danza":MAILTO:laccademia2008@libero_it
END:VEVENT
BEGIN:VEVENT
DTSTART;VALUE=DATE:20190529
DTEND;VALUE=DATE:20190530
DTSTAMP:20260422T161706
CREATED:20241009T150245Z
LAST-MODIFIED:20241009T150310Z
UID:25565-1559088000-1559174399@mostradoltremare.it
SUMMARY:Saggio ASD Centro Studi Visione Danza
DESCRIPTION:Ingresso ad inviti
URL:https://mostradoltremare.it/event/saggio-asd-centro-studi-visione-danza/
LOCATION:Teatro Mediterraneo e Piazzale antistante\, Viale J.F.Kennedy 54\, Napoli\, 80125
CATEGORIES:Spettacoli
ATTACH;FMTTYPE=image/jpeg:https://mostradoltremare.it/wp-content/uploads/2024/10/25565_image_centro-studi-visione-danza.jpg
END:VEVENT
BEGIN:VEVENT
DTSTART;TZID=UTC:20190531T193000
DTEND;TZID=UTC:20190602T230000
DTSTAMP:20260422T161706
CREATED:20241009T150405Z
LAST-MODIFIED:20241009T150433Z
UID:25571-1559331000-1559516400@mostradoltremare.it
SUMMARY:Spettacoli di danza Art Garage - Accademia dello Spettacolo
DESCRIPTION:Spettacolo Art Garage venerdì 31 maggio dalle 19\,30 alle 23\,30;\nSpettacoli Accademia dello Spettacolo sabato 1 giugno dalle 20\,00 alle 23\,30 e domenica 2 giugno dalle 18\,30 alle 23\,00.\nIngresso Viale Kennedy 54
URL:https://mostradoltremare.it/event/spettacoli-di-danza-art-garage-accademia-dello-spettacolo/
LOCATION:Teatro Mediterraneo e Piazzale antistante\, Viale J.F.Kennedy 54\, Napoli\, 80125
CATEGORIES:Spettacoli
ATTACH;FMTTYPE=image/jpeg:https://mostradoltremare.it/wp-content/uploads/2024/10/20638_image_artgarage.jpg
ORGANIZER;CN="ARTGARAGE SAS":MAILTO:info@artgarage.it
END:VEVENT
BEGIN:VEVENT
DTSTART;TZID=UTC:20190531T200000
DTEND;TZID=UTC:20190531T235900
DTSTAMP:20260422T161706
CREATED:20241009T150514Z
LAST-MODIFIED:20241009T150534Z
UID:25575-1559332800-1559347140@mostradoltremare.it
SUMMARY:Green Paradise
DESCRIPTION:Serata di omaggio al grande gruppo musicale hard rock australiano\, gli AC/DC. Ad onorare la grande band saranno i The JACK.\nInizio concerto ore 21\,30.  Possibile prenotazione aperitivo e/o cena a partire dalle ore 20\,00.\nIngresso da Viale Marconi
URL:https://mostradoltremare.it/event/green-paradise-2/
LOCATION:Terrazze Pizzeria Esedra\, Via Marconi 2\, Napoli\, 80125
CATEGORIES:Spettacoli
ATTACH;FMTTYPE=image/png:https://mostradoltremare.it/wp-content/uploads/2024/10/25575_image_green-paradise-1.png
END:VEVENT
END:VCALENDAR