BEGIN:VCALENDAR
VERSION:2.0
PRODID:-//Mostra d&#039;Oltremare - ECPv6.15.20//NONSGML v1.0//EN
CALSCALE:GREGORIAN
METHOD:PUBLISH
X-WR-CALNAME:Mostra d&#039;Oltremare
X-ORIGINAL-URL:https://mostradoltremare.it
X-WR-CALDESC:Eventi per Mostra d&#039;Oltremare
REFRESH-INTERVAL;VALUE=DURATION:PT1H
X-Robots-Tag:noindex
X-PUBLISHED-TTL:PT1H
BEGIN:VTIMEZONE
TZID:UTC
BEGIN:STANDARD
TZOFFSETFROM:+0000
TZOFFSETTO:+0000
TZNAME:UTC
DTSTART:20160101T000000
END:STANDARD
END:VTIMEZONE
BEGIN:VEVENT
DTSTART;TZID=UTC:20170615T190000
DTEND;TZID=UTC:20170615T230000
DTSTAMP:20260424T111458
CREATED:20241010T142324Z
LAST-MODIFIED:20241010T142324Z
UID:26268-1497553200-1497567600@mostradoltremare.it
SUMMARY:Saggio di Danza Centro Studi Visione Danza
DESCRIPTION:Ingresso ad inviti  
URL:https://mostradoltremare.it/event/saggio-di-danza-centro-studi-visione-danza/
LOCATION:Teatro Mediterraneo e Piazzale antistante\, Viale J.F.Kennedy 54\, Napoli\, 80125
CATEGORIES:Spettacoli
ATTACH;FMTTYPE=image/jpeg:https://mostradoltremare.it/wp-content/uploads/2024/10/20762_image_visione-danza.jpg
ORGANIZER;CN="ASD Centro Studi Visione Danza":MAILTO:visonefra@gmail_com
END:VEVENT
END:VCALENDAR