BEGIN:VCALENDAR
VERSION:2.0
PRODID:-//Mostra d&#039;Oltremare - ECPv6.15.20//NONSGML v1.0//EN
CALSCALE:GREGORIAN
METHOD:PUBLISH
X-ORIGINAL-URL:https://mostradoltremare.it
X-WR-CALDESC:Eventi per Mostra d&#039;Oltremare
REFRESH-INTERVAL;VALUE=DURATION:PT1H
X-Robots-Tag:noindex
X-PUBLISHED-TTL:PT1H
BEGIN:VTIMEZONE
TZID:UTC
BEGIN:STANDARD
TZOFFSETFROM:+0000
TZOFFSETTO:+0000
TZNAME:UTC
DTSTART:20160101T000000
END:STANDARD
END:VTIMEZONE
BEGIN:VEVENT
DTSTART;VALUE=DATE:20171020
DTEND;VALUE=DATE:20171021
DTSTAMP:20260424T042857
CREATED:20241010T150442Z
LAST-MODIFIED:20241010T150442Z
UID:26372-1508457600-1508543999@mostradoltremare.it
SUMMARY:Party per la Vita 2017
DESCRIPTION:Galà di beneficenza con musica live e DJ Set per sostenere i progetti dell’Associazione Volontari Ematologia del Pascale Ingresso e Parcheggio: Via Terracina
URL:https://mostradoltremare.it/event/party-per-la-vita-2017/
LOCATION:Ristorante della Piscina Piano Superiore e Padiglione 10\, Piazzale Tecchio\, Napoli\, 80125
CATEGORIES:Spettacoli
ATTACH;FMTTYPE=image/jpeg:https://mostradoltremare.it/wp-content/uploads/2024/10/26372_image_AVEP-PARTY-PER-LA-VITA-2017.jpg
ORGANIZER;CN="AVEP Onlus":MAILTO:info@aveponlus_it
END:VEVENT
END:VCALENDAR