BEGIN:VCALENDAR
VERSION:2.0
PRODID:-//Mostra d&#039;Oltremare - ECPv6.15.20//NONSGML v1.0//EN
CALSCALE:GREGORIAN
METHOD:PUBLISH
X-WR-CALNAME:Mostra d&#039;Oltremare
X-ORIGINAL-URL:https://mostradoltremare.it
X-WR-CALDESC:Eventi per Mostra d&#039;Oltremare
REFRESH-INTERVAL;VALUE=DURATION:PT1H
X-Robots-Tag:noindex
X-PUBLISHED-TTL:PT1H
BEGIN:VTIMEZONE
TZID:UTC
BEGIN:STANDARD
TZOFFSETFROM:+0000
TZOFFSETTO:+0000
TZNAME:UTC
DTSTART:20160101T000000
END:STANDARD
END:VTIMEZONE
BEGIN:VEVENT
DTSTART;TZID=UTC:20171125T200000
DTEND;TZID=UTC:20171125T230000
DTSTAMP:20260424T030854
CREATED:20241014T101036Z
LAST-MODIFIED:20241014T101107Z
UID:26803-1511640000-1511650800@mostradoltremare.it
SUMMARY:Miss Europe Continental - 5^ edizione
DESCRIPTION:Concorso internazionale di bellezza. Serata Finale Europea. Manifestazione ad inviti. Conducono Veronica Maya e Marco Senise. Per Iscrizioni e Regolamento: www.misseuropecontinental.com/it/concorso. Ingresso Viale Kennedy 54
URL:https://mostradoltremare.it/event/miss-europe-continental-5-edizione/
LOCATION:Teatro Mediterraneo e Piazzale antistante\, Viale J.F.Kennedy 54\, Napoli\, 80125
CATEGORIES:Spettacoli
ATTACH;FMTTYPE=image/png:https://mostradoltremare.it/wp-content/uploads/2024/10/25179_image_381-MissEuropeContinental-logo.png
ORGANIZER;CN="Publimoda%20srls":MAILTO:marketing_publimoda@gmail_com
END:VEVENT
END:VCALENDAR