BEGIN:VCALENDAR
VERSION:2.0
PRODID:-//Mostra d&#039;Oltremare - ECPv6.15.20//NONSGML v1.0//EN
CALSCALE:GREGORIAN
METHOD:PUBLISH
X-ORIGINAL-URL:https://mostradoltremare.it
X-WR-CALDESC:Eventi per Mostra d&#039;Oltremare
REFRESH-INTERVAL;VALUE=DURATION:PT1H
X-Robots-Tag:noindex
X-PUBLISHED-TTL:PT1H
BEGIN:VTIMEZONE
TZID:UTC
BEGIN:STANDARD
TZOFFSETFROM:+0000
TZOFFSETTO:+0000
TZNAME:UTC
DTSTART:20160101T000000
END:STANDARD
END:VTIMEZONE
BEGIN:VEVENT
DTSTART;TZID=UTC:20171203T090000
DTEND;TZID=UTC:20171203T235900
DTSTAMP:20260424T013832
CREATED:20241014T101237Z
LAST-MODIFIED:20241014T101237Z
UID:26812-1512291600-1512345540@mostradoltremare.it
SUMMARY:Anima e Corpo Pro UNICEF – Danzare per la Vita
DESCRIPTION:Rassegna-concorso organizzato da ASD Percorsi di danza. XI edizione. Dieci spettacoli autonomi e consecutivi. Evento nazionale di danza ed urban dance in favore della vita\, patrocinato dal Comune di Napoli e ripreso da Telecapri. Ingresso libero. Donazioni a favore dei bambini del Terzo Mondo al numero 45566\, dal 26 novembre al 4 dicembre    
URL:https://mostradoltremare.it/event/anima-e-corpo-pro-unicef-danzare-per-la-vita/
LOCATION:Teatro Mediterraneo e Piazzale antistante\, Viale J.F.Kennedy 54\, Napoli\, 80125
CATEGORIES:Spettacoli
ATTACH;FMTTYPE=image/jpeg:https://mostradoltremare.it/wp-content/uploads/2024/10/26049_image_logo-percorsi-di-dazna.jpg
ORGANIZER;CN="ASD Percorsi di danza":MAILTO:percorsididanza@gmail_com
END:VEVENT
END:VCALENDAR