BEGIN:VCALENDAR
VERSION:2.0
PRODID:-//Mostra d&#039;Oltremare - ECPv6.15.20//NONSGML v1.0//EN
CALSCALE:GREGORIAN
METHOD:PUBLISH
X-ORIGINAL-URL:https://mostradoltremare.it
X-WR-CALDESC:Eventi per Mostra d&#039;Oltremare
REFRESH-INTERVAL;VALUE=DURATION:PT1H
X-Robots-Tag:noindex
X-PUBLISHED-TTL:PT1H
BEGIN:VTIMEZONE
TZID:UTC
BEGIN:STANDARD
TZOFFSETFROM:+0000
TZOFFSETTO:+0000
TZNAME:UTC
DTSTART:20180101T000000
END:STANDARD
END:VTIMEZONE
BEGIN:VEVENT
DTSTART;TZID=UTC:20190104T204500
DTEND;TZID=UTC:20190104T230000
DTSTAMP:20260423T021006
CREATED:20241007T173858Z
LAST-MODIFIED:20241007T173922Z
UID:24403-1546634700-1546642800@mostradoltremare.it
SUMMARY:Concerto dell'Epifania 2019 - 24^ edizione
DESCRIPTION:Premio “Nativity in the World”. Ospiti: Giovanni Caccamo\, Tony Maiello\, Diarah Khan\, Rita Ciccarelli & Flowing’ Gospel\, Chiara Galiazzo\, Sal da Vinci.\nOrchestra di Santa Chiara diretta dal M° Adriano Pennino. Presenta Veronica Maya. La registrazione del concerto viene trasmessa su RAIUNO il 6 gennaio alle ore 9\,35. Ingresso in Sala consentito dalle 19\,15 alle 20\,30\nLa 24^ edizione sostiene il restauro dell’antico organo a canne del Complesso Monumentale di Santa Maria la Nova in Napoli.\nPer prenotazioni e sottoscrizioni: www.oltreilchiostro.org – cultura@oltreilchiostro.org – Per informazioni: 0815521597
URL:https://mostradoltremare.it/event/concerto-dellepifania-2019-24-edizione/
LOCATION:Teatro Mediterraneo e Piazzale antistante\, Viale J.F.Kennedy 54\, Napoli\, 80125
CATEGORIES:Spettacoli
ATTACH;FMTTYPE=image/jpeg:https://mostradoltremare.it/wp-content/uploads/2024/10/24403_image_concerto-epifania-2019.jpg
ORGANIZER;CN="Associazioni Musica dal Mondo e Oltre il Chiostro":MAILTO:cultura@oltreilchiostro.org
END:VEVENT
END:VCALENDAR