BEGIN:VCALENDAR
VERSION:2.0
PRODID:-//Mostra d&#039;Oltremare - ECPv6.15.20//NONSGML v1.0//EN
CALSCALE:GREGORIAN
METHOD:PUBLISH
X-WR-CALNAME:Mostra d&#039;Oltremare
X-ORIGINAL-URL:https://mostradoltremare.it
X-WR-CALDESC:Eventi per Mostra d&#039;Oltremare
REFRESH-INTERVAL;VALUE=DURATION:PT1H
X-Robots-Tag:noindex
X-PUBLISHED-TTL:PT1H
BEGIN:VTIMEZONE
TZID:UTC
BEGIN:STANDARD
TZOFFSETFROM:+0000
TZOFFSETTO:+0000
TZNAME:UTC
DTSTART:20250101T000000
END:STANDARD
END:VTIMEZONE
BEGIN:VEVENT
DTSTART;TZID=UTC:20260907T080000
DTEND;TZID=UTC:20260911T170000
DTSTAMP:20260423T115431
CREATED:20251106T104421Z
LAST-MODIFIED:20251106T104421Z
UID:46740-1788768000-1789146000@mostradoltremare.it
SUMMARY:congresso ECML PKDD 2026
DESCRIPTION:European Conference on Machine Learning and Principles and Practice of Knowledge Discovery in Databases \nIngresso Via Terracina 197
URL:https://mostradoltremare.it/event/congresso-ecml-pkdd-2026/
LOCATION:Palacongressi\, Via Terracina 197\, Napoli\, 80125\, Italy
CATEGORIES:Congresso
ORGANIZER;CN="ECMLPKDD 2026 Organizer srl":MAILTO:ecmlpkdd2026srl@pec.it
END:VEVENT
BEGIN:VEVENT
DTSTART;TZID=UTC:20261112T210000
DTEND;TZID=UTC:20261112T233000
DTSTAMP:20260423T115431
CREATED:20260423T093443Z
LAST-MODIFIED:20260423T093443Z
UID:55849-1794517200-1794526200@mostradoltremare.it
SUMMARY:Non Aprite Quel Teatro
DESCRIPTION:Concerto di J-Ax. \nPrezzi biglietti: \n-Poltronissima Euro 46\,00 + diritti di prevendita \n-Poltrona Euro 40\,25 + diritti di prevendita
URL:https://mostradoltremare.it/event/non-aprite-quel-teatro/
LOCATION:Teatro Mediterraneo
CATEGORIES:Spettacoli
ATTACH;FMTTYPE=image/jpeg:https://mostradoltremare.it/wp-content/uploads/2026/04/NON-APRITE-QUEL-TEATRO.jpg
ORGANIZER;CN="VIVO CONCERTI SRL":MAILTO:info@vivoconcerti.com
END:VEVENT
END:VCALENDAR