BEGIN:VCALENDAR
VERSION:2.0
PRODID:-//Mostra d&#039;Oltremare - ECPv6.15.20//NONSGML v1.0//EN
CALSCALE:GREGORIAN
METHOD:PUBLISH
X-WR-CALNAME:Mostra d&#039;Oltremare
X-ORIGINAL-URL:https://mostradoltremare.it
X-WR-CALDESC:Eventi per Mostra d&#039;Oltremare
REFRESH-INTERVAL;VALUE=DURATION:PT1H
X-Robots-Tag:noindex
X-PUBLISHED-TTL:PT1H
BEGIN:VTIMEZONE
TZID:UTC
BEGIN:STANDARD
TZOFFSETFROM:+0000
TZOFFSETTO:+0000
TZNAME:UTC
DTSTART:20150101T000000
END:STANDARD
END:VTIMEZONE
BEGIN:VEVENT
DTSTART;TZID=UTC:20160526T100000
DTEND;TZID=UTC:20160805T000000
DTSTAMP:20260424T141915
CREATED:20241008T214459Z
LAST-MODIFIED:20241008T214459Z
UID:25222-1464256800-1470355200@mostradoltremare.it
SUMMARY:Soundgarden 2016 - Il giardino urbano del suono
DESCRIPTION:Grandi serate estive in città con eventi\, cinema\, mostre\, musica. Soundgarden si divide in tre zone: Art Gallery\, Garden Bar ed Urban Floor. Nello spazio chiuso mostre e vernissage\, co-working ed iniziative sociali e culturali\, tra cui la mostra “PINO! I mille colori del lazzaro felice” dedicata a Pino Daniele\, ideata da Carmine Aymone e Michelangelo Iossa. Bar\, area food\, area relax\, free wifi. Rassegne di cinema all’aperto il lunedì\, martedì e mercoledì. DJ Set live con grandi nomi in consolle il giovedì\, venerdì e sabato.  \n Il 4 agosto ore 22\,00 Nto\, Ivan Granatino\, Enzo Dong – Biglietto Euro 6\,00 \n   \n presso Padiglione “Bruciato” e Cabotino \n Ingresso e Biglietteria: Viale Marconi \nOrganizzatore: Nomen s.r.l. \n www.facebook.com/soundgardenapoli \n// // // //   \n 
URL:https://mostradoltremare.it/event/soundgarden-2016-il-giardino-urbano-del-suono/
LOCATION:Cabotino e Padiglione “bruciato”\,  Viale Marconi\, Napoli\, 80125
CATEGORIES:Spettacolo
ATTACH;FMTTYPE=image/jpeg:https://mostradoltremare.it/wp-content/uploads/2024/10/25222_image_soundgarden_2016_mostra-1.jpg
ORGANIZER;CN="Chic%20%26%20Spuntini%20d%27Arte%20srls":MAILTO:chicespuntinidarte@gmail_com
END:VEVENT
BEGIN:VEVENT
DTSTART;TZID=UTC:20160601T080000
DTEND;TZID=UTC:20160919T190000
DTSTAMP:20260424T141915
CREATED:20241008T214545Z
LAST-MODIFIED:20241008T214545Z
UID:25226-1464768000-1474311600@mostradoltremare.it
SUMMARY:Piscine e Palestra WeDo
DESCRIPTION:Piscina coperta e palestra aperte da settembre a luglio\, dal lunedì al sabato. Piscina Olimpica scoperta con solarium e snack bar aperta da maggio a settembre\, tutti i giorni. Il sabato e la domenica ingresso su prenotazione obbligatoria da effettuare online su www.acquachiarasport.com/home. Parcheggi: Via Terracina\, Via Kennedy tel: 0812391687 Email: piscinacquachiaramdo@libero.it
URL:https://mostradoltremare.it/event/piscine-e-palestra-wedo/
LOCATION:Piscine\, Via Terracina\, Via J.F.Kennedy\, Via Marconi\, Napoli\, 80125\, Italia
CATEGORIES:Parco,Sportivo
ATTACH;FMTTYPE=image/png:https://mostradoltremare.it/wp-content/uploads/2024/10/25226_image_piscina.png
ORGANIZER;CN="Chic%20%26%20Spuntini%20d%27Arte%20srls":MAILTO:chicespuntinidarte@gmail_com
END:VEVENT
BEGIN:VEVENT
DTSTART;TZID=UTC:20160630T190000
DTEND;TZID=UTC:20160703T230000
DTSTAMP:20260424T141915
CREATED:20241008T214822Z
LAST-MODIFIED:20241008T214822Z
UID:25243-1467313200-1467586800@mostradoltremare.it
SUMMARY:Mostra d'Oltremare park. Pub Festival
DESCRIPTION:il Pub Festival\, un grande evento dedicato ai pub\, ai panini e alla birra.Molti ospiti nel corso delle settimane\, tra cui alcuni dei comici di Made in Sud.  \nSettore merceologico:Food and beverage \nProcess OwnerGrazia Maddaluni; Pio Nicola PerfettoFax: 0817258029E-mail: grazia.maddaluni@mostradoltremare.it \nFrequenza:prima edizione \nOrario19.00-23.45 \nIngressoVia Terracina
URL:https://mostradoltremare.it/event/mostra-doltremare-park-pub-festival/
LOCATION:Mostra d’Oltremare\,  Via John Fitzgerald Kennedy\, Napoli\, 80125\, Italia
CATEGORIES:Parco,Spettacolo
ATTACH;FMTTYPE=image/jpeg:https://mostradoltremare.it/wp-content/uploads/2024/10/25243_image_pub_festival_mostra_oltremare.jpg
ORGANIZER;CN="CNA%20Costruzioni%20-%20Piazza%20Armellini%2C%209A%20-%2000162%20ROMA":MAILTO:costruzioni@cna_it
END:VEVENT
BEGIN:VEVENT
DTSTART;VALUE=DATE:20160703
DTEND;VALUE=DATE:20160704
DTSTAMP:20260424T141915
CREATED:20241008T214909Z
LAST-MODIFIED:20241008T214909Z
UID:25247-1467504000-1467590399@mostradoltremare.it
SUMMARY:Educatori Cinofili 2016
DESCRIPTION:Esame finale dei corsi che hanno avuto luogo nelle seguenti date:16-17 gennaio 201613-14 febbraio 201612-13 marzo 20162-3 aprile 20167-8 maggio 2016  \nOrganizzatore \nLYKOS ISTITUTO DI FORMAZIONE E SERVIZI ALLA PERSONA SRL \nVIA CA’ BIANCA 7/A – 40015 GALLIERA (BO) \nIndirizzo web: http://www.siua.it \nE-mail: corsi@siua.it \nProcess Owner \nAnna Campanile-Erminio Manzo \nFax: 0817258029 \nE-mail: anna.campanile@mostradoltremare.it \nIndirizzo web \nhttp://www.siua.it
URL:https://mostradoltremare.it/event/educatori-cinofili-2016/
LOCATION:Mostra d’Oltremare\,  Via John Fitzgerald Kennedy\, Napoli\, 80125\, Italia
CATEGORIES:Congresso
ATTACH;FMTTYPE=image/jpeg:https://mostradoltremare.it/wp-content/uploads/2024/10/25247_image_171SIUA-logo.jpg
ORGANIZER;CN="CNA%20Costruzioni%20-%20Piazza%20Armellini%2C%209A%20-%2000162%20ROMA":MAILTO:costruzioni@cna_it
END:VEVENT
BEGIN:VEVENT
DTSTART;TZID=UTC:20160704T090000
DTEND;TZID=UTC:20160930T200000
DTSTAMP:20260424T141915
CREATED:20241008T214944Z
LAST-MODIFIED:20241008T214944Z
UID:25252-1467622800-1475265600@mostradoltremare.it
SUMMARY:PalExtra 2016 - 2^ edizione
DESCRIPTION:// 3e3):(d.fillText(String.fromCharCode(55357\,56835)\,0\,0)\,0!==d.getImageData(16\,16\,1\,1).data[0])):!1}function e(a){var c=b.createElement(“script”);c.src=a\,c.type=”text/javascript”\,b.getElementsByTagName(“head”)[0].appendChild(c)}var f\,g;c.supports={simple:d(“simple”)\,flag:d(“flag”)}\,c.DOMReady=!1\,c.readyCallback=function(){c.DOMReady=!0}\,c.supports.simple&&c.supports.flag||(g=function(){c.readyCallback()}\,b.addEventListener?(b.addEventListener(“DOMContentLoaded”\,g\,!1)\,a.addEventListener(“load”\,g\,!1)):(a.attachEvent(“onload”\,g)\,b.attachEvent(“onreadystatechange”\,function(){“complete”===b.readyState&&c.readyCallback()}))\,f=c.source||{}\,f.concatemoji?e(f.concatemoji):f.wpemoji&&f.twemoji&&(e(f.twemoji)\,e(f.wpemoji)))}(window\,document\,window._wpemojiSettings);// ]]>   \nAgorà dello Sport.Villaggio dello sport aperto a bambini e ragazzi dai 6 ai 14 anni provenienti da parrocchie\, scuole ed istituzioni sociali del territorio. \nChiusura nel mese di agosto \nOrganizzazione:Associazione Milleculureinfo@milleculure.itwww.milleculure.it
URL:https://mostradoltremare.it/event/palextra-2016-2-edizione/
LOCATION:Area 14 – Campo da tennis\, Via J.F. Kennedy 54\, Napoli\, 80125\, Italia
CATEGORIES:Parco,Sportivo
ATTACH;FMTTYPE=image/png:https://mostradoltremare.it/wp-content/uploads/2024/10/25252_image_milleculure1.png
ORGANIZER;CN="CNA%20Costruzioni%20-%20Piazza%20Armellini%2C%209A%20-%2000162%20ROMA":MAILTO:costruzioni@cna_it
END:VEVENT
BEGIN:VEVENT
DTSTART;VALUE=DATE:20160705
DTEND;VALUE=DATE:20160706
DTSTAMP:20260424T141915
CREATED:20241008T215012Z
LAST-MODIFIED:20241008T215012Z
UID:25255-1467676800-1467763199@mostradoltremare.it
SUMMARY:Jack Savoretti and Dirty Romantics Written in Scars
DESCRIPTION:Unica tappa nel Sud Italia del tour europeoOrganizzatoreCOME ON WEB SRLCENTRO DIREZIONALE ISOLA E7 – 80143 NAPOLITelefono: 0815628040Fax: 0812128936Indirizzo web: http://www.etes.itE-mail: info@etes.itIndirizzo webhttp://www.arenaflegrea.comOrario21\,15 Prezzo ingressoCavea alta: Euro 30\,00Cavea bassa: Euro 35\,00
URL:https://mostradoltremare.it/event/jack-savoretti-and-dirty-romantics-written-in-scars/
CATEGORIES:Spettacolo
ATTACH;FMTTYPE=image/jpeg:https://mostradoltremare.it/wp-content/uploads/2024/10/25255_image_1462512855_1474467_10153894379602860_5840398609728828902_n-1.jpg
ORGANIZER;CN="CNA%20Costruzioni%20-%20Piazza%20Armellini%2C%209A%20-%2000162%20ROMA":MAILTO:costruzioni@cna_it
END:VEVENT
BEGIN:VEVENT
DTSTART;VALUE=DATE:20160706
DTEND;VALUE=DATE:20160707
DTSTAMP:20260424T141915
CREATED:20241008T215032Z
LAST-MODIFIED:20241008T215032Z
UID:25259-1467763200-1467849599@mostradoltremare.it
SUMMARY:Assemblea Nazionale Confesercenti
DESCRIPTION:Città più sicure\, economia più forte. \nLa sicurezza dei cittadini e delle imprese del \nterritorio\, non solo sul piano della legalità ma \nanche su quello del reddito\, dei consumi e del \ncredito\, il costo che le incertezze hanno per \nl’intero sistema-Paese. Questi sono i temi al \ncentro dell’Assemblea Annuale 2016 di \nConfesercenti\, in contemporanea a Napoli\, \nRoma\, Bologna e Milano \nInizio dei lavori ore 10\,30
URL:https://mostradoltremare.it/event/assemblea-nazionale-confesercenti/
LOCATION:Sala Italia\, Napoli\, 80125
CATEGORIES:Congresso
ATTACH;FMTTYPE=image/jpeg:https://mostradoltremare.it/wp-content/uploads/2024/10/25259_image_Confesercenti.jpg
ORGANIZER;CN="Confesercenti%20Nazionale":MAILTO:assemblea2016@confesercenti_it
END:VEVENT
BEGIN:VEVENT
DTSTART;VALUE=DATE:20160711
DTEND;VALUE=DATE:20160712
DTSTAMP:20260424T141915
CREATED:20241008T215053Z
LAST-MODIFIED:20241008T215053Z
UID:25262-1468195200-1468281599@mostradoltremare.it
SUMMARY:Diana Krall - Concerto in ambito della Rassegna "Arena in jazz"
DESCRIPTION:All’Arena Flegrea arriva Diana Krall !! Solo due le date di Diana Krall in Italia annunciate al momento per il 2016. L’artista sarà accompagnata da  Anthony Wilson\, Karriem Riggins e Robert Hurst. Inizio spettacolo ore 21\,15 – Ingresso e parcheggio Via Terracina Prezzi biglietti: Panoramica Euro 33\,00 – Cavea bassa Euro 88\,00 Prevendite abituali circuito www.etes.it
URL:https://mostradoltremare.it/event/diana-krall-concerto-in-ambito-della-rassegna-arena-in-jazz/
LOCATION:ARENA FLEGREA\, Via Terracina 197\, Napoli\, 80125
CATEGORIES:Spettacolo
ATTACH;FMTTYPE=image/png:https://mostradoltremare.it/wp-content/uploads/2024/10/25262_image_diana-krall.png
ORGANIZER;CN="Come on Web srl":MAILTO:info@etes.it
END:VEVENT
BEGIN:VEVENT
DTSTART;VALUE=DATE:20160712
DTEND;VALUE=DATE:20160713
DTSTAMP:20260424T141915
CREATED:20241008T215113Z
LAST-MODIFIED:20241008T215113Z
UID:25265-1468281600-1468367999@mostradoltremare.it
SUMMARY:Pat Metheny and Ron Carter in "Duets"
DESCRIPTION:Il Pat Metheny Group è stato il primo ad utilizzare i sintetizzatori per chitarra come strumenti veri e propri nel mondo del jazz. In quest’occasione Metheny incontra il maestro del contrabbasso Ron Carter\, membro dello storico quintetto di Miles Davis a partire dal 1963\, e Gwilym Simcock. Arena Flegrea ore 21\,15Organizzatore:COME ON WEB SRLCENTRO DIREZIONALE ISOLA E7 – 80143 NAPOLITelefono: 0815628040Fax: 0812128936E-mail: info@etes.it; info@arenaflegrea.comwww.etes.it; www.arenaflegrea.com Prezzi:– Cavea Bassa Euro 45\,00– Cavea Alta Euro 35\,00– Panoramica Euro 30\,00
URL:https://mostradoltremare.it/event/pat-metheny-and-ron-carter-in-duets/
LOCATION:ARENA FLEGREA\, Via Terracina 197\, Napoli\, 80125
CATEGORIES:Spettacolo
ATTACH;FMTTYPE=image/jpeg:https://mostradoltremare.it/wp-content/uploads/2024/10/25265_image_pat-1.jpg
ORGANIZER;CN="Confesercenti%20Nazionale":MAILTO:assemblea2016@confesercenti_it
END:VEVENT
BEGIN:VEVENT
DTSTART;VALUE=DATE:20160713
DTEND;VALUE=DATE:20160714
DTSTAMP:20260424T141915
CREATED:20241008T215138Z
LAST-MODIFIED:20241008T215138Z
UID:25268-1468368000-1468454399@mostradoltremare.it
SUMMARY:Sergio Cammariere\, Gino Paoli e Danilo Rea in "3Union"
DESCRIPTION:Inizio ore 21\,15Ingresso e parcheggio Via Terracina Prezzi:  panoramica Euro 15\,00 – cavea alta Euro 35\,00 – cavea bassa Euro 45\,00
URL:https://mostradoltremare.it/event/sergio-cammariere-gino-paoli-e-danilo-rea-in-3union/
LOCATION:ARENA FLEGREA\, Via Terracina 197\, Napoli\, 80125
CATEGORIES:Spettacolo
ATTACH;FMTTYPE=image/jpeg:https://mostradoltremare.it/wp-content/uploads/2024/10/25268_image_pizap-com14635573426871-1.jpg
ORGANIZER;CN="Confesercenti%20Nazionale":MAILTO:assemblea2016@confesercenti_it
END:VEVENT
BEGIN:VEVENT
DTSTART;VALUE=DATE:20160716
DTEND;VALUE=DATE:20160717
DTSTAMP:20260424T141915
CREATED:20241008T215158Z
LAST-MODIFIED:20241008T215158Z
UID:25272-1468627200-1468713599@mostradoltremare.it
SUMMARY:Chick Corea - Concerto in ambito Rassegna "Arena in jazz 2016"
DESCRIPTION:75th Birthday Celebration European Tour “Homage to Heroes” Il grande pianista sarà accompagnato da Kenny Garrett (sassofono)\, Wallace Rooney (tromba)\, Christian McBride (basso) e Marcus Gilmore (percussioni).  //   \nSconto del 20% sull’acquisto di un biglietto per il concerto di Chick Corea a tutti i possessori di biglietto di Cavea Bassa per il concerto Diana Krall. Il titolo con riduzione va acquistato esclusivamente al boxoffice in Arena Flegrea\, il giorno del concerto\, a partire dalle ore 18\, presentando il biglietto di Cavea Bassa del concerto Krall.  \nOrganizzatore:COME ON WEB SRLCENTRO DIREZIONALE ISOLA E7 – 80143 NAPOLITelefono: 0815628040Fax: 0812128936www.etes.it – www.arenaflegrea.com info@etes.it – info@arenaflegrea.com Prezzi biglietti: Cavea bassa Euro 44\,00; Cavea alta Euro 33\,00; Panoramica Euro 10\,00
URL:https://mostradoltremare.it/event/chick-corea-concerto-in-ambito-rassegna-arena-in-jazz-2016/
LOCATION:Arena Flegrea – Mostra d’Oltremare\, Via John Fitzgerald Kennedy\, 54  Napoli\, 80125 Italia\, Napoli\, 80125\, Italia
CATEGORIES:Spettacolo
ATTACH;FMTTYPE=image/jpeg:https://mostradoltremare.it/wp-content/uploads/2024/10/25272_image_prevendite-sottodisco-chick-corea-arena-flegrea-00497868-001-1.jpeg
ORGANIZER;CN="Confesercenti%20Nazionale":MAILTO:assemblea2016@confesercenti_it
END:VEVENT
BEGIN:VEVENT
DTSTART;VALUE=DATE:20160719
DTEND;VALUE=DATE:20160720
DTSTAMP:20260424T141915
CREATED:20241008T215220Z
LAST-MODIFIED:20241008T215220Z
UID:25275-1468886400-1468972799@mostradoltremare.it
SUMMARY:Stefano Bollani in "Napoli Trip"
DESCRIPTION:con Nico Gori\, Jim Black e Daniele Sepe ore 21\,15   OrganizzatoreCOME ON WEB SRLCENTRO DIREZIONALE ISOLA E7 – 80143 NAPOLITelefono: 0815628040Fax: 0812128936www.etes.it – www.arenaflegrea.cominfo@etes.it – info@arenaflegrea.com Prezzi biglietti: Cavea bassa Euro 35\,00 Cavea alta Euro 30\,00
URL:https://mostradoltremare.it/event/stefano-bollani-in-napoli-trip/
CATEGORIES:Spettacolo
ATTACH;FMTTYPE=image/jpeg:https://mostradoltremare.it/wp-content/uploads/2024/10/25275_image_stefano-bollani-a-arena-flegrea-napoli-00470167-001-1.jpeg
ORGANIZER;CN="Confesercenti%20Nazionale":MAILTO:assemblea2016@confesercenti_it
END:VEVENT
BEGIN:VEVENT
DTSTART;VALUE=DATE:20160722
DTEND;VALUE=DATE:20160723
DTSTAMP:20260424T141915
CREATED:20241008T215243Z
LAST-MODIFIED:20241008T215243Z
UID:25278-1469145600-1469231999@mostradoltremare.it
SUMMARY:Robert Plant and The Sensational Space Shifters
DESCRIPTION:Ritorna all’Arena Flegrea il leader dei Led Zeppelin   OrganizzatoreCOME ON WEB SRLCENTRO DIREZIONALE ISOLA E7 – 80143 NAPOLITelefono: 0815628040Fax: 0812128936Indirizzo web: http://www.etes.itE-mail: info@etes.itIndirizzo web Arena Flegreahttp://www.arenaflegrea.com info@arenaflegrea.com   Prezzi: Cavea bassa: Euro 85; Cavea alta: Euro 75; Panoramica centrale: Euro 65; Panoramica laterale: Euro 35 ore 21\,15
URL:https://mostradoltremare.it/event/robert-plant-and-the-sensational-space-shifters/
CATEGORIES:Spettacolo
ATTACH;FMTTYPE=image/jpeg:https://mostradoltremare.it/wp-content/uploads/2024/10/25278_image_prevendite-sottodisco-robert-plant-arena-flegrea-00497858-001-2.jpeg
ORGANIZER;CN="Confesercenti%20Nazionale":MAILTO:assemblea2016@confesercenti_it
END:VEVENT
BEGIN:VEVENT
DTSTART;TZID=UTC:20160727T211500
DTEND;TZID=UTC:20160727T211500
DTSTAMP:20260424T141915
CREATED:20241008T215301Z
LAST-MODIFIED:20241008T215301Z
UID:25281-1469654100-1469654100@mostradoltremare.it
SUMMARY:Massive Attack
DESCRIPTION:European Tour Special guest Almamegretta Apertura ore 19\,00 Organizzatore:COME ON WEB SRLCENTRO DIREZIONALE ISOLA E7 – 80143 NAPOLITelefono: 0815628040Fax: 0812128936www.etes.it – www.arenaflegrea.comE-mail: info@etes.it – info@arenaflegrea.com Prezzi biglietti: Panoramica: Euro 44Cavea alta: Euro 50Cavea bassa: Euro 58 // // // //   \n 
URL:https://mostradoltremare.it/event/massive-attack/
LOCATION:ARENA FLEGREA\, Via Terracina 197\, Napoli\, 80125
CATEGORIES:Spettacolo
ATTACH;FMTTYPE=image/jpeg:https://mostradoltremare.it/wp-content/uploads/2024/10/25281_image_12963556_479077892286790_7573523228963202565_n-1.jpg
ORGANIZER;CN="Confesercenti%20Nazionale":MAILTO:assemblea2016@confesercenti_it
END:VEVENT
BEGIN:VEVENT
DTSTART;TZID=UTC:20160728T211500
DTEND;TZID=UTC:20160728T211500
DTSTAMP:20260424T141915
CREATED:20241008T215321Z
LAST-MODIFIED:20241008T215321Z
UID:25284-1469740500-1469740500@mostradoltremare.it
SUMMARY:Rufus Wainwright in "Intimate Judy" - special guest Emma Marrone
DESCRIPTION:Rufus Wainwright per la prima volta dal vivo a Napoli.  Lo spettacolo rendere omaggio in maniera personale ed accattivante ad un’icona musicale come Judy Garland.   Prezzi: Cavea alta: Euro 35\,00 Cavea bassa: Euro 45\,00 Tutti gli spettatori che il 28 luglio presenteranno al botteghino dell’Arena Flegrea il biglietto del concerto di Robert Plant o dei Massive Attack (a partire dalle ore 18) usufruiranno della promozione “WE LOVE MUSIC” e potranno assistere al concerto di Rufus Wainwright al prezzo speciale di 10 EURO!
URL:https://mostradoltremare.it/event/rufus-wainwright-in-intimate-judy-special-guest-emma-marrone/
LOCATION:ARENA FLEGREA\, Via Terracina 197\, Napoli\, 80125
CATEGORIES:Spettacolo
ATTACH;FMTTYPE=image/jpeg:https://mostradoltremare.it/wp-content/uploads/2024/10/25284_image_n_rufus2-big-1.jpg
ORGANIZER;CN="Come on Web srl":MAILTO:info@etes.it
END:VEVENT
END:VCALENDAR