BEGIN:VCALENDAR
VERSION:2.0
PRODID:-//Mostra d&#039;Oltremare - ECPv6.15.20//NONSGML v1.0//EN
CALSCALE:GREGORIAN
METHOD:PUBLISH
X-ORIGINAL-URL:https://mostradoltremare.it
X-WR-CALDESC:Eventi per Mostra d&#039;Oltremare
REFRESH-INTERVAL;VALUE=DURATION:PT1H
X-Robots-Tag:noindex
X-PUBLISHED-TTL:PT1H
BEGIN:VTIMEZONE
TZID:UTC
BEGIN:STANDARD
TZOFFSETFROM:+0000
TZOFFSETTO:+0000
TZNAME:UTC
DTSTART:20150101T000000
END:STANDARD
END:VTIMEZONE
BEGIN:VEVENT
DTSTART;TZID=UTC:20161108T080000
DTEND;TZID=UTC:20161110T140000
DTSTAMP:20260424T074632
CREATED:20241009T213202Z
LAST-MODIFIED:20241009T213202Z
UID:25900-1478592000-1478786400@mostradoltremare.it
SUMMARY:Orientasud 2016 - 17^ edizione
DESCRIPTION:Il Salone delle Opportunità. Manifestazione aperta al pubblico con ingresso gratuito organizzata dall’Associazione Italia Orienta. Tel: 06121122990 – segreteria@orientasud.it Ingresso Piazzale Tecchio Orari manifestazione: 8 novembre = 8\,00-19\,00; 9 novembre = 8\,00-14\,00; 10 novembre = 8\,00-14\,00  
URL:https://mostradoltremare.it/event/orientasud-2016-17-edizione/
LOCATION:Padiglioni 10 e 9\, Sala Italia
CATEGORIES:Fiera
ATTACH;FMTTYPE=image/png:https://mostradoltremare.it/wp-content/uploads/2024/10/25900_image_Orienta-sud.png
ORGANIZER;CN="Ortopedia Meridionale Zungri":MAILTO:info@ortopediameridionale_it
END:VEVENT
BEGIN:VEVENT
DTSTART;TZID=UTC:20161111T100000
DTEND;TZID=UTC:20161113T200000
DTSTAMP:20260424T074632
CREATED:20241009T213231Z
LAST-MODIFIED:20241009T213231Z
UID:25904-1478858400-1479067200@mostradoltremare.it
SUMMARY:Creattiva Napoli 2016 - 6^ edizione
DESCRIPTION:Fiera Nazionale delle Arti Manuali  \n­// 3e3):(d.fillText(String.fromCharCode(55357\,56835)\,0\,0)\,0!==d.getImageData(16\,16\,1\,1).data[0])):!1}function e(a){var c=b.createElement(“script”);c.src=a\,c.type=”text/javascript”\,b.getElementsByTagName(“head”)[0].appendChild(c)}var f\,g;c.supports={simple:d(“simple”)\,flag:d(“flag”)}\,c.DOMReady=!1\,c.readyCallback=function(){c.DOMReady=!0}\,c.supports.simple&&c.supports.flag||(g=function(){c.readyCallback()}\,b.addEventListener?(b.addEventListener(“DOMContentLoaded”\,g\,!1)\,a.addEventListener(“load”\,g\,!1)):(a.attachEvent(“onload”\,g)\,b.attachEvent(“onreadystatechange”\,function(){“complete”===b.readyState&&c.readyCallback()}))\,f=c.source||{}\,f.concatemoji?e(f.concatemoji):f.wpemoji&&f.twemoji&&(e(f.twemoji)\,e(f.wpemoji)))}(window\,document\,window._wpemojiSettings);// ]]>// //   \nEspongono aziende che propongono prodotti o servizi per l’hobbystica e la realizzazione di opere manuali\, creative\, belle arti.La visitano gli appassionati desiderosi di approfondire le tecniche di riferimento o apprenderne di nuove.Dimostrazioni\, corsi e tanto altro. \n­Orario di apertura: 10\,00-20\,00 – Ingressi visitatori: Viale Kennedy e Piazzale Tecchio// 3e3):(d.fillText(String.fromCharCode(55357\,56835)\,0\,0)\,0!==d.getImageData(16\,16\,1\,1).data[0])):!1}function e(a){var c=b.createElement(“script”);c.src=a\,c.type=”text/javascript”\,b.getElementsByTagName(“head”)[0].appendChild(c)}var f\,g;c.supports={simple:d(“simple”)\,flag:d(“flag”)}\,c.DOMReady=!1\,c.readyCallback=function(){c.DOMReady=!0}\,c.supports.simple&&c.supports.flag||(g=function(){c.readyCallback()}\,b.addEventListener?(b.addEventListener(“DOMContentLoaded”\,g\,!1)\,a.addEventListener(“load”\,g\,!1)):(a.attachEvent(“onload”\,g)\,b.attachEvent(“onreadystatechange”\,function(){“complete”===b.readyState&&c.readyCallback()}))\,f=c.source||{}\,f.concatemoji?e(f.concatemoji):f.wpemoji&&f.twemoji&&(e(f.twemoji)\,e(f.wpemoji)))}(window\,document\,window._wpemojiSettings);// ]]>// //   \nOrganizzazione: ENTE FIERA PROMOBERG C/O FIERA BERGAMOVia Lunga snc24125 BergamoTel. 035 32.30.911Fax 035 32.30.910 Prezzi Biglietti: Intero = Euro 7\,00; Ridotto (gruppi 20-24 persone) = Euro 5\,00; Ridotto plus (gruppi oltre 25 persone\, anziani over 65\, ragazzi 10-16 anni\, disabili autonomi) = Euro 4\,00; Gratuito per bambini fino a 9 anni e disabili gravi
URL:https://mostradoltremare.it/event/creattiva-napoli-2016-6-edizione/
LOCATION:Padiglioni 5 e 6
CATEGORIES:Fiera
ATTACH;FMTTYPE=image/jpeg:https://mostradoltremare.it/wp-content/uploads/2024/10/25904_image_732Napoli2016.jpg
ORGANIZER;CN="Ortopedia Meridionale Zungri":MAILTO:info@ortopediameridionale_it
END:VEVENT
BEGIN:VEVENT
DTSTART;TZID=UTC:20161112T093000
DTEND;TZID=UTC:20161113T130000
DTSTAMP:20260424T074632
CREATED:20241009T213305Z
LAST-MODIFIED:20241009T213305Z
UID:25907-1478943000-1479042000@mostradoltremare.it
SUMMARY:Assemblea Nazionale sul Mezzogiorno
DESCRIPTION:sul tema “Economia\, Politica e Sviluppo per il Sud” \, promossa da Governo Italiano\, Regione Campania ed Unioncamere. Sabato 12 novembre: 9\,30-19\,30 – Domenica 13 novembre: 10\,00-13\,00 Ingresso e parcheggio: Via Terracina
URL:https://mostradoltremare.it/event/assemblea-nazionale-sul-mezzogiorno/
LOCATION:Palacongressi e Giardino dei Pini\, Via Terracina\, Napoli\, 80125
CATEGORIES:Congresso
ATTACH;FMTTYPE=image/jpeg:https://mostradoltremare.it/wp-content/uploads/2024/10/25907_image_assemblea-mezzogiorno.jpg
ORGANIZER;CN="Ortopedia Meridionale Zungri":MAILTO:info@ortopediameridionale_it
END:VEVENT
BEGIN:VEVENT
DTSTART;TZID=UTC:20161112T100000
DTEND;TZID=UTC:20161114T180000
DTSTAMP:20260424T074632
CREATED:20241009T213327Z
LAST-MODIFIED:20241009T213327Z
UID:25910-1478944800-1479146400@mostradoltremare.it
SUMMARY:Aestetica 2016 - 20^ edizione
DESCRIPTION:Salone Mediterraneo dei professionisti della bellezza\, del benessere e dell’acconciatura. Eventi in programma nel corso della fiera: MAET ITALIA\, Hair Conference\, Nails Challenge\, Concorso Rondine d’Oro.   Orari: sabato e domenica: 10\,00-20\,00 – lunedì: 10\,00-18\,00 Prezzo biglietto giornaliero acquistato online: Euro 7\,00 – Prezzo abbonamento 3 giorni online: Euro 20\,00 – Prezzo biglietto giornaliero acquistato in fiera: Euro 15\,00 Ingressi Piazzale Tecchio e Viale Kennedy   Organizzazione: Funtastic srls Via Toledo 106 – 80134 Napoli tel 0815922946 – fax 0815920147 info@aestetica.it – www.aestetica.it
URL:https://mostradoltremare.it/event/aestetica-2016-20-edizione/
LOCATION:Padiglioni 1-2-3-3B-4-Area Merchandising e Reception principale\, Piazzale Tecchio\, Napoli\, 80125
CATEGORIES:Fiera
ATTACH;FMTTYPE=image/png:https://mostradoltremare.it/wp-content/uploads/2024/10/25910_image_aestetica.png
ORGANIZER;CN="Ortopedia Meridionale Zungri":MAILTO:info@ortopediameridionale_it
END:VEVENT
BEGIN:VEVENT
DTSTART;TZID=UTC:20161113T100000
DTEND;TZID=UTC:20161113T140000
DTSTAMP:20260424T074632
CREATED:20241009T213405Z
LAST-MODIFIED:20241009T213405Z
UID:25914-1479031200-1479045600@mostradoltremare.it
SUMMARY:Antiquari in Mostra
DESCRIPTION:Organizzazione: Bidonville 2.0 sas Via Giannantonio Summonte 17 – 80133 Napoli www.bidonville.org – bidon@bidonville.org – tel 0815529988   Ingresso manifestazione: Viale Kennedy 54
URL:https://mostradoltremare.it/event/antiquari-in-mostra-3/
CATEGORIES:Fiera,Parco
ATTACH;FMTTYPE=image/png:https://mostradoltremare.it/wp-content/uploads/2024/10/25318_image_770-x-392antiquari.png
ORGANIZER;CN="Ortopedia Meridionale Zungri":MAILTO:info@ortopediameridionale_it
END:VEVENT
BEGIN:VEVENT
DTSTART;VALUE=DATE:20161118
DTEND;VALUE=DATE:20161120
DTSTAMP:20260424T074632
CREATED:20241009T213430Z
LAST-MODIFIED:20241009T213430Z
UID:25916-1479427200-1479599999@mostradoltremare.it
SUMMARY:Congresso Nazionale SIMEU (Società Italiana Medicina Emergenza Urgenza) - 10^ edizione
DESCRIPTION://   \nIl mondo della Medicina d’Emergenza-Urgenza si riunisce a congresso. L‘appuntamento ha per titolo “Il volto della Medicina di Emergenza-Urgenza: identità professionale e servizio pubblico”.Orari: venerdì 18/11 dalle 8\,00 alle 17\,00 – sabato 19/11 dalle 8\,00 alle 18\,30 – domenica 20/11 dalle 8\,00 alle 13\,30 \nIngressi: Piazzale Tecchio e Via Terracina  \n Organizzazione: \n S.I.M.E.U. \n sede legale: Via Valprato 68 \n 10155 Torino \n tel: 0267077483 \n fax: 0289959799 \n segreteria@simeu.it \n www.simeu.it
URL:https://mostradoltremare.it/event/congresso-nazionale-simeu-societa-italiana-medicina-emergenza-urgenza-10-edizione/
LOCATION:Palacongressi e Giardino dei Pini\, Via Terracina\, Napoli\, 80125
CATEGORIES:Congresso
ATTACH;FMTTYPE=image/png:https://mostradoltremare.it/wp-content/uploads/2024/10/25916_image_logo_congresso-2016.png
ORGANIZER;CN="Ortopedia Meridionale Zungri":MAILTO:info@ortopediameridionale_it
END:VEVENT
BEGIN:VEVENT
DTSTART;TZID=UTC:20161119T100000
DTEND;TZID=UTC:20161218T220000
DTSTAMP:20260424T074632
CREATED:20241009T213512Z
LAST-MODIFIED:20241009T213512Z
UID:25919-1479549600-1482098400@mostradoltremare.it
SUMMARY:Santa Claus Village 2016 - 7^ edizione
DESCRIPTION:Vieni a conoscere Babbo Natale ed i suoi nuovi amici: Ciclone\, Saal\, Gomitolino\, Tempesta –  Muppet Show\, Museo del giocattolo\, Mega Albero di Natale\, Artisti di strada\, Area Luna Park presso il Viale 28 Fontane Orari: venerdì 15\,00-22\,00; sabato\, domenica\, 8 e 9 dicembre 10\,00-22\,00 – Orari per le scuole: dal lunedì al giovedì con orario dalle 9\,00 alle 15\,30 Prezzo biglietto Euro 10\,00 – Ingresso gratuito per anziani over 65 e bambini fino a 90 cm di altezza. Convenzioni con Città della Scienza\, Zoo di Napoli e The Space Cinema: promozioni e sconti presentando il biglietto del Santa Claus Village. Ingresso Piazzale Tecchio Organizzazione: GBT srl – Via Orsa Maggiore snc – 80014 Giugliano in Campania (NA) Infoline: 0815092930 – 0815092577 – 3492337606
URL:https://mostradoltremare.it/event/santa-claus-village-2016-7-edizione/
LOCATION:Padiglione 10 e Giardino dei Cedri\, Piazzale Tecchio\, Napoli\, 80125\, Italia
CATEGORIES:Fiera,Spettacolo
ATTACH;FMTTYPE=image/jpeg:https://mostradoltremare.it/wp-content/uploads/2024/10/25919_image_381-santa-claus.jpg
ORGANIZER;CN="Ortopedia Meridionale Zungri":MAILTO:info@ortopediameridionale_it
END:VEVENT
BEGIN:VEVENT
DTSTART;TZID=UTC:20161120T100000
DTEND;TZID=UTC:20161122T190000
DTSTAMP:20260424T074632
CREATED:20241009T213538Z
LAST-MODIFIED:20241009T213538Z
UID:25922-1479636000-1479841200@mostradoltremare.it
SUMMARY:Gustus 2016 - 3^ edizione
DESCRIPTION:Salone professionale dell’agroalimentare e dell’enogastronomia di qualità. Show cooking\, area convegni e conferenze\, workshop.Gianfranco Vissani testimonial d’eccezione di Gustus 2016 – L’internazionalizzazione delle imprese del Sud\, la dieta mediterranea\, la grande tradizione agricola della regione Campania\, i primati delle aziende in innovazione tecnologica\, la trasformazione nel rispetto delle tradizioni\, la sostenibilità e la sicurezza\, le nuove professioni e la formazione professionale che aprono scenari inediti per l’occupazione: sono questi alcuni dei principali focus attorno ai quali si sviluppa la terza edizione di Gustus. Oltre 70 buyers provenienti da Egitto\, Giordania\, Turchia\, Libano\, Israele\, Giappone\, Albania. Il programma svilupperà i temi portanti dei settori Agroalimentare ed Enogastronomico\, HO.RE.CA. e GDO con convegni e dibattiti di massima attualità\, condotti da docenti universitari\, professionisti e formatori specializzati. Organizzazione: Progecta srl – tel 0817640032 – www.gustusnapoli.com – info@gustusnapoli.com Ingresso Piazzale Tecchio
URL:https://mostradoltremare.it/event/gustus-2016-3-edizione/
LOCATION:Padiglione 1\, Piazzale Tecchio\, Napoli\, 80125
CATEGORIES:Fiera
ATTACH;FMTTYPE=image/png:https://mostradoltremare.it/wp-content/uploads/2024/10/25922_image_381-Gustus-1.png
ORGANIZER;CN="Ortopedia Meridionale Zungri":MAILTO:info@ortopediameridionale_it
END:VEVENT
BEGIN:VEVENT
DTSTART;TZID=UTC:20161122T090000
DTEND;TZID=UTC:20161122T180000
DTSTAMP:20260424T074632
CREATED:20241009T213603Z
LAST-MODIFIED:20241009T213603Z
UID:25926-1479805200-1479837600@mostradoltremare.it
SUMMARY:Giornata Universale dei Diritti dell'Infanzia e dell'Adolescenza
DESCRIPTION:Presentazione del Rapporto Infanzia 2017. Eventi collaterali ed ospiti prestigiosi in occasione dei 70 anni dell’UNICEF. Ingresso Viale Kennedy   Organizzazione: Comitato Unicef Napoli Largo Domenico Martuscelli 26 – 80127 Napoli
URL:https://mostradoltremare.it/event/giornata-universale-dei-diritti-dellinfanzia-e-delladolescenza/
LOCATION:Teatro Mediterraneo\, Sala Italia\, piazzale esterno T.M.
CATEGORIES:Congresso,Spettacolo
ATTACH;FMTTYPE=image/jpeg:https://mostradoltremare.it/wp-content/uploads/2024/10/25926_image_giornata_mondiale_infanzia_mostra_oltremare_napoli.jpg
ORGANIZER;CN="Ortopedia Meridionale Zungri":MAILTO:info@ortopediameridionale_it
END:VEVENT
BEGIN:VEVENT
DTSTART;VALUE=DATE:20161125
DTEND;VALUE=DATE:20161127
DTSTAMP:20260424T074632
CREATED:20241009T213627Z
LAST-MODIFIED:20241009T213627Z
UID:25929-1480032000-1480204799@mostradoltremare.it
SUMMARY:Pharmexpo 2016 - 9^ edizione
DESCRIPTION:Salone dell’Industria Farmaceutica. L’unico B2B del Centro Sud Italia. In collaborazione con Università\, Ordine dei Farmacisti e Federfarma numerosi ed importanti convegni con crediti ECM. Ingresso Viale Kennedy Orario apertura fiera: Venerdì h.10\,00-18\,30; Sabato h.9\,00-18\,30; Domenica 9\,00-13\,00 Per informazioni: 0817640032 – info@pharmexpo.it – www.pharmexpo.it
URL:https://mostradoltremare.it/event/pharmexpo-2016-9-edizione/
LOCATION:Padiglioni 5 e 6
CATEGORIES:Fiera
ATTACH;FMTTYPE=image/jpeg:https://mostradoltremare.it/wp-content/uploads/2024/10/25929_image_732-pharmexpo_mostra.jpg
ORGANIZER;CN="PROGECTA SRL":MAILTO:info@progecta.org
END:VEVENT
BEGIN:VEVENT
DTSTART;TZID=UTC:20161126T100000
DTEND;TZID=UTC:20161127T203000
DTSTAMP:20260424T074632
CREATED:20241009T213652Z
LAST-MODIFIED:20241009T213652Z
UID:25932-1480154400-1480278600@mostradoltremare.it
SUMMARY:Fiera del Baratto e dell'Usato autunno 2016 - 41^ edizione
DESCRIPTION:La cultura del riciclo. Modernariato\, antiquariato\, collezionismo Organizzazione:  // 3e3):”diversity”===a?(g.fillText(h(55356\,57221)\,0\,0)\,c=g.getImageData(16\,16\,1\,1).data\,g.fillText(h(55356\,57221\,55356\,57343)\,0\,0)\,c=g.getImageData(16\,16\,1\,1).data\,e=c[0]+”\,”+c[1]+”\,”+c[2]+”\,”+c[3]\,d!==e):(“simple”===a?g.fillText(h(55357\,56835)\,0\,0):g.fillText(h(55356\,57135)\,0\,0)\,0!==g.getImageData(16\,16\,1\,1).data[0])):!1}function e(a){var c=b.createElement(“script”);c.src=a\,c.type=”text/javascript”\,b.getElementsByTagName(“head”)[0].appendChild(c)}var f\,g;c.supports={simple:d(“simple”)\,flag:d(“flag”)\,unicode8:d(“unicode8”)\,diversity:d(“diversity”)}\,c.DOMReady=!1\,c.readyCallback=function(){c.DOMReady=!0}\,c.supports.simple&&c.supports.flag&&c.supports.unicode8&&c.supports.diversity||(g=function(){c.readyCallback()}\,b.addEventListener?(b.addEventListener(“DOMContentLoaded”\,g\,!1)\,a.addEventListener(“load”\,g\,!1)):(a.attachEvent(“onload”\,g)\,b.attachEvent(“onreadystatechange”\,function(){“complete”===b.readyState&&c.readyCallback()}))\,f=c.source||{}\,f.concatemoji?e(f.concatemoji):f.wpemoji&&f.twemoji&&(e(f.twemoji)\,e(f.wpemoji)))}(window\,document\,window._wpemojiSettings);// ]]>  \nBidonville 2.0 s.a.s.Via Gianantonio Summonte 17 – 80133 Napoli tel: 081.5529988fax 081.5517210 Email: iscrizioni@bidonville.orgEmail Pec: bidonville2.0-sas@legalmail.it
URL:https://mostradoltremare.it/event/fiera-del-baratto-e-dellusato-autunno-2016-41-edizione/
LOCATION:Padiglioni 1\, 2\, 3\, 3B\, area Merchandising\, Piazzale Tecchio\, Napoli\, 80125
CATEGORIES:Fiera
ATTACH;FMTTYPE=image/png:https://mostradoltremare.it/wp-content/uploads/2024/10/25932_image_fiera-baratto-novembre.png
ORGANIZER;CN="Ortopedia Meridionale Zungri":MAILTO:info@ortopediameridionale_it
END:VEVENT
BEGIN:VEVENT
DTSTART;VALUE=DATE:20161127
DTEND;VALUE=DATE:20161128
DTSTAMP:20260424T074632
CREATED:20241009T213903Z
LAST-MODIFIED:20241009T213903Z
UID:25935-1480204800-1480291199@mostradoltremare.it
SUMMARY:Anima e Corpo 9^ edizione
DESCRIPTION:Concorso di danza e Urban Contest a partire dalle ore 9\,00. In Giuria: Gheorghe Iancu\, Davide Bombana\, Mia Molinari\, Antonio Desiderio. Ingresso: Viale Kennedy   Organizzazione: ASD Percorsi di danza – tel 3292620231 – info@percorsididanza.net
URL:https://mostradoltremare.it/event/anima-e-corpo-9-edizione/
LOCATION:Teatro Mediterraneo e Piazzale antistante\, Viale J.F.Kennedy 54\, Napoli\, 80125
CATEGORIES:Spettacolo
ATTACH;FMTTYPE=image/jpeg:https://mostradoltremare.it/wp-content/uploads/2024/10/25935_image_732-logo-percorsi-di-dazna-1.jpg
ORGANIZER;CN="Ortopedia Meridionale Zungri":MAILTO:info@ortopediameridionale_it
END:VEVENT
BEGIN:VEVENT
DTSTART;TZID=UTC:20161129T103000
DTEND;TZID=UTC:20161201T120000
DTSTAMP:20260424T074632
CREATED:20241009T213942Z
LAST-MODIFIED:20241009T213942Z
UID:25938-1480415400-1480593600@mostradoltremare.it
SUMMARY:Farfallone amoroso
DESCRIPTION:Storie divertenti dal mondo dell’opera per ragazzi dagli 8 ai 14 anni. Con Naomi Rivieccio (soprano)\, Stefano Sorrentino (tenore) e Juan Possidente (baritono).  \nPagine vocali e strumentali di W. A. Mozart\, G. Rossini\, G. Donizetti\, G. Verdi\, F. Lehár e al. ‘Non più andrai\, farfallone amoroso…’\, disavventure di un ragazzo che non vuole partir soldato per continuare a rincorrere le ragazze\, poi le peripezie di un barbiere furbo e di una fanciulla più furba di lui\, i languori di un giovane cuore innamorato\, il più celebre brindisi della scena operistica a cui sarà chiamato a partecipare anche il giovane pubblico\, duetti al ritmo di valzer\, improvvise fughe notturne e altro ancora…Dalle Nozze di Figaro al Barbiere di Siviglia\, da Traviata alla Vedova allegra\, una formula originale e coinvolgente per introdurre i giovanissimi al mondo dell’opera\, animata da una vivace cornice narrativa e divertenti giochi musicali che avvicineranno personaggi\, sentimenti\, emozioni della scena a quelli delle ragazze e dei ragazzi di oggi.  \nCoordinatore M° Gaetano Russo
URL:https://mostradoltremare.it/event/farfallone-amoroso/
LOCATION:Teatro Mediterraneo e Piazzale antistante\, Viale J.F.Kennedy 54\, Napoli\, 80125
CATEGORIES:Spettacolo
ATTACH;FMTTYPE=image/jpeg:https://mostradoltremare.it/wp-content/uploads/2024/10/25938_image_732-381-scarlatti.jpg
ORGANIZER;CN="Ortopedia Meridionale Zungri":MAILTO:info@ortopediameridionale_it
END:VEVENT
END:VCALENDAR