BEGIN:VCALENDAR
VERSION:2.0
PRODID:-//Mostra d&#039;Oltremare - ECPv6.15.20//NONSGML v1.0//EN
CALSCALE:GREGORIAN
METHOD:PUBLISH
X-WR-CALNAME:Mostra d&#039;Oltremare
X-ORIGINAL-URL:https://mostradoltremare.it
X-WR-CALDESC:Eventi per Mostra d&#039;Oltremare
REFRESH-INTERVAL;VALUE=DURATION:PT1H
X-Robots-Tag:noindex
X-PUBLISHED-TTL:PT1H
BEGIN:VTIMEZONE
TZID:UTC
BEGIN:STANDARD
TZOFFSETFROM:+0000
TZOFFSETTO:+0000
TZNAME:UTC
DTSTART:20160101T000000
END:STANDARD
END:VTIMEZONE
BEGIN:VEVENT
DTSTART;VALUE=DATE:20170203
DTEND;VALUE=DATE:20170205
DTSTAMP:20260424T025421
CREATED:20241008T215910Z
LAST-MODIFIED:20241008T215910Z
UID:25311-1486080000-1486252799@mostradoltremare.it
SUMMARY:Napoli City Half Marathon 2017 - 4^ edizione
DESCRIPTION:Area Expo e Gara Podistica Orari Area Expo = venerdì dalle 16\,00 alle 20\,00 – sabato dalle 10\,00 alle 20\,00 – domenica dalle 7\,00 alle 13\,00 Gara Podistica di Domenica 5 febbraio = inizio ore 8\,30 con partenza da Viale Kennedy – premiazione ore 12\,00 presso padiglione 3B Gara Podistica sulla distanza di km 21\,097\, col Patrocinio del Comune di Napoli\, ed inserita nei calendari IAAF\, AIMS E FIDAL. Ritrovo in Mostra ore 7\,30 e partenza ore 8\,30. La gara sarà valida anche quale Trofeo delle Professioni Sanitarie\, considerando in questo ambito tutte le professioni indicate dal Ministero della Salute. Insieme alla Mezza Maratona partirà la prima edizione della Family Run. Ciascun atleta\, iscivendo da uno a quattro parenti/amici\, potrà partecipare alla Family Cup. La Family Run for Save the Children è una gara non agonistica di tre km che avrà partenza e arrivo negli stessi punti previsti per la gara agonistica: a tutti i partecipanti verranno offerti gadget e ristoro all’arrivo. Sarà possibile iscriversi alla Family Run anche in expo\, venerdì 3 febbraio dalle 16 alle 20 e sabato 4 febbraio dalle 10 alle 20: l’incasso verrà devoluto a Save the Children. Organizzazione: Napoli Running s.r.l. – www.napolirunning.com – info@napolimohm.org Ingressi: PiazzaleTecchio\, Viale Kennedy
URL:https://mostradoltremare.it/event/napoli-city-half-marathon-2017-4-edizione/
LOCATION:Spazi esterni\, padiglioni 2\, 3\, 3B\, Piazzale Tecchio\, Napoli\, 80125
CATEGORIES:Fiera,Parco,Sportivo
ATTACH;FMTTYPE=image/jpeg:https://mostradoltremare.it/wp-content/uploads/2024/10/25311_image_image-half-marathon.jpg
ORGANIZER;CN="CRAL%20ANM":MAILTO:cralanm@cralanm_it
END:VEVENT
BEGIN:VEVENT
DTSTART;TZID=UTC:20170204T100000
DTEND;TZID=UTC:20170205T200000
DTSTAMP:20260424T025421
CREATED:20241008T215935Z
LAST-MODIFIED:20241008T215935Z
UID:25314-1486202400-1486324800@mostradoltremare.it
SUMMARY:Exvapo 2017 - 1^ edizione
DESCRIPTION:Napoli Vape Expo. La prima fiera Internazionale dello Svapo del Sud Italia  \nSabato 4 febbraio\, dalle ore 10:00 alle ore 20:00\, la fiera sarà dedicata interamente ai vapers. Domenica 5 febbraio\, dalle ore 9:00 fino alle ore 13:00\, l’ingresso sarà riservato esclusivamente alle aziende\, mentre dalle ore 14:00 la fiera riaprirà al pubblico fino all’orario di chiusura\, previsto per le ore 20:00.L’obiettivo dell’evento\, alla sua prima edizione\, è accogliere produttori\, distributori e rivenditori che si sono affermati per professionalità e spirito innovativo nel mondo del vaping\, rappresentando le recenti novità del mercato. Un’opportunità\, quella di EXVAPO\, orientata verso l’approfondimento e il confronto su un settore in continua crescita e con uno sviluppo che mira al miglioramento della qualità e alla diversificazione dell’offerta. Oltre alla zona espositiva riservata agli stand\, verrà allestita l’area Modder\, per poter ammirare in esclusiva creazioni nuove ed originali. Saranno messi a disposizione un info point\, un’area press ed un palco dove non mancheranno esibizioni individuali di cloud chasing e trick. \nInfoline: 3289276413 info@exvapo.com – www.exvapo.com
URL:https://mostradoltremare.it/event/exvapo-2017-1-edizione/
LOCATION:Padiglione 6\, Viale Kennedy 54 e P.le Tecchio –  Napoli\, 80125
CATEGORIES:Fiera
ATTACH;FMTTYPE=image/png:https://mostradoltremare.it/wp-content/uploads/2024/10/25314_image_exvapo-fiera-fair-svapo-logo-napoli-sud-italia-sticky.png
ORGANIZER;CN="CRAL%20ANM":MAILTO:cralanm@cralanm_it
END:VEVENT
BEGIN:VEVENT
DTSTART;TZID=UTC:20170212T100000
DTEND;TZID=UTC:20170212T140000
DTSTAMP:20260424T025421
CREATED:20241008T215956Z
LAST-MODIFIED:20241008T215956Z
UID:25318-1486893600-1486908000@mostradoltremare.it
SUMMARY:Antiquari in Mostra 2017
DESCRIPTION:Ritornano le passeggiate domenicali per gli appassionati del settore.
URL:https://mostradoltremare.it/event/antiquari-in-mostra-2017/
LOCATION:Viale delle Palme\, Viale Kennedy
CATEGORIES:Fiera,Parco
ATTACH;FMTTYPE=image/png:https://mostradoltremare.it/wp-content/uploads/2024/10/25318_image_770-x-392antiquari.png
ORGANIZER;CN="Bidonville 2.0 sas di Consiglia Auletta":MAILTO:bidon@bidonville.org
END:VEVENT
BEGIN:VEVENT
DTSTART;TZID=UTC:20170218T103000
DTEND;TZID=UTC:20170226T203000
DTSTAMP:20260424T025421
CREATED:20241008T220020Z
LAST-MODIFIED:20241008T220020Z
UID:25321-1487413800-1488141000@mostradoltremare.it
SUMMARY:Nauticsud 2017 - 44^ edizione
DESCRIPTION:Salone Internazionale della Nautica Dal lunedì al giovedì orario 13\,30-20\,00 – venerdì\, sabato e domenica orario 10\,30-20\,30 Premio “Concept and Design”: Nuove idee e progetti per il Concept ed il Design di una imbarcazione a vela o a motore con lunghezza fuori tutto inferiore ai 30 metri. Bando e modulo di partecipazione scaricabili dal sito www.anrc.it – Scadenza presentazione elaborati 13 febbraio 2017 – Per contatti ed approfondimenti: formazione@anrc.it Prezzi biglietti: Intero = Euro 9\,00 Persona con disabilità = Euro 9\,00\, accompagnatore omaggio Ridotto Convenzione ANM ed EAV con presentazione di biglietto obliterato = Euro 8\,00 Scolaresche = Euro 5\,00 Under 12 Omaggio È attiva la vendita on line dei biglietti http://nauticsud.mytickets.it/ Presso la Sala A Caboto del Padiglione 10 in mostra la storia della nautica campana da diporto ed i seguenti convegni:  \nlunedì 20 febbraio 2017: ore 15\,00 “Il ponte della nautica Italia-Brasile”; ore 18\,00 “Le previsioni meteo marine per la nautica da diporto….”; ore 18\,30 “Quando l’elettronica di bordo\, l’open source e l’Università di incontrano”; ore 19\,00 “L’evoluzione della sicurezza marittima…..”martedì 21 febbraio 2017: ore 14\,30 “Il mare: ricerca e nuove tecnologie”; ore 18\,00 “La pesca sportiva è 3.0….”mercoledì 22 febbraio 2017: ore 17\,30 “Il nuovo rapporto fra Nautica e Fisco”giovedì 23 febbraio 2017:  ore 15\,30 “I porti del Mediterraneo”venerdì 24 febbraio 2017: ore 11\,00 “Ingegneria si presenta”; ore 12\,00 “Mille e una vela cup”; ore 15\,30 “La nautica del Mezzogiorno”. Seguirà Premiazione fondatori ANRC e Pioneri della nautica campanasabato 25 febbraio 2017: ore 10\,00 “Premiazione campioni della vela”; ore 16\,00 “Mare\, porto\, entroterra: un paradigma economico di crescita”domenica 26 febbraio 2017: ore 11\,00 “Premiazione concorso “Concept & Design”
URL:https://mostradoltremare.it/event/nauticsud-2017-44-edizione/
LOCATION:Padiglioni 1\,2\,3\,3B\,4\,5\,6\,10+area 28 Fontane\, Piazzale Tecchio e Viale Kennedy\, Napoli\, 80125
CATEGORIES:Fiera
ATTACH;FMTTYPE=image/png:https://mostradoltremare.it/wp-content/uploads/2024/10/25321_image_nauticsud-2017-1.png
ORGANIZER;CN="A.N.R.C.%20e%20Mostra%20d%27Oltremare%20S.p.A.":MAILTO:segreteria@anrc_it
END:VEVENT
BEGIN:VEVENT
DTSTART;TZID=UTC:20170223T080000
DTEND;TZID=UTC:20170224T143000
DTSTAMP:20260424T025421
CREATED:20241008T220045Z
LAST-MODIFIED:20241008T220045Z
UID:25324-1487836800-1487946600@mostradoltremare.it
SUMMARY:Il paziente fragile: un modello di presa in carico territoriale dell'anziano e non solo
DESCRIPTION:Congresso medico A.D.O. (Assistenza Domiciliare Ospedaliera) Orari: giovedì 8\,00-18\,30; venerdì 8\,00-14\,30 Ingressi: pedonale Viale Kennedy – auto e bus Via Terracina Giovedì 23 Febbraio 2017I sessione | Le cure domiciliariIl paziente complessoIl trattamento del doloreII Sessione | L’emergenza territorialenel paziente complessoIII Sessione | La formazione Venerdì 24 Febbraio 2017I Sessione | La sclerosi laterale amiotroficacome modello assistenziale di riferimentoII Sessione | La ventilazione meccanica domiciliareIII Sessione | Le scelte terapeutiche e ledichiarazioni anticipate di trattamento (DAT)Sessione Parallela | L’infermiere e la fragilitàSessione Pratica | Teoria e pratica del PICC
URL:https://mostradoltremare.it/event/il-paziente-fragile-un-modello-di-presa-in-carico-territoriale-dellanziano-e-non-solo/
LOCATION:Palacongressi e Giardino dei Pini\, Via Terracina\, Napoli\, 80125
CATEGORIES:Congresso
ATTACH;FMTTYPE=image/jpeg:https://mostradoltremare.it/wp-content/uploads/2024/10/25324_image_732-ADO-2017.jpg
ORGANIZER;CN="CRAL%20ANM":MAILTO:cralanm@cralanm_it
END:VEVENT
END:VCALENDAR