BEGIN:VCALENDAR
VERSION:2.0
PRODID:-//Mostra d&#039;Oltremare - ECPv6.15.20//NONSGML v1.0//EN
CALSCALE:GREGORIAN
METHOD:PUBLISH
X-WR-CALNAME:Mostra d&#039;Oltremare
X-ORIGINAL-URL:https://mostradoltremare.it
X-WR-CALDESC:Eventi per Mostra d&#039;Oltremare
REFRESH-INTERVAL;VALUE=DURATION:PT1H
X-Robots-Tag:noindex
X-PUBLISHED-TTL:PT1H
BEGIN:VTIMEZONE
TZID:UTC
BEGIN:STANDARD
TZOFFSETFROM:+0000
TZOFFSETTO:+0000
TZNAME:UTC
DTSTART:20160101T000000
END:STANDARD
END:VTIMEZONE
BEGIN:VEVENT
DTSTART;TZID=UTC:20170630T180000
DTEND;TZID=UTC:20170709T235900
DTSTAMP:20260423T190015
CREATED:20241010T143007Z
LAST-MODIFIED:20241010T143007Z
UID:26294-1498845600-1499644740@mostradoltremare.it
SUMMARY:Il Festival di Napoli - Napoli incontra il Mondo 2017 - 1^ edizione
DESCRIPTION:Folklore\, musica\, cultura\, danza\, enogastronomia dal mondo:  l’occasione per vivere uno straordinario e imperdibile viaggio!!! Programma su www.napoliincontrailmondo.it Il Festival di Napoli: la fiera delle eccellenze partenopee; Festival Irlandese; Festival dell’America Latina; Festival Country; Festival Spagnolo; That’s America; Festival dei Nativi Americani;  Festival Celtico; October Festival; Le Mille e una Notte; Amo la Terra; American Garage; Expo Giappone. Apertura al pubblico solo di venerdì\, sabato e domenica con i seguenti orari:  venerdì e sabato dalle ore 18\,00 alle 3\,00; domenica dalle ore 12\,00 alle 24\,00.    Spettacoli Accensione Fontana Esedra: venerdì e sabato = ore 22\,00 e 23\,30; domenica = ore 21\,00 e 22\,30 Organizzazione Festival: Idee in fiera srl – Via E. Chiesa 15 – 54100 Massa – tel 0585861311 –  fax 0585240660 Infoline visitatori:  per Il Festival del Mondo: 3335756460; 3665788965 – per Il Festival di Napoli: 3386659230 – 08119321092-08119320572 Contatto per espositori: staff@ilfestivaldinapoli.it Prezzi biglietti: Adulti e ragazzi oltre i 13 anni = Euro 10\,00 Accompagnatori dei disabili = Euro 5\,00 Bambini sotto i 13 anni e portatori di handicap con disabilità al 100% certificata  dal foglio verde o certificato ASL = omaggio COME E DOVE ACQUISTARE I BIGLIETTI: I biglietti si acquistano alle casse situate agli ingressi della fiera\, in Piazzale Tecchio e Viale Kennedy\, all’apertura delle stesse\, nei giorni di durata del Festival. Si può pagare in contanti e con bancomat o carte di credito. E’ attivo anche il servizio di acquisto on-line in prevendita del biglietto intero al costo di 11\,25 euro (10+diritti di prevendita) sul sito www.napoliincontrailmondo.it Il biglietto di ingresso è giornaliero e dà diritto a partecipare a tutti gli eventi presenti in fiera\, che si svolgeranno in contemporanea tutti i giorni. Il biglietto di ingresso è utilizzabile per un solo ingresso; per motivi SIAE non è possibile uscire dalla fiera e rientrare col medesimo. I tagliandini della gastronomia una volta acquistati non sono rimborsabili nel caso non vengano utilizzati. I programmi dei palchi e degli spettacoli possono subire variazioni di qualunque natura\, non dipendenti dalla volontà degli Organizzatori. In caso di pioggia il festival si terrà comunque. Ingresso ai cani consentito con guinzaglio.
URL:https://mostradoltremare.it/event/il-festival-di-napoli-napoli-incontra-il-mondo-2017-1-edizione/
LOCATION:Padiglioni 1-2-3-3B-4-5-6-10-Laghetto Fasilides\, Viale delle Palme\, Giardino Unicef\, Giardino dei Cedri\, Fontana Esedra
CATEGORIES:Fiera
ATTACH;FMTTYPE=image/jpeg:https://mostradoltremare.it/wp-content/uploads/2024/10/26294_image_381-napoli-incontra-il-mondo.jpg
ORGANIZER;CN="Collegio Provinciale IPASVI di Napoli":MAILTO:info@ipasvinapoli_org
END:VEVENT
BEGIN:VEVENT
DTSTART;TZID=UTC:20170704T183000
DTEND;TZID=UTC:20170704T233000
DTSTAMP:20260423T190015
CREATED:20241010T143031Z
LAST-MODIFIED:20241010T143031Z
UID:26298-1499193000-1499211000@mostradoltremare.it
SUMMARY:Saggio di Danza Scuola Le Cygne
DESCRIPTION:
URL:https://mostradoltremare.it/event/saggio-di-danza-scuola-le-cygne/
LOCATION:Teatro Mediterraneo e Piazzale antistante\, Viale J.F.Kennedy 54\, Napoli\, 80125
CATEGORIES:Spettacoli
ATTACH;FMTTYPE=image/jpeg:https://mostradoltremare.it/wp-content/uploads/2024/10/26298_image_le-cygne.jpg
ORGANIZER;CN="Le Cygne di Vera Fortunato":MAILTO:primavera08r@libero_it
END:VEVENT
BEGIN:VEVENT
DTSTART;TZID=UTC:20170706T203000
DTEND;TZID=UTC:20170706T233000
DTSTAMP:20260423T190015
CREATED:20241010T143049Z
LAST-MODIFIED:20241010T143049Z
UID:26302-1499373000-1499383800@mostradoltremare.it
SUMMARY:Saggio di Danza Movimento Danza
DESCRIPTION:
URL:https://mostradoltremare.it/event/saggio-di-danza-movimento-danza/
LOCATION:Teatro Mediterraneo e Piazzale antistante\, Viale J.F.Kennedy 54\, Napoli\, 80125
CATEGORIES:Spettacoli
ATTACH;FMTTYPE=image/jpeg:https://mostradoltremare.it/wp-content/uploads/2024/10/20820_image_movimento-danza-nicoletta-barra.jpg
ORGANIZER;CN="ASD Movimento Danza di Nicoletta Barra":MAILTO:nicolettabarra@hotmail_it
END:VEVENT
BEGIN:VEVENT
DTSTART;TZID=UTC:20170710T190000
DTEND;TZID=UTC:20170710T230000
DTSTAMP:20260423T190015
CREATED:20241010T143111Z
LAST-MODIFIED:20241010T143111Z
UID:26305-1499713200-1499727600@mostradoltremare.it
SUMMARY:Gran Galà del Volley Campano
DESCRIPTION:Le eccellenze della Pallavolo campane della stagione 2016-2017 saranno premiate nel corso della manifestazione
URL:https://mostradoltremare.it/event/gran-gala-del-volley-campano/
LOCATION:Sala Italia\, Viale Kennedy 54\, Napoli\, 80125
CATEGORIES:Congresso
ATTACH;FMTTYPE=image/jpeg:https://mostradoltremare.it/wp-content/uploads/2024/10/26305_image_381-volley-gala.jpg
ORGANIZER;CN="CR FIPAV CAMPANIA":MAILTO:campania@federvolley_it
END:VEVENT
BEGIN:VEVENT
DTSTART;TZID=UTC:20170711T180000
DTEND;TZID=UTC:20170711T233000
DTSTAMP:20260423T190015
CREATED:20241010T143128Z
LAST-MODIFIED:20241010T143128Z
UID:26308-1499796000-1499815800@mostradoltremare.it
SUMMARY:Saggio di Danza Accademia dello Sport Ryu Dojo
DESCRIPTION:Ingresso ad inviti
URL:https://mostradoltremare.it/event/saggio-di-danza-accademia-dello-sport-ryu-dojo/
LOCATION:Teatro Mediterraneo e Piazzale antistante\, Viale J.F.Kennedy 54\, Napoli\, 80125
CATEGORIES:Spettacoli
ORGANIZER;CN="ASD%20Accademia%20dello%20Sport":MAILTO:kledidancenapoli@hotmail_com
END:VEVENT
BEGIN:VEVENT
DTSTART;TZID=UTC:20170712T183000
DTEND;TZID=UTC:20170712T235900
DTSTAMP:20260423T190015
CREATED:20241010T143145Z
LAST-MODIFIED:20241010T143145Z
UID:26310-1499884200-1499903940@mostradoltremare.it
SUMMARY:Saggio di Danza Ilaria Ballet
DESCRIPTION:ingresso ad inviti  
URL:https://mostradoltremare.it/event/saggio-di-danza-ilaria-ballet/
LOCATION:Teatro Mediterraneo e Piazzale antistante\, Viale J.F.Kennedy 54\, Napoli\, 80125
CATEGORIES:Spettacoli
ATTACH;FMTTYPE=image/jpeg:https://mostradoltremare.it/wp-content/uploads/2024/10/26310_image_ilaria-ballet.jpg
ORGANIZER;CN="CR FIPAV CAMPANIA":MAILTO:campania@federvolley_it
END:VEVENT
BEGIN:VEVENT
DTSTART;TZID=UTC:20170714T210000
DTEND;TZID=UTC:20170714T235900
DTSTAMP:20260423T190015
CREATED:20241010T143342Z
LAST-MODIFIED:20241010T143342Z
UID:26314-1500066000-1500076740@mostradoltremare.it
SUMMARY:Jarabedepalo en Concierto 20 años
DESCRIPTION:La band celebra i 20 anni dalla pubblicazione del primo cd La Flaca ed ha immaginato di festeggiarlo con un concerto elettrico\, con tutta la band e con un repertorio ampio e vario\, che comprende tutti i grandi successi de Jarabedepalo in questi anni.  \nPrezzo biglietti:– cavea bassa Euro 25\,00– cavea alta: Euro 15\,00Apertura cancelli: ore 19\,00
URL:https://mostradoltremare.it/event/jarabedepalo-en-concierto-20-anos/
LOCATION:ARENA FLEGREA\, Via Terracina 197\, Napoli\, 80125
CATEGORIES:Spettacoli
ATTACH;FMTTYPE=image/jpeg:https://mostradoltremare.it/wp-content/uploads/2024/10/26314_image_jarabe-de-palo.jpg
ORGANIZER;CN="Come on Web srl":MAILTO:info@etes.it
END:VEVENT
BEGIN:VEVENT
DTSTART;TZID=UTC:20170720T210000
DTEND;TZID=UTC:20170720T230000
DTSTAMP:20260423T190015
CREATED:20241010T143400Z
LAST-MODIFIED:20241010T143400Z
UID:26317-1500584400-1500591600@mostradoltremare.it
SUMMARY:NEK in "Unici in Tour"
DESCRIPTION:Gli indimenticabili successi della sua carriera ed i brani del nuovo album. Biglietti in vendita dal 15 dicembre 2016 presso i circuiti ETES (www.etes.it) e TICKETONE (www.ticketone.it) Prezzi: Cavea Bassa Gold Numerata = Euro 59\,00 Cavea Bassa Numerata = Euro 49\,00 Cavea Alta Numerata = Euro 39\,00 Cavea Alta Non Numerata = Euro 29\,00 Apertura cancelli ore 19\,00
URL:https://mostradoltremare.it/event/nek-in-unici-in-tour/
LOCATION:ARENA FLEGREA\, Via Terracina 197\, Napoli\, 80125
CATEGORIES:Spettacoli
ATTACH;FMTTYPE=image/jpeg:https://mostradoltremare.it/wp-content/uploads/2024/10/26317_image_732-nek.jpg
ORGANIZER;CN="Come on Web srl":MAILTO:info@etes.it
END:VEVENT
BEGIN:VEVENT
DTSTART;TZID=UTC:20170722T213000
DTEND;TZID=UTC:20170722T235500
DTSTAMP:20260423T190015
CREATED:20241010T143419Z
LAST-MODIFIED:20241010T143419Z
UID:26320-1500759000-1500767700@mostradoltremare.it
SUMMARY:ALVARO SOLER in "Summer Tour 2017"
DESCRIPTION:Unica tappa del tour estivo nel quale verrà presentato il disco “Eterno Agosto”. Apertura Cancelli ore 19\,00. Biglietti in vendita a partire dalle ore 10\,00 del 4 febbraio 2017 su www.etes.it e www.ticketone.it Prezzo biglietti: Cavea Bassa: Euro 38\,00 + diritti di prevendita Cavea Alta: Euro 25\,00 + diritti di prevendita
URL:https://mostradoltremare.it/event/alvaro-soler-in-summer-tour-2017/
LOCATION:ARENA FLEGREA\, Via Terracina 197\, Napoli\, 80125
CATEGORIES:Spettacoli
ATTACH;FMTTYPE=image/jpeg:https://mostradoltremare.it/wp-content/uploads/2024/10/26320_image_alvaro-soler.jpg
ORGANIZER;CN="Come on Web srl":MAILTO:info@etes.it
END:VEVENT
END:VCALENDAR