BEGIN:VCALENDAR
VERSION:2.0
PRODID:-//Mostra d&#039;Oltremare - ECPv6.15.20//NONSGML v1.0//EN
CALSCALE:GREGORIAN
METHOD:PUBLISH
X-WR-CALNAME:Mostra d&#039;Oltremare
X-ORIGINAL-URL:https://mostradoltremare.it
X-WR-CALDESC:Eventi per Mostra d&#039;Oltremare
REFRESH-INTERVAL;VALUE=DURATION:PT1H
X-Robots-Tag:noindex
X-PUBLISHED-TTL:PT1H
BEGIN:VTIMEZONE
TZID:UTC
BEGIN:STANDARD
TZOFFSETFROM:+0000
TZOFFSETTO:+0000
TZNAME:UTC
DTSTART:20160101T000000
END:STANDARD
END:VTIMEZONE
BEGIN:VEVENT
DTSTART;TZID=UTC:20170929T160000
DTEND;TZID=UTC:20171107T200000
DTSTAMP:20260423T122215
CREATED:20241010T144238Z
LAST-MODIFIED:20241010T144238Z
UID:26347-1506700800-1510084800@mostradoltremare.it
SUMMARY:Corso di formazione A.N.P.A.N.A.F.M.C.
DESCRIPTION:Per aspiranti guardie zoofile ed ambientali da adibire alla vigilanza ambientale e di protezione civile\, organizzato dalla Associazione Nazionale Protezione Animali Natura Ambiente Fondali Marini Cittadini. I corsi si svolgono nelle seguenti date: 29 settembre\, 3 ottobre\, 10 ottobre\, 13 ottobre\, 17 ottobre\, 20 ottobre\, 24 ottobre\, 27 ottobre\, 31 ottobre\, 3 novembre\, 7 novembre 2017
URL:https://mostradoltremare.it/event/corso-di-formazione-a-n-p-a-n-a-f-m-c/
LOCATION:Cubo d’Oro\, Viale Kennedy 54\, Napoli
CATEGORIES:Concorsi
ORGANIZER;CN="ANPANAFMC":MAILTO:presidentenazionale_anpanafmc@gmail_com
END:VEVENT
BEGIN:VEVENT
DTSTART;TZID=UTC:20171102T080000
DTEND;TZID=UTC:20171102T170000
DTSTAMP:20260423T122215
CREATED:20241010T151409Z
LAST-MODIFIED:20241010T151409Z
UID:26381-1509609600-1509642000@mostradoltremare.it
SUMMARY:Concorso Università Orientale
DESCRIPTION:Concorso pubblico per reclutamento personale categoria C. Ingresso Piazzale Tecchio
URL:https://mostradoltremare.it/event/concorso-universita-orientale/
LOCATION:Padiglione 10 Sala C\, Napoli\, 80125
CATEGORIES:Concorsi
ATTACH;FMTTYPE=image/gif:https://mostradoltremare.it/wp-content/uploads/2024/10/26381_image_ORIENTALE.gif
ORGANIZER;CN="Universita di Napoli L'Orientale":MAILTO:ufficio.personaletabcel@unior.it
END:VEVENT
BEGIN:VEVENT
DTSTART;TZID=UTC:20171103T100000
DTEND;TZID=UTC:20171103T170000
DTSTAMP:20260423T122215
CREATED:20241010T151425Z
LAST-MODIFIED:20241010T151425Z
UID:26385-1509703200-1509728400@mostradoltremare.it
SUMMARY:Concorso Comune di Pomigliano d'Arco
DESCRIPTION:Concorso Istruttore Amministrativo Part-time Categoria C. Ingresso Piazzale Tecchio
URL:https://mostradoltremare.it/event/concorso-comune-di-pomigliano-darco/
CATEGORIES:Concorsi
ATTACH;FMTTYPE=image/jpeg:https://mostradoltremare.it/wp-content/uploads/2024/10/26385_image_COMUNE-POMIGLIANO-DARCO.jpg
ORGANIZER;CN="Comune di Pomigliano d'Arco":MAILTO:personale@comune_pomiglianodarco_gov_it
END:VEVENT
BEGIN:VEVENT
DTSTART;TZID=UTC:20171105T213000
DTEND;TZID=UTC:20171105T233000
DTSTAMP:20260423T122215
CREATED:20241010T151441Z
LAST-MODIFIED:20241010T151441Z
UID:26388-1509917400-1509924600@mostradoltremare.it
SUMMARY:Serata Finale Ragazza We Can Dance 2017
DESCRIPTION:Settima edizione. Durante la serata assegnazione dei premi “Napoli We Ca…. la Napoli che vale” a Sal da Vinci\, Guido Lembo\, Valentina Stella\, Andrea Sannino\, Angelo Di Gennaro e Gerardo Sacco. Ingresso Viale Kennedy
URL:https://mostradoltremare.it/event/serata-finale-ragazza-we-can-dance-2017/
LOCATION:Teatro Mediterraneo e Piazzale antistante\, Viale J.F.Kennedy 54\, Napoli\, 80125
CATEGORIES:Spettacoli
ATTACH;FMTTYPE=image/jpeg:https://mostradoltremare.it/wp-content/uploads/2024/10/26388_image_ragazza-1200x313-1.jpg
ORGANIZER;CN="WCD%20Event%20srls":MAILTO:info@wecandance_com
END:VEVENT
BEGIN:VEVENT
DTSTART;TZID=UTC:20171107T090000
DTEND;TZID=UTC:20171109T140000
DTSTAMP:20260423T122215
CREATED:20241010T151502Z
LAST-MODIFIED:20241010T151502Z
UID:26391-1510045200-1510236000@mostradoltremare.it
SUMMARY:Orientasud 2017 - 18^ edizione
DESCRIPTION:Il salone delle opportunità Manifestazione dedicata a studenti di scuole superiori\, universitari\, laureati\, disoccupati o inoccupati. Area espositiva\, workshop\, laboratori\, premi e conferenze dedicate ai temi della filiera educativa. Modulo di partecipazione da compilare online su: www.orientasud.it. Ingresso gratuito con accesso da Piazzale Tecchio. Per informazioni: tel 06121122990 – 3939780078; fax 0693387633 – segreteria@orientasud.it
URL:https://mostradoltremare.it/event/orientasud-2017-18-edizione/
LOCATION:Padiglione 10\, Sala Italia\, Teatro Mediterraneo\, Piazzale Tecchio\, Napoli\, 80125
CATEGORIES:Fiera
ATTACH;FMTTYPE=image/png:https://mostradoltremare.it/wp-content/uploads/2024/10/26391_image_orientasud2017.png
ORGANIZER;CN="All Social srl":MAILTO:segreteria@orientasud.it
END:VEVENT
BEGIN:VEVENT
DTSTART;TZID=UTC:20171109T150000
DTEND;TZID=UTC:20171109T190000
DTSTAMP:20260423T122215
CREATED:20241010T151518Z
LAST-MODIFIED:20241010T151518Z
UID:26395-1510239600-1510254000@mostradoltremare.it
SUMMARY:Show Cooking Dynamic Chef
DESCRIPTION:con la partecipazione di Simone Rugiati. Evento ad inviti. Ingresso Viale Kennedy    
URL:https://mostradoltremare.it/event/show-cooking-dynamic-chef/
LOCATION:Teatro Mediterraneo e Piazzale antistante\, Viale J.F.Kennedy 54\, Napoli\, 80125
CATEGORIES:Spettacoli
ATTACH;FMTTYPE=image/jpeg:https://mostradoltremare.it/wp-content/uploads/2024/10/26395_image_life-prime.jpg
ORGANIZER;CN="Life Prime s.r.l.":MAILTO:servizioclienti@lifeprime_it
END:VEVENT
BEGIN:VEVENT
DTSTART;TZID=UTC:20171110T100000
DTEND;TZID=UTC:20171112T200000
DTSTAMP:20260423T122215
CREATED:20241010T151538Z
LAST-MODIFIED:20241010T151538Z
UID:26399-1510308000-1510516800@mostradoltremare.it
SUMMARY:Creattiva Napoli 2017 - 7^ edizione
DESCRIPTION:Nuova edizione della Fiera Nazionale delle Arti Manuali\, ricca di novità: componenti per bijoux\, feltro\, filati\, colori\, tessuti\, kit e schemi per il cucito creativo\, ricamo\, découpage\, decorazioni per la casa e per i regali di Natale…. Centinaia di corsi e dimostrazioni per dare libero sfogo alla creatività. Si conferma la sensibilità nei confronti del mondo della scuola: tutti gli insegnanti\, previa registrazione\, hanno diritto all’ingresso gratuito. Per registrazioni\, info e dettagli su corsi\, programmi\, etc. : www.fieracreattiva.it/napoli-creattiva – Infoline 0353230920 Prezzi biglietti: -intero: Euro 7\,00 -ridotto (per ragazzi dai 10 ai 16 anni\, anziani oltre i 65 anni\, disabili autonomi con accompagnatore e per chi effettua registrazione online su www.fieracreattiva.it/napoli-creattiva/biglietti-online): Euro 5\,00 -ingresso gratuito per i bambini fino a 9 anni\, per i disabili non deambulanti autonomamente + accompagnatore e per gli insegnanti previa registrazione sul sito della manifestazione. Ingressi: Viale Kennedy\, Piazzale Tecchio
URL:https://mostradoltremare.it/event/creattiva-napoli-2017-7-edizione/
LOCATION:Padiglioni 5-6 e Laghetto Fasilides – Napoli\, 80125
CATEGORIES:Fiera
ATTACH;FMTTYPE=image/jpeg:https://mostradoltremare.it/wp-content/uploads/2024/10/26399_image_381-creattiva.jpg
ORGANIZER;CN="Ente Fiera Promoberg":MAILTO:info@promoberg_it
END:VEVENT
BEGIN:VEVENT
DTSTART;TZID=UTC:20171111T100000
DTEND;TZID=UTC:20171113T180000
DTSTAMP:20260423T122215
CREATED:20241010T151557Z
LAST-MODIFIED:20241010T151557Z
UID:26402-1510394400-1510596000@mostradoltremare.it
SUMMARY:Aestetica 2017 - 21^ edizione
DESCRIPTION:Salone Mediterraneo dei Professionisti della Bellezza\, del Benessere e dell’Acconciatura. Nel corso della manifestazione si terranno i seguenti eventi: Aestetica Barber Contest\, MAET\, Hair Conference\, Nails Challenge\, Concorso Rondine d’Oro. Orari manifestazione: sabato e domenica dalle 10\,00 alle 20\,00; lunedì dalle 10\,00 alle 18\,00. Prezzi: biglietto acquistato in fiera: Euro 15\,00 biglietto acquistato online: Euro 7\,00 + diritti di prevendita abbonamento acquistato online: Euro 20\,00 + diritti di prevendita Per info e dettagli: tel 0815922946 – fax 0815920147 – info@aestetica.it Ingressi Piazzale Tecchio e Viale Kennedy
URL:https://mostradoltremare.it/event/aestetica-2017-21-edizione/
LOCATION:Padiglioni 1-2-3-3B-4-Area Merchandising e Reception principale\, Piazzale Tecchio\, Napoli\, 80125
CATEGORIES:Fiera
ATTACH;FMTTYPE=image/jpeg:https://mostradoltremare.it/wp-content/uploads/2024/10/26402_image_aestetica-2017.jpg
ORGANIZER;CN="Funtastic srls":MAILTO:info@aestetica.it
END:VEVENT
BEGIN:VEVENT
DTSTART;VALUE=DATE:20171117
DTEND;VALUE=DATE:20171118
DTSTAMP:20260423T122215
CREATED:20241010T151616Z
LAST-MODIFIED:20241010T151616Z
UID:26406-1510876800-1510963199@mostradoltremare.it
SUMMARY:Eternamente Napoli
DESCRIPTION:Il musical della canzone partenopea\, dedicato alla memoria del compianto Maestro Tonino Esposito\, con una compagnia di oltre 50 elementi.
URL:https://mostradoltremare.it/event/eternamente-napoli/
LOCATION:Teatro Mediterraneo e Piazzale antistante\, Viale J.F.Kennedy 54\, Napoli\, 80125
CATEGORIES:Spettacoli
ATTACH;FMTTYPE=image/jpeg:https://mostradoltremare.it/wp-content/uploads/2024/10/26406_image_2-eternamente-napoli.jpg
ORGANIZER;CN="Compagnia Instabile del Torrione":MAILTO:compagniadeltorrione@gmail_com
END:VEVENT
BEGIN:VEVENT
DTSTART;TZID=UTC:20171119T100000
DTEND;TZID=UTC:20171121T130000
DTSTAMP:20260423T122215
CREATED:20241014T100757Z
LAST-MODIFIED:20241014T100757Z
UID:26788-1511085600-1511269200@mostradoltremare.it
SUMMARY:Festa dell'albero
DESCRIPTION:Per conoscere il patrimonio arboreo di Mostra d’Oltremare. Raccolta fondi a favore dell’Oasi WWF Agnano Astroni. Villaggio della Biodiversità a cura dei Carabinieri Forestale. Musica. Laboratori. Visite. Teatro …. Lunedì alle ore 10\,00 Celebrazione della Messa Verde di S. E. Card. Crescenzio Sepe. Manifestazione con le attività di WWF\, Arma dei Carabinieri\, Nuova Orchestra Scarlatti\, Progetto Sonora\, Liberamente\, Nati per Leggere\, Volontari flegrei per l’ambiente\, Casa del Contemporaneo/le Nuvole\, I Teatrini. Ingresso gratuito. Programma scaricabile dalla sezione Ultime notizie di questo sito. Orari: domenica 19 novembre 2017=10\,00-17\,00 – lunedì 20 novembre 2017=10\,00-13\,00 – martedì 21 novembre 2017=10\,00-13\,00
URL:https://mostradoltremare.it/event/festa-dellalbero/
LOCATION:Area Laghetto Fasilides e Cubo d’Oro\, Viale Kennedy\, Napoli
CATEGORIES:Parco
ATTACH;FMTTYPE=image/png:https://mostradoltremare.it/wp-content/uploads/2024/10/26788_image_albero.png
ORGANIZER;CN="Mostra d'Oltremare-WWF-Carabinieri":MAILTO:festadellalbero@mostradoltremare_it
END:VEVENT
BEGIN:VEVENT
DTSTART;TZID=UTC:20171119T100000
DTEND;TZID=UTC:20171121T183000
DTSTAMP:20260423T122215
CREATED:20241014T100723Z
LAST-MODIFIED:20241014T100723Z
UID:26783-1511085600-1511289000@mostradoltremare.it
SUMMARY:Gustus 2017 - 4^ edizione
DESCRIPTION:Expo Area\, Show Cooking di Chef stellati\, Area Conferenze e Formazione in collaborazione con l’Università Federico II di Napoli\, Meet&Match Internazionalizzazione in collaborazione con l’ICE\, Meet&Match Horeca Quest’anno verrà ospitato anche il 29° Congresso Nazionale della Federazione Italiana Cuochi. Salone riservato agli operatori economici. Preaccredito su www.gustusnapoli.com. Ingresso Piazzale Tecchio
URL:https://mostradoltremare.it/event/gustus-2017-4-edizione/
LOCATION:Padiglione 1\, Piazzale Tecchio\, Napoli\, 80125
CATEGORIES:Fiera
ATTACH;FMTTYPE=image/jpeg:https://mostradoltremare.it/wp-content/uploads/2024/10/26783_image_732x381px_Gustus-logo-con-date-vert.jpg
ORGANIZER;CN="Progecta s.r.l.":MAILTO:info@pharmexpo.it
END:VEVENT
BEGIN:VEVENT
DTSTART;VALUE=DATE:20171123
DTEND;VALUE=DATE:20171124
DTSTAMP:20260423T122215
CREATED:20241014T100821Z
LAST-MODIFIED:20241014T100821Z
UID:26791-1511395200-1511481599@mostradoltremare.it
SUMMARY:Progetto Sogni e BiSogni Giovanili
DESCRIPTION:Manifestazione finale del Progetto\, che è cofinanziato dalla Presidenza del Consiglio dei Ministri. Dalle 9\,30 alle 16\,30 Ingresso auto e pedonale: Viale Kennedy 54
URL:https://mostradoltremare.it/event/progetto-sogni-e-bisogni-giovanili/
LOCATION:Sala Italia\, Napoli\, 80125
CATEGORIES:Congresso
ATTACH;FMTTYPE=image/jpeg:https://mostradoltremare.it/wp-content/uploads/2024/10/26791_image_sogni-e-Bisogni-giovanili.jpg
ORGANIZER;CN="Mostra d'Oltremare-WWF-Carabinieri":MAILTO:festadellalbero@mostradoltremare_it
END:VEVENT
BEGIN:VEVENT
DTSTART;TZID=UTC:20171124T093000
DTEND;TZID=UTC:20171124T170000
DTSTAMP:20260423T122215
CREATED:20241014T100905Z
LAST-MODIFIED:20241014T100905Z
UID:26794-1511515800-1511542800@mostradoltremare.it
SUMMARY:Il Filo Rosso del Pomodoro
DESCRIPTION:Assemblea Pubblica ANICAV. Ingresso E Parcheggio: Via Terracina
URL:https://mostradoltremare.it/event/il-filo-rosso-del-pomodoro/
LOCATION:Sala Ischia del Palacongressi -Viale Kennedy 54 – Via Terracina\, Via J.F. Kennedy\, 54\, Napoli\, NA\, 80125\, Italy
CATEGORIES:Congresso
ATTACH;FMTTYPE=image/jpeg:https://mostradoltremare.it/wp-content/uploads/2024/10/26794_image_ANICAV.jpg
ORGANIZER;CN="ANICAV":MAILTO:servizi@anicav_it
END:VEVENT
BEGIN:VEVENT
DTSTART;TZID=UTC:20171124T100000
DTEND;TZID=UTC:20171126T130000
DTSTAMP:20260423T122215
CREATED:20241014T100944Z
LAST-MODIFIED:20241014T100944Z
UID:26797-1511517600-1511701200@mostradoltremare.it
SUMMARY:Pharmexpo 2017 - 10^ edizione
DESCRIPTION:Una delle maggiori manifestazioni B2B inerenti il settore farmaceutico\, in collaborazione con FOFI\, Federfarma\, ANDI\, Associazione CTF\, Associazione Italiana Omeopatia e Mondo Accademico (Facoltà di Farmacia). Corsi ECM e Convegni tematici. Prenotazioni online su www.pharmexpo.it Orari: venerdì dalle 10\,00 alle 18\,30 sabato dalle 9\,00 alle 18\,30 domenica dalle 9\,00 alle 13\,00 Manifestazione con ingresso gratuito riservato agli operatori di settore. Ingresso Via Kennedy 54
URL:https://mostradoltremare.it/event/pharmexpo-2017-10-edizione/
LOCATION:Padiglioni 5 e 6
CATEGORIES:Fiera
ATTACH;FMTTYPE=image/jpeg:https://mostradoltremare.it/wp-content/uploads/2024/10/26797_image_PH_732x381px.jpg
ORGANIZER;CN="Progecta s.r.l.":MAILTO:info@pharmexpo.it
END:VEVENT
BEGIN:VEVENT
DTSTART;TZID=UTC:20171125T100000
DTEND;TZID=UTC:20171126T203000
DTSTAMP:20260423T122215
CREATED:20241014T101015Z
LAST-MODIFIED:20241014T101015Z
UID:26800-1511604000-1511728200@mostradoltremare.it
SUMMARY:Fiera del Baratto e dell'Usato - Edizione Autunno 2017
DESCRIPTION:La cultura del riciclo. Ingresso Piazzale Tecchio Prezzo biglietto Euro 5\,00 – Omaggio per under 12 ed over 70
URL:https://mostradoltremare.it/event/fiera-del-baratto-e-dellusato-edizione-autunno-2017/
LOCATION:Padiglioni 1\, 2\, 3\, 3B\, area Merchandising\, Piazzale Tecchio\, Napoli\, 80125
CATEGORIES:Fiera
ATTACH;FMTTYPE=image/gif:https://mostradoltremare.it/wp-content/uploads/2024/10/26800_image_381-bidonville.gif
ORGANIZER;CN="Bidonville 2.0 sas di Consiglia Auletta":MAILTO:bidon@bidonville.org
END:VEVENT
BEGIN:VEVENT
DTSTART;TZID=UTC:20171125T200000
DTEND;TZID=UTC:20171125T230000
DTSTAMP:20260423T122215
CREATED:20241014T101036Z
LAST-MODIFIED:20241014T101107Z
UID:26803-1511640000-1511650800@mostradoltremare.it
SUMMARY:Miss Europe Continental - 5^ edizione
DESCRIPTION:Concorso internazionale di bellezza. Serata Finale Europea. Manifestazione ad inviti. Conducono Veronica Maya e Marco Senise. Per Iscrizioni e Regolamento: www.misseuropecontinental.com/it/concorso. Ingresso Viale Kennedy 54
URL:https://mostradoltremare.it/event/miss-europe-continental-5-edizione/
LOCATION:Teatro Mediterraneo e Piazzale antistante\, Viale J.F.Kennedy 54\, Napoli\, 80125
CATEGORIES:Spettacoli
ATTACH;FMTTYPE=image/png:https://mostradoltremare.it/wp-content/uploads/2024/10/25179_image_381-MissEuropeContinental-logo.png
ORGANIZER;CN="Publimoda%20srls":MAILTO:marketing_publimoda@gmail_com
END:VEVENT
END:VCALENDAR