BEGIN:VCALENDAR
VERSION:2.0
PRODID:-//Mostra d&#039;Oltremare - ECPv6.15.20//NONSGML v1.0//EN
CALSCALE:GREGORIAN
METHOD:PUBLISH
X-WR-CALNAME:Mostra d&#039;Oltremare
X-ORIGINAL-URL:https://mostradoltremare.it
X-WR-CALDESC:Eventi per Mostra d&#039;Oltremare
REFRESH-INTERVAL;VALUE=DURATION:PT1H
X-Robots-Tag:noindex
X-PUBLISHED-TTL:PT1H
BEGIN:VTIMEZONE
TZID:UTC
BEGIN:STANDARD
TZOFFSETFROM:+0000
TZOFFSETTO:+0000
TZNAME:UTC
DTSTART:20170101T000000
END:STANDARD
END:VTIMEZONE
BEGIN:VEVENT
DTSTART;TZID=UTC:20180709T203000
DTEND;TZID=UTC:20180909T235900
DTSTAMP:20260422T161619
CREATED:20241008T211829Z
LAST-MODIFIED:20241008T211829Z
UID:25044-1531168200-1536537540@mostradoltremare.it
SUMMARY:Green Paradise
DESCRIPTION:Cinema\, Pizzeria\, Lounge Bar ed Eventi Live nel verde della Mostra d’Oltremare. Le programmazioni cinematografiche saranno giornaliere ed a tema. Prezzo Euro 5\,00. Gli eventi in programma saranno aggiornati settimanalmente attraverso i Social Network ed i principali mezzi di comunicazione. Ingresso Viale Marconi.
URL:https://mostradoltremare.it/event/green-paradise/
LOCATION:esterno adiacenze Fontana Esedra\, Via Marconi\, Napoli
CATEGORIES:Parco,Spettacolo
ATTACH;FMTTYPE=image/jpeg:https://mostradoltremare.it/wp-content/uploads/2024/10/25044_image_green-paradise-2018.jpg
ORGANIZER;CN="Red%20Carpet%20Unipersonale%20s.r.l.":MAILTO:info@green-paradise_it
END:VEVENT
BEGIN:VEVENT
DTSTART;TZID=UTC:20180902T083000
DTEND;TZID=UTC:20180907T193000
DTSTAMP:20260422T161619
CREATED:20241008T212228Z
LAST-MODIFIED:20241008T212228Z
UID:25073-1535877000-1536348600@mostradoltremare.it
SUMMARY:Congresso Cities on Volcanoes 10^ edizione
DESCRIPTION:dal titolo “Millenni di Stratificazione tra Vita dell’Uomo e Vulcani: strategie per la coesistenza” Organizzato da Istituto Nazionale di Geofisica e Vulcanologia (INGV)\, in collaborazione con Associazione Italiana di Vulcanologia (AIV)\, Dipartimento della Protezione  Civile (DPC)\, Parco Nazionale del Vesuvio\, Regione Campania\, Comune di Napoli \, Università di Napoli Federico II-Dipartimento di Scienze della Terra\, dell’Ambiente e delle Risorse (DISTAR). Orario lavori congressuali: 2 settembre = 8\,30 – 17\,00 3 settembre = 8\,30 – 20\,30 4 settembre = 8\,30 – 21\,00 5 settembre = sospensione attività congressuali 6 settembre = 8\,30 – 21\,00 7 settembre = 8\,30 – 19\,30 Ingressi: piazzale Tecchio\, viale Kennedy
URL:https://mostradoltremare.it/event/congresso-cities-on-volcanoes-10-edizione/
LOCATION:Palacongressi\, Via Terracina 197\, Napoli\, 80125\, Italy
CATEGORIES:Congresso
ATTACH;FMTTYPE=image/jpeg:https://mostradoltremare.it/wp-content/uploads/2024/10/25073_image_cities-on-volcanoes.jpg
ORGANIZER;CN="ISTITUTO%20NAZIONALE%20DI%20GEOFISICA%20E%20VULCANOLOGIA":MAILTO:cov10@ingv_it
END:VEVENT
BEGIN:VEVENT
DTSTART;TZID=UTC:20180914T103000
DTEND;TZID=UTC:20180916T235900
DTSTAMP:20260422T161619
CREATED:20241008T212329Z
LAST-MODIFIED:20241008T212329Z
UID:25076-1536921000-1537142340@mostradoltremare.it
SUMMARY:Napoli incontra il Mondo 2018 - 2^ edizione
DESCRIPTION:Tre giorni all’insegna delle tradizioni di vari Paesi del Mondo\, un viaggio itinerante fra cultura\, arte\, folklore\, musica. Area espositiva\, spettacoli\, convegni\, gastronomie etniche. All’interno di Napoli incontra il Mondo troverete: Festival dell’Oriente\, Festival Irlandese\, Festival Country\, That’s America\, Festival dell’America Latina\, Festival Spagnolo\, Festival Argentino\, Le Mille e una Notte ed altro ancora. Novità: Sport Games\, Free Style & Stuntmen Show\, Napoli Cavalli\, Sushi Village\, Drums Festival. Orario: Festival dell’Oriente = dalle 10\,30 alle 22\,30 – Tutti gli altri Festival = dalle 12\,00 alle 24\,00. Holi Festival avrà luogo nei giorni 15 e 16 settembre 2018 alle ore 15\,00. Il biglietto d’ingresso è giornaliero\, dà diritto a partecipare a tutti i Festival che si svolgono in contemporanea ed è utilizzabile per un solo ingresso (non è quindi possibile\, per motivi SIAE\, uscire dalla fiera e rientrare con lo stesso biglietto). I tagliandi delle gastronomie\, una volta acquistati\, non sono rimborsabili nel caso in cui non vengano utilizzati. Programma consultabile su www.ilfestivaldinapoli.it – I programmi dei palchi e degli spettacoli potranno subire variazioni non dipendenti dalla volontà degli Organizzatori. Prezzi biglietti: -Intero (adulti e ragazzi oltre i 10 anni) = Euro 12\,00 -Ridotto (bambini dai 5 ai 10 anni compiuti ed accompagnatori dei disabili al 100%) = Euro 8\,00 I biglietti si acquisteranno nei giorni ed orari della manifestazione alle casse situate presso gli ingressi di Piazzale Tecchio e Viale Kennedy. Omaggio per bambini al di sotto dei 5 anni e disabili al 100% con certificato ASL o foglio verde Per informazioni: 3669019308 – 3335756460 – 3386514590 – 3665788366 – Email: staff@ilfestivaldinapoli.it
URL:https://mostradoltremare.it/event/napoli-incontra-il-mondo-2018-2-edizione/
LOCATION:Padiglioni 1-2-3-3B-4-5-6-10-aree esterne
CATEGORIES:Fiera
ATTACH;FMTTYPE=image/png:https://mostradoltremare.it/wp-content/uploads/2024/10/25076_image_NAPOLI-INCONTRA-IL-MONDO-2018.png
ORGANIZER;CN="Idee in fiera s.r.l.":MAILTO:staff@festivaldelloriente_net
END:VEVENT
BEGIN:VEVENT
DTSTART;TZID=UTC:20180924T100000
DTEND;TZID=UTC:20180925T235900
DTSTAMP:20260422T161619
CREATED:20241008T212356Z
LAST-MODIFIED:20241008T212356Z
UID:25080-1537783200-1537919940@mostradoltremare.it
SUMMARY:Trofeo Pulcinella 2018 - 4^ edizione
DESCRIPTION:100 pizzaioli\, provenienti da diverse parti del mondo\, si contendono lo scettro del migliore\, nelle categorie Pizza Napoletana o “Tradizionale” e Pizza Contemporanea o “A canotto”. Lunedì 24 settembre dalle ore 10\,00 alle 24\,00 = gara fra i pizzaioli Martedì 25 settembre dalle 18\,00 alle 24\,00 = premiazioni Ingresso Viale Kennedy
URL:https://mostradoltremare.it/event/trofeo-pulcinella-2018-4-edizione/
LOCATION:Sala Marco Polo (Ristorante della Piscina Piano Superiore)
CATEGORIES:Spettacolo
ATTACH;FMTTYPE=image/jpeg:https://mostradoltremare.it/wp-content/uploads/2024/10/25080_image_4-trofeo-pulcinella-2018.jpg
ORGANIZER;CN="Associazione%20Mani%20d%27Oro%20Maestri%20della%20Pizza":MAILTO:info@manidoro_pizza
END:VEVENT
BEGIN:VEVENT
DTSTART;TZID=UTC:20180927T083000
DTEND;TZID=UTC:20180927T133000
DTSTAMP:20260422T161619
CREATED:20241008T212420Z
LAST-MODIFIED:20241008T212420Z
UID:25084-1538037000-1538055000@mostradoltremare.it
SUMMARY:Incontro ANACI (Associazione Nazionale Amministratori Condominiali e Immobiliari)
DESCRIPTION:“Deep Renovation negli edifici in condominio” – Corso Professionale di Aggiornamento Ingresso Viale Kennedy  
URL:https://mostradoltremare.it/event/incontro-anaci-associazione-nazionale-amministratori-condominiali-e-immobiliari/
LOCATION:Atrio Teatro Mediterraneo e Sala Italia\, Viale J.F.Kennedy 54\, Napoli\, Italia
CATEGORIES:Congresso
ATTACH;FMTTYPE=image/jpeg:https://mostradoltremare.it/wp-content/uploads/2024/10/25084_image_anaci-def.jpg
ORGANIZER;CN="Anaci%20Napoli%20Servizi%20srl":MAILTO:info@anaci_napoli_it
END:VEVENT
END:VCALENDAR