BEGIN:VCALENDAR
VERSION:2.0
PRODID:-//Mostra d&#039;Oltremare - ECPv6.15.20//NONSGML v1.0//EN
CALSCALE:GREGORIAN
METHOD:PUBLISH
X-WR-CALNAME:Mostra d&#039;Oltremare
X-ORIGINAL-URL:https://mostradoltremare.it
X-WR-CALDESC:Eventi per Mostra d&#039;Oltremare
REFRESH-INTERVAL;VALUE=DURATION:PT1H
X-Robots-Tag:noindex
X-PUBLISHED-TTL:PT1H
BEGIN:VTIMEZONE
TZID:UTC
BEGIN:STANDARD
TZOFFSETFROM:+0000
TZOFFSETTO:+0000
TZNAME:UTC
DTSTART:20180101T000000
END:STANDARD
END:VTIMEZONE
BEGIN:VEVENT
DTSTART;TZID=UTC:20190209T103000
DTEND;TZID=UTC:20190217T203000
DTSTAMP:20260422T045536
CREATED:20241007T174139Z
LAST-MODIFIED:20241007T174209Z
UID:24417-1549708200-1550435400@mostradoltremare.it
SUMMARY:Nauticsud 2019 - 46^ edizione
DESCRIPTION:Salone Internazionale della Nautica da Diporto.\nApertura al pubblico: dal lunedì al giovedì 12\,30-19\,00;  dal venerdì alla domenica 10\,30-20\,30 – Ingressi Piazzale Tecchio e Viale Kennedy\nÈ attiva la vendita on line dei biglietti al seguente link   http://nauticsud.mytickets.it/    Si comunica che i biglietti acquistati online sono solo nominativi.\nPrezzi biglietti: intero Euro 10\,00 – scolaresche Euro 6\,00 – Omaggio per bambini under 12  – Tariffa ridotta di ingresso pari a 6€ per visitatori portatori di handicap non deambulanti con accompagnatore.
URL:https://mostradoltremare.it/event/nauticsud-2019-46-edizione/
LOCATION:Padiglioni 1\,2\,3\,3B\,4\,5\,6\,10+area 28 Fontane\, Piazzale Tecchio e Viale Kennedy\, Napoli\, 80125
CATEGORIES:Fiera
ATTACH;FMTTYPE=image/gif:https://mostradoltremare.it/wp-content/uploads/2024/10/24417_image_nauticsud_eventoi.gif
END:VEVENT
BEGIN:VEVENT
DTSTART;TZID=UTC:20190220T083000
DTEND;TZID=UTC:20190220T183000
DTSTAMP:20260422T045536
CREATED:20241007T174241Z
LAST-MODIFIED:20241007T174307Z
UID:24423-1550651400-1550687400@mostradoltremare.it
SUMMARY:Le Eccellenze che ruotano intorno al Benessere Sanitario
DESCRIPTION:Convegno organizzato da SaniProGest in collaborazione con i Responsabili Scientifici di Settore e con la Regione Campania.\nPartecipazione gratuita. L’iscrizione può essere effettuata scaricando l’apposita scheda sul sito www.saniprogest.it (Sezione Eventi) oppure anche in sede congressuale. Convegno accreditato per Medici Chirurghi\, Farmacie Ospedaliere\, Farmacie Territoriali\, Infermieri ed inserito tra i progetti di Educazione Continua in Medicina. Crediti ECM riconosciuti: 2\,1.\nIngresso Viale Kennedy 54
URL:https://mostradoltremare.it/event/le-eccellenze-che-ruotano-intorno-al-benessere-sanitario/
LOCATION:Teatro Mediterraneo e Piazzale antistante\, Viale J.F.Kennedy 54\, Napoli\, 80125
CATEGORIES:Congresso
ATTACH;FMTTYPE=image/png:https://mostradoltremare.it/wp-content/uploads/2024/10/24423_image_saniprogest-Evento-750x500-1.png
END:VEVENT
BEGIN:VEVENT
DTSTART;TZID=UTC:20190221T080000
DTEND;TZID=UTC:20190222T143000
DTSTAMP:20260422T045536
CREATED:20241007T174333Z
LAST-MODIFIED:20241007T174354Z
UID:24428-1550736000-1550845800@mostradoltremare.it
SUMMARY:La medicina di prossimità. Tutti i percorsi portano al paziente?
DESCRIPTION:Congresso medico ADO (Assistenza Domiciliare Ospedaliera)\nOrario lavori congressuali: giovedì 21 febbraio 2019 dalle 8\,00 alle 18\,00 – venerdì 21 febbraio 2019 dalle 8\,00 alle 14\,30.\nIngresso Via Terracina – Ingresso disabili Via Marconi
URL:https://mostradoltremare.it/event/la-medicina-di-prossimita-tutti-i-percorsi-portano-al-paziente/
LOCATION:Sala Ischia del Palacongressi -Viale Kennedy 54 – Via Terracina\, Via J.F. Kennedy\, 54\, Napoli\, NA\, 80125\, Italy
CATEGORIES:Congresso
ATTACH;FMTTYPE=image/jpeg:https://mostradoltremare.it/wp-content/uploads/2024/10/24428_image_ado-21-22-febbraio.jpg
ORGANIZER;CN="CT CONGRESSI ED EVENTI di Claudia Tizzano":MAILTO:claudiatizzano@ctcongressieventi.com
END:VEVENT
BEGIN:VEVENT
DTSTART;TZID=UTC:20190222T140000
DTEND;TZID=UTC:20190224T133000
DTSTAMP:20260422T045536
CREATED:20241007T174431Z
LAST-MODIFIED:20241007T174448Z
UID:24432-1550844000-1551015000@mostradoltremare.it
SUMMARY:Sport Expo e Napoli City Half Marathon 2019 - 6^ edizione
DESCRIPTION:Sport Expo rappresenta l’opportunità per presentare tutte le novità riguardanti il mondo dello sport e del tempo libero. Fra gli espositori: aziende locali e nazionali\, Istituzioni pubbliche\, enti sportivi ed associazioni benefiche. La manifestazione\, oltre all’Area espositiva\, prevede interviste\, seminari ed animazione musicale.\nOrari di apertura al pubblico: il 22 febbraio dalle 14\,00 alle 20\,00; il 23 febbraio dalle 9\,00 alle 20\,00; il 24 febbraio dalle 7\,30 alle 13\,30.\nFamily Run & Friends. Gara non competitiva aperta a tutti da 0 a 99 anni. Sabato 23 febbraio 2019. Partenza ore 11\,00.\nNapoli City Half Marathon (gara agonistica) e Staffetta TwinGo (non agonistica). Domenica 24 febbraio 2019. Ritrovo ore 7\,30 e partenza ore 9\,00. Nell’ambito della Half Marathon è previsto il 1° Trofeo “Napoli ConCorre per la legalità”\, iniziativa promossa dal Comando Regionale della Guardia di Finanza\, dall’ODCEC di Napoli\, dalla Confesercenti di Napoli e dalla Napoli Running.\nPer informazioni ed iscrizioni: www.napolirunning.com\nEmail: expo@napolirunning.com; familyrun@napolirunning.com;  info@napolirunning.com
URL:https://mostradoltremare.it/event/sport-expo-e-napoli-city-half-marathon-2019-6-edizione/
LOCATION:Aree esterne\, Padiglioni 2-3-3B\, 80125
CATEGORIES:Sportivo
ATTACH;FMTTYPE=image/png:https://mostradoltremare.it/wp-content/uploads/2024/10/24432_image_logo-NCHM.png
ORGANIZER;CN="NAPOLI RUNNING SRL":MAILTO:info@napolirunning.com
END:VEVENT
BEGIN:VEVENT
DTSTART;TZID=UTC:20190226T090000
DTEND;TZID=UTC:20190227T130000
DTSTAMP:20260422T045536
CREATED:20241007T174522Z
LAST-MODIFIED:20241007T174546Z
UID:24438-1551171600-1551272400@mostradoltremare.it
SUMMARY:Concorso Pubblico per 20 posti di CPS Infermieri Cat. D - Prova scritta
DESCRIPTION:Sedute prove:\n26 febbraio 2019 ore 9\,00 –\n26 febbraio 2019 ore 14\,00 –\n27 febbraio 2019 ore 9\,00\nIngresso e Parcheggio: Via Terracina 197
URL:https://mostradoltremare.it/event/concorso-pubblico-per-20-posti-di-cps-infermieri-cat-d-prova-scritta/
LOCATION:Auditorium Europa del Palacongressi\, Via Terracina 197\, Napoli\, 80125\, Italia
CATEGORIES:Concorsi
ATTACH;FMTTYPE=image/png:https://mostradoltremare.it/wp-content/uploads/2024/10/24438_image_cardarelli.png
END:VEVENT
BEGIN:VEVENT
DTSTART;TZID=UTC:20190227T140000
DTEND;TZID=UTC:20190228T190000
DTSTAMP:20260422T045536
CREATED:20241007T174620Z
LAST-MODIFIED:20241007T174638Z
UID:24444-1551276000-1551380400@mostradoltremare.it
SUMMARY:Concorso Pubblico per 60 posti di OSS Cat. Bs - Prova Pratica
DESCRIPTION:Sedute prova pratica:\n27 febbraio 2019 ore 14\,00;\n28 febbraio 2019 ore 9\,00;\n28 febbraio 2019 ore 14\,00.\nIngresso e Parcheggio Via Terracina 197
URL:https://mostradoltremare.it/event/concorso-pubblico-per-60-posti-di-oss-cat-bs-prova-pratica/
LOCATION:Auditorium Europa del Palacongressi\, Via Terracina 197\, Napoli\, 80125\, Italia
CATEGORIES:Concorsi
ATTACH;FMTTYPE=image/png:https://mostradoltremare.it/wp-content/uploads/2024/10/24438_image_cardarelli.png
END:VEVENT
END:VCALENDAR